Workbook

Sheet Kangatang

Sheet TH NG-GOC LUC
A1: TT | B1: Họ và tên chủ sử dụng đất | C1: Số tờ | D1: Số thửa | E1: Diện tích đất LUC thu hồi và bồi thường (m2) | F1: Tổng diện tích đất NN đang sử dụng | G1: Tỷ lệ % thu hồi đất (%) | H1: Số khẩu được hỗ trợ gạo theo quy định
A2: 1 | B2: 2 | C2: 3 | D2: 4 | E2: 5 | F2: 6 | G2: 7 | H2: 8
A3: 1 | B3: Lương Văn Biên | C3: 51 | D3: 1020 | E3: 456.3 | F3: 2606 | G3: =E3/F3*100 -> 17.509593 | H3: 6
A4: 2 | B4: Phạm Quang Tề | C4: 50 | D4: 1407 | E4: 91.7 | F4: 2326 | G4: =E4/F4*100 -> 3.9423904 | H4: 11
A5: 3 | B5: Đoàn Đức Nhuận | C5: 50 | D5: 1408 | E5: 244.6 | F5: 1300 | G5: =E5/F5*100 -> 18.815385 | H5: 6
A6: 4 | B6: Đoàn Đức Viêm | C6: 50 | D6: 1409 | E6: 297.7 | F6: 1843.9 | G6: =E6/F6*100 -> 16.145127 | H6: 2
A7: 5 | B7: Nguyễn Văn Sơn | C7: 50 | D7: 1410 | E7: 278.9 | F7: 3868 | G7: =E7/F7*100 -> 7.2104447 | H7: 3
A8: 6 | B8: Hà Văn Kiền (Dân) | C8: 50 | D8: 1411 | E8: 182.1 | F8: 6160 | G8: =E8/F8*100 -> 2.9561688 | H8: 7
A9: 7 | B9: Trần Văn Thân | C9: 55 | D9: 1185 | E9: 189.4 | F9: 1396 | G9: =E9/F9*100 -> 13.567335 | H9: 6
A10: 8 | B10: Trịnh Hồng Quân | C10: 55 | D10: 1186 | E10: 271.6 | F10: 2780 | G10: =E10/F10*100 -> 9.7697842 | H10: 5
A11: 9 | B11: Đào Xuân Hòa | C11: 55, 59 | D11: 1187, 189 | E11: =287.4+54.8+45.4 -> 387.6 | F11: 2700 | G11: =E11/F11*100 -> 14.355556 | H11: 5
A12: 10 | B12: Nguyễn Thị Niềm | C12: 59 | D12: 187 | E12: 228.5 | F12: 2070 | G12: =E12/F12*100 -> 11.038647 | H12: 7
A13: 11 | B13: Vũ Văn Nam | C13: 59 | D13: 188 | E13: 504.7 | F13: 4060 | G13: =E13/F13*100 -> 12.431034 | H13: 7
A14: 12 | B14: Phạm Văn Nghinh | C14: 59 | D14: 190 | E14: =10.3+15.1 -> 25.4 | F14: 3786 | G14: =E14/F14*100 -> 0.67089276 | H14: 5
A15: 13 | B15: Nguyễn Văn Dụng | C15: 1 | D15: 945 | E15: 102.6 | F15: 1037.4 | G15: =E15/F15*100 -> 9.8901099 | H15: 4
A16: 14 | B16: Trần Văn Căn | C16: 1 | D16: 946 | E16: 531.4 | F16: 7397.5 | G16: =E16/F16*100 -> 7.1835079 | H16: 10
A17: 15 | B17: Phạm Duy Xứ | C17: 50 | D17: 1412 | E17: 84.6 | F17: 3134 | G17: =E17/F17*100 -> 2.6994257 | H17: 8
A18: 16 | B18: Phạm Xuân Trong | C18: 50 | D18: 1413 | E18: 180.6 | F18: 6588 | G18: =E18/F18*100 -> 2.7413479 | H18: 5
A19: 17 | B19: Phạm Như Hoạt | C19: 50 | D19: 1414 | E19: 60.6 | F19: 5609 | G19: =E19/F19*100 -> 1.0804065 | H19: 9
B20: TỔNG | E20: =SUM(E3:E19) -> 4118.3 | F20: =SUM(F3:F19) -> 58661.8 | H20: =SUM(H3:H19) -> 106

Sheet THPA Điện 
A1: BẢNG TỔNG HỢP PHƯƠNG ÁN BỒI THƯỜNG, HỖ TRỢ CÂY CỐI, HOA MÀU PHẦN DIỆN TÍCH ẢNH HƯỞNG
A2: TRONG HÀNH LANG TUYẾN DỰ ÁN ĐƯỜNG DÂY 500KV HẢI PHÒNG - THÁI BÌNH,
A3: ĐOẠN QUA ĐỊA BÀN XÃ LẠC PHƯỢNG, THÀNH PHỐ HẢI PHÒNG (HÀNH LANG ĐỢT 2)
A4: (Kèm theo Quyết định số 547/QĐ-UBND ngày 08 tháng 6 năm 2026 của Chủ tịch UBND xã Lạc Phượng)
A5: TT | B5: Họ và tên | C5: Diện tích đất thu hồi và bồi thường (m2) | E5: Kinh phí bồi thường, hỗ trợ (đồng) | G5: Ghi chú
C6: ONT trong hành lang tuyến | D6: ONT ngoài hành lang tuyến có đơn đề nghị thu hồi | E6: Đất đai | F6: Tổng cộng kinh phí bồi thường, hỗ trợ
A7: 1 | B7: 2 | C7: 3 | D7: 4 | E7: 5 | F7: 6 | G7: 7
A8: 1 | B8: Trần Thị Chồi | C8: 128.2 | D8: 21.8 | E8: 4815000000 | F8: =E8 -> 4815000000
A9: Cộng | C9: =C8 -> 128.2 | D9: =D8 -> 21.8 | E9: =SUM(E8:E8) -> 4815000000 | F9: =SUM(F8:F8) -> 4815000000
A10: Bằng chữ: | E10: =IF(F9<0,"Âm ", MID("KMHBBNSBTC",LEFT(ROUND(F9,0))+1,1)) & MID(TRIM(SUBSTITUTE(SUBSTITUTE(SUBSTITUTE(SUBSTITUTE(SUBSTITUTE(SUBSTITUTE(SUBSTITUTE(SUBSTITUTE(SUBSTITUTE(SUBSTITUTE(SUBSTITUTE(SUBSTITUTE(SUBSTITUTE(SUBSTITUTE(SUBSTITUTE(SUBSTITUTE(SUBSTITUTE(SUBSTITUTE(SUBSTITUTE(SUBSTITUTE(SUBSTITUTE(SUBSTITUTE(SUBSTITUTE(SUBSTITUTE(SUBSTITUTE(SUBSTITUTE(SUBSTITUTE(RIGHT(TEXT(F9,SUBSTITUTE("0\*0\=0\/0\*0;0\*0\=0\/0\*0",0,"0\-0\+0")),LEN(ROUND(ABS(F9),0))*2-1),"0-0+0*",""),"0-0+0/",""),"0-0+0",""),"0+0",""),"0+"," linh"),"+0","+"),"+5","+ lăm"),"1+"," mười"),"+1","+ mốt"),"_=","_"),0," không"),1," một"),2," hai"),3," ba"),4," bốn"),5," năm"),6," sáu"),7," bảy"),8," tám"),9," chín"),"+"," mươi"),"-"," trăm"),"*"," nghìn ,"),"/"," triệu "),",=","="),"="," tỷ, ")&" ",", ","")),2-(F9<0),999)&" đồng chẵn." -> Bốn tỷ tám trăm mười lăm triệu đồng chẵn.
A12: BAN QUẢN LÝ DỰ ÁN ĐẦU TƯ XÂY DỰNG XÃ TỨ KỲ
B13: Người lập | F13: Hội đồng GPMB xã
F14: P. Chủ tịch UBND - Chủ tịch HĐ GPMB
B19: Đặng Trung Hiếu | F19: Nguyễn Phú Trung

Sheet PA LUC
A1: 1 | B1: UBND XÃ NGUYÊN GIÁP | C1: CỘNG HÒA XÃ HỘI CHỦ NGHĨA VIỆT NAM
B2: HỘI ĐỒNG GPMB | C2: Độc lập - Tự do - Hạnh phúc
C3: Nguyên Giáp, ngày tháng năm 2025
A4: PHƯƠNG ÁN BỒI THƯỜNG, HỖ TRỢ ĐẤT ĐAI, HOA MÀU, TÀI SẢN GẮN LIỀN VỚI ĐẤT THU HỒI GPMB THỰC HIỆN
A5: DỰ ÁN ĐƯỜNG DÂY 500KV HẢI PHÒNG - THÁI BÌNH, ĐOẠN QUA ĐỊA BÀN XÃ NGUYÊN GIÁP
A6: ĐỊA ĐIỂM: XÃ NGUYÊN GIÁP, THÀNH PHỐ HẢI PHÒNG
B7: Họ và tên chủ hộ (Hoặc người đại diện): | C7: =VLOOKUP(A1,'TH NG-GOC LUC'!$A$3:$H$21,2) -> Lương Văn Biên
B8: Số CCCD: | C8: SĐT liên hệ:
B9: Địa chỉ: Xã Nguyên Giáp, thành phố Hải Phòng
A10: TT | B10: Hạng mục quy cách | C10: Đơn vị tính | D10: Khối lượng | E10: Đơn giá (đồng) | F10: Số khẩu | G10: Tỉ lệ % đất NN thu hồi | H10: Số tháng hỗ trợ | I10: Mức hỗ trợ: kg gạo/khẩu | J10: Thành tiền (đồng)
A11: 1 | B11: Bồi thường đất trồng cây hàng năm (LUC), vị trí trong đê | C11: m2 | D11: =VLOOKUP(A1,'TH NG-GOC LUC'!$A$3:$H$21,5) -> 456.3 | E11: 75000 | J11: =D11*E11 -> 34222500
A12: 2 | B12: Hỗ trợ đào tạo chuyển đổi nghề nghiệp và tìm kiếm việc làm | C12: m2 | D12: =D11 -> 456.3 | E12: =5*E11 -> 375000 | J12: =D12*E12 -> 171112500
A13: 3 | B13: Hỗ trợ ổn định đời sống (gạo tẻ thường theo báo cáo của Sở Tài chính là 13.500đ/kg) | F13: =VLOOKUP(A1,'TH NG-GOC LUC'!$A$3:$H$21,8) -> 6 | G13: =VLOOKUP(A1,'TH NG-GOC LUC'!$A$3:$H$21,7) -> 17.509593 | H13: =IF(G13>70,12,IF(G13>=30,6,3)) -> 3 | I13: =30 -> 30 | J13: =F13*H13*I13*13500 -> 7290000
A14: 4 | B14: Hỗ trợ ổn định sản xuất, kinh doanh (Theo QĐ số 171 ngày 24/9/2025 của UBND TP Hải Phòng) | C14: m2 | D14: =D11 -> 456.3 | E14: =E11*0.3 -> 22500 | J14: =D14*E14 -> 10266750
B15: Tổng cộng tiền bồi thường hỗ trợ | J15: =J11+J12+J13+J14 -> 222891750
A16: Bằng chữ: | C16: =[1]!vnd(J15) -> Hai trăm hai mươi hai triệu, tám trăm chín mươi mốt ngàn, bảy trăm năm mươi đồng chẵn
A17: Phương án này đã được Ban Quản lý dự án ĐTXD khu vực Tứ Kỳ lập, Hội đồng GPMB thực hiện dự án xã Nguyên Giáp kiểm tra theo quy định hiện hành, thông qua chủ hộ để trình các cấp có thẩm quyền phê duyệt thực hiện (Chỉ khi các cấp có thẩm quyền phê duyệt phương án, kinh phí bồi thường hỗ trợ mới được thực hiện)./.
A18: Chủ hộ | C18: Phòng Kinh tế xã Nguyên Giáp
A19: (Ký ghi rõ họ tên) | C19: Chuyên viên | F19: Trưởng phòng
C24: Vũ Văn Tiến | F24: Nguyễn Đức Trung
A26: Ban QLDA đầu tư xây dựng khu vực Tứ Kỳ | F26: UBND xã Nguyên Giáp
A27: Người tính Người soát | C27: Phó Giám đốc | F27: Chủ tịch UBND - Chủ tịch HĐ GPMB
B32: Đặng Trung Hiếu Đỗ Văn Hà | C32: Phạm Thanh Hưng | F32: Lê Xuân Trường
A33: =1+A1 -> 2 | B33: UBND XÃ NGUYÊN GIÁP | C33: CỘNG HÒA XÃ HỘI CHỦ NGHĨA VIỆT NAM
B34: HỘI ĐỒNG GPMB | C34: Độc lập - Tự do - Hạnh phúc
C35: Nguyên Giáp, ngày tháng năm 2025
A36: PHƯƠNG ÁN BỒI THƯỜNG, HỖ TRỢ ĐẤT ĐAI, HOA MÀU, TÀI SẢN GẮN LIỀN VỚI ĐẤT THU HỒI GPMB THỰC HIỆN
A37: DỰ ÁN ĐƯỜNG DÂY 500KV HẢI PHÒNG - THÁI BÌNH, ĐOẠN QUA ĐỊA BÀN XÃ NGUYÊN GIÁP
A38: ĐỊA ĐIỂM: XÃ NGUYÊN GIÁP, THÀNH PHỐ HẢI PHÒNG
B39: Họ và tên chủ hộ (Hoặc người đại diện): | C39: =VLOOKUP(A33,'TH NG-GOC LUC'!$A$3:$H$21,2) -> Phạm Quang Tề
B40: Số CCCD: | C40: SĐT liên hệ:
B41: Địa chỉ: Xã Nguyên Giáp, thành phố Hải Phòng
A42: TT | B42: Hạng mục quy cách | C42: Đơn vị tính | D42: Khối lượng | E42: Đơn giá (đồng) | F42: Số khẩu | G42: Tỉ lệ % đất NN thu hồi | H42: Số tháng hỗ trợ | I42: Mức hỗ trợ: kg gạo/khẩu | J42: Thành tiền (đồng)
A43: 1 | B43: Bồi thường đất trồng cây hàng năm (LUC), vị trí trong đê | C43: m2 | D43: =VLOOKUP(A33,'TH NG-GOC LUC'!$A$3:$H$21,5) -> 91.7 | E43: 75000 | J43: =D43*E43 -> 6877500
A44: 2 | B44: Hỗ trợ đào tạo chuyển đổi nghề nghiệp và tìm kiếm việc làm | C44: m2 | D44: =D43 -> 91.7 | E44: =5*E43 -> 375000 | J44: =D44*E44 -> 34387500
A45: 3 | B45: Hỗ trợ ổn định đời sống (gạo tẻ thường theo báo cáo của Sở Tài chính là 13.500đ/kg) | F45: =VLOOKUP(A33,'TH NG-GOC LUC'!$A$3:$H$21,8) -> 11 | G45: =VLOOKUP(A33,'TH NG-GOC LUC'!$A$3:$H$21,7) -> 3.9423904 | H45: =IF(G45>70,12,IF(G45>=30,6,3)) -> 3 | I45: =30 -> 30 | J45: =F45*H45*I45*13500 -> 13365000
A46: 4 | B46: Hỗ trợ ổn định sản xuất, kinh doanh (Theo QĐ số 171 ngày 24/9/2025 của UBND TP Hải Phòng) | C46: m2 | D46: =D43 -> 91.7 | E46: =E43*0.3 -> 22500 | J46: =D46*E46 -> 2063250
B47: Tổng cộng tiền bồi thường hỗ trợ | J47: =J43+J44+J45+J46 -> 56693250
A48: Bằng chữ: | C48: =[1]!vnd(J47) -> Năm mươi sáu triệu, sáu trăm chín mươi ba ngàn, hai trăm năm mươi đồng chẵn
A49: Phương án này đã được Ban Quản lý dự án ĐTXD khu vực Tứ Kỳ lập, Hội đồng GPMB thực hiện dự án xã Nguyên Giáp kiểm tra theo quy định hiện hành, thông qua chủ hộ để trình các cấp có thẩm quyền phê duyệt thực hiện (Chỉ khi các cấp có thẩm quyền phê duyệt phương án, kinh phí bồi thường hỗ trợ mới được thực hiện)./.
...

Sheet BBKK LUC 
A1: UBND XÃ NGUYÊN GIÁP | D1: CỘNG HOÀ XÃ HỘI CHỦ NGHĨA VIỆT NAM | L1: 13
A2: HỘI ĐỒNG GPMB | D2: Độc lập - Tự do - Hạnh phúc
D3: Nguyên Giáp, ngày tháng năm 2025
A4: BIÊN BẢN KIỂM KÊ KHỐI LƯỢNG ĐẤT ĐAI, TÀI SẢN, HOA MÀU TRÊN ĐẤT THU HỒI GPMB THỰC HIỆN
A5: DỰ ÁN ĐƯỜNG DÂY 500KV HẢI PHÒNG - THÁI BÌNH, ĐOẠN QUA ĐỊA BÀN XÃ NGUYÊN GIÁP
A6: ĐỊA ĐIỂM: XÃ NGUYÊN GIÁP, THÀNH PHỐ HẢI PHÒNG
B7: Căn cứ hồ sơ đo đạc GPMB thực hiện Dự án Đường dây 500kV Hải Phòng - Thái Bình, đoạn qua xã Nguyên Giáp.
B8: Căn cứ nguồn gốc sử dụng đất do UBND xã Nguyên Giáp xác nhận.
B9: Chúng tôi đã tiến hành kiểm đếm khối lượng đất đai, tài sản, hoa màu trên đất thu hồi để GPMB thực hiện Dự án
A10: Dự án Đường dây 500kV Hải Phòng - Thái Bình, đoạn qua xã Nguyên Giáp.
B11: I. Thành phần
B12: 1. Ban Quản lý dự án đầu tư xây dựng khu vực Tứ Kỳ:
B13: Ông: Đỗ Văn Hà | I13: Trưởng phòng NV2
B14: Ông/Bà: Đặng Trung Hiếu, Nguyễn Thị Minh Hằng, Cao Trung Kiên | I14: Viên chức
B15: 2. Đại diện UBND xã Nguyên Giáp:
B16: Ông: Nguyễn Đức Trung | E16: Trưởng phòng Kinh tế xã
B17: Ông: Vũ Văn Tiến | E17: Chuyên viên phòng Kinh tế xã
B18: Ông/Bà: | E18: Trưởng thôn
B19: 3. Đại diện những người có đất thu hồi:
B20: Ông: | E20: Đại diện hộ dân có đất nằm trong phạm vi thu hồi GPMB thực hiện Dự án
B21: 4. Chủ hộ (hoặc người được ủy quyền):
B22: Chủ hộ là ông (bà): | D22: =VLOOKUP(L1,'TH NG-GOC LUC'!$A$3:$H$21,2) -> Nguyễn Văn Dụng
B23: Người được ủy quyền là Ông (bà): Quan hệ với chủ hộ:
B24: II. Nội dung kiểm kê:
A25: TT | B25: Tên hạng mục | F25: ĐVT | G25: Khối lượng | H25: Vị trí | I25: Ghi chú
A26: 1 | B26: Đất NN trồng cây hàng năm thu hồi | F26: m2 | G26: =VLOOKUP(L1,'TH NG-GOC LUC'!$A$3:$H$21,5) -> 102.6 | H26: Trong đê | I26: Thửa số | J26: =VLOOKUP(L1,'TH NG-GOC LUC'!$A$3:$H$21,4) -> 945
A27: 2 | B27: Số khẩu hiện tại của hộ gia đình | F27: Khẩu | G27: =VLOOKUP(L1,'TH NG-GOC LUC'!$A$3:$H$21,8) -> 4
A28: 3 | B28: DT đất nông nghiệp hộ gia đình đang sử dụng | F28: m2 | G28: =VLOOKUP(L1,'TH NG-GOC LUC'!$A$3:$H$21,6) -> 1037.4
B29: Chủ hộ gia đình nhất trí với biên bản kiểm đếm và cam kết tự nguyện, đồng ý để Nhà nước thu hồi đất từ ngày hôm nay,
A30: đồng thời đề nghị Hội đồng GPMB xã khẩn trương chi trả tiền bồi thường, hỗ trợ.
B31: Chủ hộ và các thành viên thống nhất xác định khối lượng kiểm kê trên là chính xác để hội đồng GPMB xã lập phương
A32: án bồi thường, hỗ trợ trình các cấp có thẩm quyền phê duyệt, sau khi phương án bồi thường, hỗ trợ được duyệt, Hội đồng
A33: GPMB xã sẽ làm các thủ tục thanh toán trả tiền bồi thường, hỗ trợ cho Chủ hộ theo đúng quy định của Nhà nước.
A34: Các thành viên thống nhất ký ghi rõ họ tên dưới đây./.
A35: Đại diện hộ dân | C35: Trưởng thôn | E35: Phòng kinh tế xã Nguyên Giáp
A36: có đất thu hồi | E36: Chuyên viên | I36: Trưởng phòng
E40: Vũ Văn Tiến | I40: Nguyễn Đức Trung
C41: Ban Quản lý dự án ĐTXD khu vực Tứ Kỳ
A42: Chủ hộ | C42: Tổ công tác | H42: Trưởng phòng Nghiệp vụ 2
A43: (hoặc người được ủy quyền)
...
