Workbook

Sheet SGV

Sheet TacVu
B3: Số hộ | C3: 7

Sheet TrichLuc
C1: ỦY BAN NHÂN DÂN | N1: CỘNG HOÀ XÃ HỘI CHỦ NGHĨA VIỆT NAM
C2: HUYỆN KIẾN THỤY | N2: Độc lập - Tự do - Hạnh phúc | AC2: 1060.7 | AG2: 1060.7 | AH2: 1060.7
N3: Kiến Thụy, ngày tháng năm 2025 | AB3: =+AC2-#REF! -> #REF!
C6: Stt | D6: Họ và tên chủ hộ | E6: Họ và tên người đại diện hoặc người sử dụng đất | F6: Địa chỉ thửa đất (thôn) | G6: Số khẩu chia ruộng (khẩu) | H6: Tổng DT đất NN giao lâu dài theo QĐ 03 (m2) | I6: Số khẩu chia ruộng (khẩu) | J6: Tổng DT đất NN giao lâu dài sau dồn điền, đổi thửa (m2) | K6: Phần thu hồi cho dự án | W6: Diện tích đất đã bị thu hồi (m2) | X6: Tỷ lệ phần trăm mất đất (%) | Y6: Loại đất | Z6: Hình thức giao, nguồn gốc đất bị thu hồi | AA6: Ghi chú | AC6: Số khẩu thực tế sống bằng NN | AD6: Hiện trạng trông cây | AE6: Địa chỉ thường trú | AF6: Tổng thu hồi cả thửa | AG6: Hỗ trợ đối với Người có công với Cách mạng | AH6: Hỗ trợ đối với hộ nghèo, cận nghèo | AI6: Diện tích thu hồi | AJ6: Dự án
K7: Hồ sơ giao đất nông nghiệp | O7: Trích mảnh trích đo địa chính | T7: Tổng diện tích thu hồi (m2) | U7: Trong đó
K9: Tờ số | L9: Thửa số | M9: Xứ đồng | N9: Diện tích giao (m2) | O9: Diện tích còn lại | Q9: Tờ số | R9: Thửa số | S9: Diện tích (m2) | U9: Diện tích thu hồi trong chỉ giới (m2) | V9: Diện tích MKN SX (m2)
C10: 1 | D10: 2 | E10: 3 | F10: 4 | G10: 5 | H10: 6 | I10: 5 | J10: 6 | K10: 7 | L10: 8 | M10: 9 | N10: 10 | O10: 11 | P10: 12 | Q10: 13 | R10: 14 | S10: 15 | T10: 16 | U10: 17 | V10: 18 | W10: 19 | X10: 20 | Y10: 21 | Z10: 22 | AA10: 23 | AC10: 26 | AD10: 30 | AE10: 31 | AF10: 32 | AG10: 33 | AH10: 34
A11: 1 | C11: 1 | D11: Phạm Văn Tuất (đã chết); Bùi Thị Hương | E11: Bùi Thị Hương | F11: Đội 3, Phong Cầu | I11: 6+1 | J11: 3701 | O11: =J11-W11 -> 2710 | Q11: 3 | R11: 120 | T11: =U11+U12+V11+V12 -> 593.8 | U11: 148.8 | W11: 991 | X11: =T11/O11*100 -> 21.911439 | Y11: 2 lúa | Z11: lâu dài | AC11: 15 | AE11: Đội 3, Phong Cầu, xã Kiến Minh, TP Hải Phòng | AF11: =U11+V11 -> 148.8
A12: 1 | Q12: 3 | R12: 63 | U12: 445 | Y12: 2 lúa | Z12: lâu dài | AE12: Đội 3, Phong Cầu, xã Kiến Minh, TP Hải Phòng | AF12: =U12+V12 -> 445
A13: 2 | C13: 2 | D13: Phạm Thanh Bình; Phạm Bích Ngời | F13: Đội 3, Phong Cầu | I13: 6 | J13: 1519 | O13: =J13-W13 -> 1519 | Q13: 3 | R13: 107 | T13: =U13+V13 -> 600.9 | U13: 600.9 | X13: =T13/O13*100 -> 39.55892 | Y13: 2 lúa | Z13: lâu dài | AC13: 7 | AE13: Đội 3, Phong Cầu, xã Kiến Minh, TP Hải Phòng | AF13: =U13+V13 -> 600.9
A14: 3 | C14: 3 | D14: Phạm Văn Xá; Nguyễn Thị Cần | F14: Đội 3, Phong Cầu | I14: 4 | J14: 3276 | O14: =J14-W14 -> 2691 | Q14: 3 | R14: 109 | T14: =U14+V14 -> 654.2 | U14: 654.2 | W14: =406+179 -> 585 | X14: =T14/O14*100 -> 24.310665 | Y14: 2 lúa | Z14: lâu dài | AC14: 10 | AE14: Đội 3, Phong Cầu, xã Kiến Minh, TP Hải Phòng | AF14: =U14+V14 -> 654.2
A15: 4 | C15: 4 | D15: Lương Văn Nghĩa; Nguyễn Thị Mãn | F15: Đội 3, Phong Cầu | I15: 3+1 | J15: 1620 | O15: =J15-W15 -> 1616.5 | Q15: 3 | R15: 110 | T15: =U15+V15 -> 217 | U15: 217 | W15: 3.5 | X15: =T15/O15*100 -> 13.424064 | Y15: 2 lúa | Z15: lâu dài | AC15: 6 | AE15: Đội 3, Phong Cầu, xã Kiến Minh, TP Hải Phòng | AF15: =U15+V15 -> 217
A16: 5 | C16: 5 | D16: Vũ Thị Cậy | F16: Đội 3, Phong Cầu | I16: 2+1 | J16: 3028 | O16: =J16-W16 -> 3028 | Q16: 3 | R16: 111 | T16: =U16+V16 -> 138.5 | U16: 138.5 | X16: =T16/O16*100 -> 4.5739762 | Y16: 2 lúa | Z16: lâu dài | AC16: 9 | AE16: Đội 3, Phong Cầu, xã Kiến Minh, TP Hải Phòng | AF16: =U16+V16 -> 138.5
A17: 6 | C17: 6 | D17: Phạm Văn Hợi; Nguyễn Thị Thế | F17: Đội 3, Phong Cầu | I17: 5 | J17: 1954 | O17: =J17-W17 -> 1753.22 | Q17: 3 | R17: 62 | T17: =U17+V17 -> 547 | U17: 547 | W17: =114.1+86.68 -> 200.78 | X17: =T17/O17*100 -> 31.199735 | Y17: 2 lúa | Z17: lâu dài | AC17: 8 | AE17: Đội 3, Phong Cầu, xã Kiến Minh, TP Hải Phòng | AF17: =U17+V17 -> 547
A18: =+COUNTA($D$11:D18) -> 7 | C18: 7 | D18: Nguyễn Văn Nam; Hoàng Thị Khuyên | F18: Đội 3, Phong Cầu | I18: 5+1 | J18: =452+57+736+319+198+177 -> 1939 | O18: =J18-W18 -> 1762 | Q18: 3 | R18: 60 | T18: =U18+V18 -> 452 | U18: 452 | W18: 177 | X18: =T18/O18*100 -> 25.652667 | Y18: 2 lúa | Z18: lâu dài | AC18: 7 | AE18: Đội 3, Phong Cầu, xã Kiến Minh, TP Hải Phòng | AF18: =U18+V18 -> 452
A19: =+COUNTA($D$11:D19) -> 8 | C19: 8 | D19: Phạm Đình Phùng (đã chết) | E19: Phạm Đình Phan (con) | F19: Đội 3, Phong Cầu | I19: 5 | J19: 2098 | O19: =J19-W19 -> 1752 | Q19: 3 | R19: 59 | T19: =U19+V19 -> 274 | U19: 274 | W19: =209+137 -> 346 | X19: =T19/O19*100 -> 15.639269 | Y19: 2 lúa | Z19: lâu dài | AC19: 8 | AE19: Đội 3, Phong Cầu, xã Kiến Minh, TP Hải Phòng | AF19: =U19+V19 -> 274
A20: =+COUNTA($D$11:D20) -> 9 | C20: 9 | D20: Vũ Văn Phan; Nguyễn Thị Nguyệt | F20: Đội 3, Phong Cầu | I20: 3 | J20: =222+357+332+194+260+756 -> 2121 | O20: =J20-W20 -> 2121 | Q20: 3 | R20: 122 | T20: =U20+V20 -> 194 | U20: 181.5 | V20: 12.5 | X20: =T20/O20*100 -> 9.1466289 | Y20: 2 lúa | Z20: lâu dài | AC20: 7 | AE20: Đội 3, Phong Cầu, xã Kiến Minh, TP Hải Phòng | AF20: =U20+V20 -> 194
A21: =+COUNTA($D$11:D21) -> 10 | C21: 10 | D21: Vũ Văn Đưởng (đã chết); Phạm Thị Bầu (đã chết) | E21: Vũ Thị Lệ (con) | F21: Đội 3, Phong Cầu | I21: 4+1 | J21: 2657 | O21: =J21-W21 -> 2657 | Q21: 3 | R21: 79 | T21: =U21+V21 -> 5.5 | U21: 5.5 | X21: =T21/O21*100 -> 0.20700038 | Y21: 2 lúa | Z21: lâu dài | AC21: 7 | AE21: Đội 3, Phong Cầu, xã Kiến Minh, TP Hải Phòng | AF21: =U21+V21 -> 5.5
C24: Tổng cộng | J24: =SUM(J11:J23) -> 23913 | T24: =SUM(T11:T23) -> 3676.9 | U24: =SUM(U11:U23) -> 3664.4 | V24: =SUM(V11:V23) -> 12.5 | AF24: =+SUBTOTAL(109,AF11:AF23) -> 3676.9
AF25: =U25+V25 -> 0
D26: ỦY BAN NHÂN DÂN XÃ ĐỒNG PHƯƠNG | M26: PHÒNG NÔNG NGHIỆP VÀ MÔI TRƯỜNG | V26: ỦY BAN NHÂN DÂN HUYỆN
D27: CÔNG CHỨC ĐỊA CHÍNH LÃNH ĐẠO | K27: CHUYÊN VIÊN LÃNH ĐẠO
AF35: =U35+#REF! -> #REF!
AF36: =U36+V36 -> 0
AF37: =U37+V37 -> 0
AF38: =U38+V38 -> 0
AF40: =U40+V40 -> 0
AF41: =U41+V41 -> 0
AF42: =U42+V42 -> 0
AF43: =U43+V43 -> 0
AF44: =U44+V44 -> 0
AF45: =U45+V45 -> 0
AF46: =U46+V46 -> 0
AF47: =U47+V47 -> 0
AF48: =U48+V48 -> 0
... AF299: =U299+V299 -> 0

Sheet BangTinh
B3: Số Phương án | F3: 1 | M3: Số Phương án | Q3: =F3+1 -> 2 | X3: Số Phương án | AB3: =Q3+1 -> 3 | AI3: Số Phương án | AM3: =AB3+1 -> 4 | AT3: Số Phương án | AX3: =AM3+1 -> 5 | BE3: Số Phương án | BI3: =AX3+1 -> 6 | BP3: Số Phương án | BT3: =BI3+1 -> 7 | CA3: Số Phương án | CE3: =BT3+1 -> 8 | CL3: Số Phương án | CP3: =CE3+1 -> 9 | CW3: Số Phương án | DA3: =CP3+1 -> 10 | DH3: Số Phương án | DL3: =DA3+1 -> 11 | DS3: Số Phương án | DW3: =DL3+1 -> 12 | ED3: Số Phương án | EH3: =DW3+1 -> 13 | EO3: Số Phương án | ES3: =EH3+1 -> 14 | EZ3: Số Phương án | FD3: =ES3+1 -> 15 | FK3: Số Phương án | FO3: =FD3+1 -> 16 | FV3: Số Phương án | FZ3: =FO3+1 -> 17 | GG3: Số Phương án | GK3: =FZ3+1 -> 18 | GR3: Số Phương án | GV3: =GK3+1 -> 19 | HC3: Số Phương án | HG3: =GV3+1 -> 20 | HN3: Số Phương án | HR3: =HG3+1 -> 21 | HY3: Số Phương án | IC3: =HR3+1 -> 22 | IJ3: Số Phương án | IN3: =IC3+1 -> 23 | IU3: Số Phương án | IY3: =IN3+1 -> 24 | JF3: Số Phương án | JJ3: =IY3+1 -> 25 | JQ3: Số Phương án | JU3: =JJ3+1 -> 26 | KB3: Số Phương án | KF3: =JU3+1 -> 27 | KM3: Số Phương án | KQ3: =KF3+1 -> 28 | KX3: Số Phương án | LB3: =KQ3+1 -> 29 | LI3: Số Phương án | LM3: =LB3+1 -> 30 | LT3: Số Phương án | LX3: =LM3+1 -> 31 | ME3: Số Phương án | MI3: =LX3+1 -> 32 | MP3: Số Phương án | MT3: =MI3+1 -> 33 | NA3: Số Phương án | NE3: =MT3+1 -> 34 | NL3: Số Phương án | NP3: =NE3+1 -> 35 | NW3: Số Phương án | OA3: =NP3+1 -> 36 | OH3: Số Phương án | OL3: =OA3+1 -> 37 | OS3: Số Phương án | OW3: =OL3+1 -> 38 | PD3: Số Phương án | PH3: =OW3+1 -> 39 | PO3: Số Phương án | PS3: =PH3+1 -> 40 | PZ3: Số Phương án | QD3: =PS3+1 -> 41 | QK3: Số Phương án | QO3: =QD3+1 -> 42 | QV3: Số Phương án | QZ3: =QO3+1 -> 43 | RG3: Số Phương án | RK3: =QZ3+1 -> 44 | RR3: Số Phương án | RV3: =RK3+1 -> 45 | SC3: Số Phương án | SG3: =RV3+1 -> 46 | SN3: Số Phương án | SR3: =SG3+1 -> 47 | SY3: Số Phương án | TC3: =SR3+1 -> 48 | TJ3: Số Phương án | TN3: =TC3+1 -> 49 | TU3: Số Phương án | TY3: =TN3+1 -> 50 | UF3: Số Phương án | UJ3: =TY3+1 -> 51 | UQ3: Số Phương án | UU3: =UJ3+1 -> 52 | VB3: Số Phương án | VF3: =UU3+1 -> 53 | VM3: Số Phương án | VQ3: =VF3+1 -> 54 | VX3: Số Phương án | WB3: =VQ3+1 -> 55 | WI3: Số Phương án | WM3: =WB3+1 -> 56 | WT3: Số Phương án | WX3: =WM3+1 -> 57 | XE3: Số Phương án | XI3: =WX3+1 -> 58 | XP3: Số Phương án | XT3: =XI3+1 -> 59 | YA3: Số Phương án | YE3: =XT3+1 -> 60 | YL3: Số Phương án | YP3: =YE3+1 -> 61 | YW3: Số Phương án | ZA3: =YP3+1 -> 62 | ZH3: Số Phương án | ZL3: =ZA3+1 -> 63 | ZS3: Số Phương án | ZW3: =ZL3+1 -> 64 | AAD3: Số Phương án | AAH3: =ZW3+1 -> 65 | AAO3: Số Phương án | AAS3: =AAH3+1 -> 66 | AAZ3: Số Phương án | ABD3: =AAS3+1 -> 67 | ABK3: Số Phương án | ABO3: =ABD3+1 -> 68 | ABV3: Số Phương án | ABZ3: =ABO3+1 -> 69 | ACG3: Số Phương án | ACK3: =ABZ3+1 -> 70 | ACR3: Số Phương án | ACV3: =ACK3+1 -> 71 | ADC3: Số Phương án | ADG3: =ACV3+1 -> 72 | ADN3: Số Phương án | ADR3: =ADG3+1 -> 73 | ADY3: Số Phương án | AEC3: =ADR3+1 -> 74 | AEJ3: Số Phương án | AEN3: =AEC3+1 -> 75 | AEU3: Số Phương án | AEY3: =AEN3+1 -> 76 | AFF3: Số Phương án | AFJ3: =AEY3+1 -> 77 | AFQ3: Số Phương án | AFU3: =AFJ3+1 -> 78 | AGB3: Số Phương án | AGF3: =AFU3+1 -> 79 | AGM3: Số Phương án | AGQ3: =AGF3+1 -> 80 | AGX3: Số Phương án | AHB3: =AGQ3+1 -> 81 | AHI3: Số Phương án | AHM3: =AHB3+1 -> 82 | AHT3: Số Phương án | AHX3: =AHM3+1 -> 83 | AIE3: Số Phương án | AII3: =AHX3+1 -> 84 | AIP3: Số Phương án | AIT3: =AII3+1 -> 85 | AJA3: Số Phương án | AJE3: =AIT3+1 -> 86 | AJL3: Số Phương án | AJP3: =AJE3+1 -> 87 | AJW3: Số Phương án | AKA3: =AJP3+1 -> 88 | AKH3: Số Phương án | AKL3: =AKA3+1 -> 89 | AKS3: Số Phương án | AKW3: =AKL3+1 -> 90 | ALD3: Số Phương án | ALH3: =AKW3+1 -> 91 | ALO3: Số Phương án | ALS3: =ALH3+1 -> 92 | ALZ3: Số Phương án | AMD3: =ALS3+1 -> 93 | AMK3: Số Phương án | AMO3: =AMD3+1 -> 94 | AMV3: Số Phương án | AMZ3: =AMO3+1 -> 95 | ANG3: Số Phương án | ANK3: =AMZ3+1 -> 96 | ANR3: Số Phương án | ANV3: =ANK3+1 -> 97 | AOC3: Số Phương án | AOG3: =ANV3+1 -> 98 | AON3: Số Phương án | AOR3: =AOG3+1 -> 99 | AOY3: Số Phương án | APC3: =AOR3+1 -> 100 | APJ3: Số Phương án | APN3: =APC3+1 -> 101 | APU3: Số Phương án | APY3: =APN3+1 -> 102 | AQF3: Số Phương án | AQJ3: =APY3+1 -> 103 | AQQ3: Số Phương án | AQU3: =AQJ3+1 -> 104 | ARB3: Số Phương án | ARF3: =AQU3+1 -> 105 | ARM3: Số Phương án | ARQ3: =ARF3+1 -> 106 | ARX3: Số Phương án | ASB3: =ARQ3+1 -> 107 | ASI3: Số Phương án | ASM3: =ASB3+1 -> 108 | AST3: Số Phương án | ASX3: =ASM3+1 -> 109 | ATE3: Số Phương án | ATI3: =ASX3+1 -> 110 | ATP3: Số Phương án | ATT3: =ATI3+1 -> 111 | AUA3: Số Phương án | AUE3: =ATT3+1 -> 112 | AUL3: Số Phương án | AUP3: =AUE3+1 -> 113 | AUW3: Số Phương án | AVA3: =AUP3+1 -> 114 | AVH3: Số Phương án | AVL3: =AVA3+1 -> 115 | AVS3: Số Phương án | AVW3: =AVL3+1 -> 116
B4: Tổng diện tích đất thu hồi: | F4: =F22+F36 -> 593.8 | M4: Tổng diện tích đất thu hồi: | Q4: =Q22+Q36 -> 600.9 | X4: Tổng diện tích đất thu hồi: | AB4: =AB22+AB36 -> 654.2 | AI4: Tổng diện tích đất thu hồi: | AM4: =AM22+AM36 -> 217 | AT4: Tổng diện tích đất thu hồi: | AX4: =AX22+AX36 -> 138.5 | BE4: Tổng diện tích đất thu hồi: | BI4: =BI22+BI36 -> 547 | BP4: Tổng diện tích đất thu hồi: | BT4: =BT22+BT36 -> 452 | CA4: Tổng diện tích đất thu hồi: | CE4: =CE22+CE36 -> 274 | CL4: Tổng diện tích đất thu hồi: | CP4: =CP22+CP36 -> 194 | CW4: Tổng diện tích đất thu hồi: | DA4: =DA22+DA36 -> 5.5 | DH4: Tổng diện tích đất thu hồi: | DL4: =DL22+DL36 -> 0 | DS4: Tổng diện tích đất thu hồi: | DW4: =DW22+DW36 -> 0 | ED4: Tổng diện tích đất thu hồi: | EH4: =EH22+EH36 -> 0 | EO4: Tổng diện tích đất thu hồi: | ES4: =ES22+ES36 -> 0 | EZ4: Tổng diện tích đất thu hồi: | FD4: =FD22+FD36 -> 0 | FK4: Tổng diện tích đất thu hồi: | FO4: =FO22+FO36 -> 0 | FV4: Tổng diện tích đất thu hồi: | FZ4: =FZ22+FZ36 -> 0 | GG4: Tổng diện tích đất thu hồi: | GK4: =GK22+GK36 -> 0 | GR4: Tổng diện tích đất thu hồi: | GV4: =GV22+GV36 -> 0 | HC4: Tổng diện tích đất thu hồi: | HG4: =HG22+HG36 -> 0 | HN4: Tổng diện tích đất thu hồi: | HR4: =HR22+HR36 -> 0 | HY4: Tổng diện tích đất thu hồi: | IC4: =IC22+IC36 -> 0 | IJ4: Tổng diện tích đất thu hồi: | IN4: =IN22+IN36 -> 0 | IU4: Tổng diện tích đất thu hồi: | IY4: =IY22+IY36 -> 0 | JF4: Tổng diện tích đất thu hồi: | JJ4: =JJ22+JJ36 -> 0 | JQ4: Tổng diện tích đất thu hồi: | JU4: =JU22+JU36 -> 0 | KB4: Tổng diện tích đất thu hồi: | KF4: =KF22+KF36 -> 0 | KM4: Tổng diện tích đất thu hồi: | KQ4: =KQ22+KQ36 -> 0 | KX4: Tổng diện tích đất thu hồi: | LB4: =LB22+LB36 -> 0 | LI4: Tổng diện tích đất thu hồi: | LM4: =LM22+LM36 -> 0 | LT4: Tổng diện tích đất thu hồi: | LX4: =LX22+LX36 -> 0 | ME4: Tổng diện tích đất thu hồi: | MI4: =MI22+MI36 -> 0 | MP4: Tổng diện tích đất thu hồi: | MT4: =MT22+MT36 -> 0 | NA4: Tổng diện tích đất thu hồi: | NE4: =NE22+NE36 -> 0 | NL4: Tổng diện tích đất thu hồi: | NP4: =NP22+NP36 -> 0 | NW4: Tổng diện tích đất thu hồi: | OA4: =OA22+OA36 -> 0 | OH4: Tổng diện tích đất thu hồi: | OL4: =OL22+OL36 -> 0 | OS4: Tổng diện tích đất thu hồi: | OW4: =OW22+OW36 -> 0 | PD4: Tổng diện tích đất thu hồi: | PH4: =PH22+PH36 -> 0 | PO4: Tổng diện tích đất thu hồi: | PS4: =PS22+PS36 -> 0 | PZ4: Tổng diện tích đất thu hồi: | QD4: =QD22+QD36 -> 0 | QK4: Tổng diện tích đất thu hồi: | QO4: =QO22+QO36 -> 0 | QV4: Tổng diện tích đất thu hồi: | QZ4: =QZ22+QZ36 -> 0 | RG4: Tổng diện tích đất thu hồi: | RK4: =RK22+RK36 -> 0 | RR4: Tổng diện tích đất thu hồi: | RV4: =RV22+RV36 -> 0 | SC4: Tổng diện tích đất thu hồi: | SG4: =SG22+SG36 -> 0 | SN4: Tổng diện tích đất thu hồi: | SR4: =SR22+SR36 -> 0 | SY4: Tổng diện tích đất thu hồi: | TC4: =TC22+TC36 -> 0 | TJ4: Tổng diện tích đất thu hồi: | TN4: =TN22+TN36 -> 0 | TU4: Tổng diện tích đất thu hồi: | TY4: =TY22+TY36 -> 0 | UF4: Tổng diện tích đất thu hồi: | UJ4: =UJ22+UJ36 -> 0 | UQ4: Tổng diện tích đất thu hồi: | UU4: =UU22+UU36 -> 0 | VB4: Tổng diện tích đất thu hồi: | VF4: =VF22+VF36 -> 0 | VM4: Tổng diện tích đất thu hồi: | VQ4: =VQ22+VQ36 -> 0 | VX4: Tổng diện tích đất thu hồi: | WB4: =WB22+WB36 -> 0 | WI4: Tổng diện tích đất thu hồi: | WM4: =WM22+WM36 -> 0 | WT4: Tổng diện tích đất thu hồi: | WX4: =WX22+WX36 -> 0 | XE4: Tổng diện tích đất thu hồi: | XI4: =XI22+XI36 -> 0 | XP4: Tổng diện tích đất thu hồi: | XT4: =XT22+XT36 -> 0 | YA4: Tổng diện tích đất thu hồi: | YE4: =YE22+YE36 -> 0 | YL4: Tổng diện tích đất thu hồi: | YP4: =YP22+YP36 -> 0 | YW4: Tổng diện tích đất thu hồi: | ZA4: =ZA22+ZA36 -> 0 | ZH4: Tổng diện tích đất thu hồi: | ZL4: =ZL22+ZL36 -> 0 | ZS4: Tổng diện tích đất thu hồi: | ZW4: =ZW22+ZW36 -> 0 | AAD4: Tổng diện tích đất thu hồi: | AAH4: =AAH22+AAH36 -> 0 | AAO4: Tổng diện tích đất thu hồi: | AAS4: =AAS22+AAS36 -> 0 | AAZ4: Tổng diện tích đất thu hồi: | ABD4: =ABD22+ABD36 -> 0 | ABK4: Tổng diện tích đất thu hồi: | ABO4: =ABO22+ABO36 -> 0 | ABV4: Tổng diện tích đất thu hồi: | ABZ4: =ABZ22+ABZ36 -> 0 | ACG4: Tổng diện tích đất thu hồi: | ACK4: =ACK22+ACK36 -> 0 | ACR4: Tổng diện tích đất thu hồi: | ACV4: =ACV22+ACV36 -> 0 | ADC4: Tổng diện tích đất thu hồi: | ADG4: =ADG22+ADG36 -> 0 | ADN4: Tổng diện tích đất thu hồi: | ADR4: =ADR22+ADR36 -> 0 | ADY4: Tổng diện tích đất thu hồi: | AEC4: =AEC22+AEC36 -> 0 | AEJ4: Tổng diện tích đất thu hồi: | AEN4: =AEN22+AEN36 -> 0 | AEU4: Tổng diện tích đất thu hồi: | AEY4: =AEY22+AEY36 -> 0 | AFF4: Tổng diện tích đất thu hồi: | AFJ4: =AFJ22+AFJ36 -> 0 | AFQ4: Tổng diện tích đất thu hồi: | AFU4: =AFU22+AFU36 -> 0 | AGB4: Tổng diện tích đất thu hồi: | AGF4: =AGF22+AGF36 -> 0 | AGM4: Tổng diện tích đất thu hồi: | AGQ4: =AGQ22+AGQ36 -> 0 | AGX4: Tổng diện tích đất thu hồi: | AHB4: =AHB22+AHB36 -> 0 | AHI4: Tổng diện tích đất thu hồi: | AHM4: =AHM22+AHM36 -> 0 | AHT4: Tổng diện tích đất thu hồi: | AHX4: =AHX22+AHX36 -> 0 | AIE4: Tổng diện tích đất thu hồi: | AII4: =AII22+AII36 -> 0 | AIP4: Tổng diện tích đất thu hồi: | AIT4: =AIT22+AIT36 -> 0 | AJA4: Tổng diện tích đất thu hồi: | AJE4: =AJE22+AJE36 -> 0 | AJL4: Tổng diện tích đất thu hồi: | AJP4: =AJP22+AJP36 -> 0 | AJW4: Tổng diện tích đất thu hồi: | AKA4: =AKA22+AKA36 -> 0 | AKH4: Tổng diện tích đất thu hồi: | AKL4: =AKL22+AKL36 -> 0 | AKS4: Tổng diện tích đất thu hồi: | AKW4: =AKW22+AKW36 -> 0 | ALD4: Tổng diện tích đất thu hồi: | ALH4: =ALH22+ALH36 -> 0 | ALO4: Tổng diện tích đất thu hồi: | ALS4: =ALS22+ALS36 -> 0 | ALZ4: Tổng diện tích đất thu hồi: | AMD4: =AMD22+AMD36 -> 0 | AMK4: Tổng diện tích đất thu hồi: | AMO4: =AMO22+AMO36 -> 0 | AMV4: Tổng diện tích đất thu hồi: | AMZ4: =AMZ22+AMZ36 -> 0 | ANG4: Tổng diện tích đất thu hồi: | ANK4: =ANK22+ANK36 -> 0 | ANR4: Tổng diện tích đất thu hồi: | ANV4: =ANV22+ANV36 -> 0 | AOC4: Tổng diện tích đất thu hồi: | AOG4: =AOG22+AOG36 -> 0 | AON4: Tổng diện tích đất thu hồi: | AOR4: =AOR22+AOR36 -> 0 | AOY4: Tổng diện tích đất thu hồi: | APC4: =APC22+APC36 -> 0 | APJ4: Tổng diện tích đất thu hồi: | APN4: =APN22+APN36 -> 0 | APU4: Tổng diện tích đất thu hồi: | APY4: =APY22+APY36 -> 0 | AQF4: Tổng diện tích đất thu hồi: | AQJ4: =AQJ22+AQJ36 -> 0 | AQQ4: Tổng diện tích đất thu hồi: | AQU4: =AQU22+AQU36 -> 0 | ARB4: Tổng diện tích đất thu hồi: | ARF4: =ARF22+ARF36 -> 0 | ARM4: Tổng diện tích đất thu hồi: | ARQ4: =ARQ22+ARQ36 -> 0 | ARX4: Tổng diện tích đất thu hồi: | ASB4: =ASB22+ASB36 -> 0 | ASI4: Tổng diện tích đất thu hồi: | ASM4: =ASM22+ASM36 -> 0 | AST4: Tổng diện tích đất thu hồi: | ASX4: =ASX22+ASX36 -> 0 | ATE4: Tổng diện tích đất thu hồi: | ATI4: =ATI22+ATI36 -> 0 | ATP4: Tổng diện tích đất thu hồi: | ATT4: =ATT22+ATT36 -> 0 | AUA4: Tổng diện tích đất thu hồi: | AUE4: =AUE22+AUE36 -> 0 | AUL4: Tổng diện tích đất thu hồi: | AUP4: =AUP22+AUP36 -> 0 | AUW4: Tổng diện tích đất thu hồi: | AVA4: =AVA22+AVA36 -> 0 | AVH4: Tổng diện tích đất thu hồi: | AVL4: =AVL22+AVL36 -> 0 | AVS4: Tổng diện tích đất thu hồi: | AVW4: =AVW22+AVW36 -> 0
B5: Tổng tiền bồi thường về đất: | F5: =F29+F43 -> 59380000 | M5: Tổng tiền bồi thường về đất: | Q5: =Q29+Q43 -> 60090000 | X5: Tổng tiền bồi thường về đất: | AB5: =AB29+AB43 -> 65420000 | AI5: Tổng tiền bồi thường về đất: | AM5: =AM29+AM43 -> 21700000 | AT5: Tổng tiền bồi thường về đất: | AX5: =AX29+AX43 -> 13850000 | BE5: Tổng tiền bồi thường về đất: | BI5: =BI29+BI43 -> 54700000 | BP5: Tổng tiền bồi thường về đất: | BT5: =BT29+BT43 -> 45200000 | CA5: Tổng tiền bồi thường về đất: | CE5: =CE29+CE43 -> 27400000 | CL5: Tổng tiền bồi thường về đất: | CP5: =CP29+CP43 -> 19400000 | CW5: Tổng tiền bồi thường về đất: | DA5: =DA29+DA43 -> 550000 | DH5: Tổng tiền bồi thường về đất: | DL5: =DL29+DL43 -> 0 | DS5: Tổng tiền bồi thường về đất: | DW5: =DW29+DW43 -> 0 | ED5: Tổng tiền bồi thường về đất: | EH5: =EH29+EH43 -> 0 | EO5: Tổng tiền bồi thường về đất: | ES5: =ES29+ES43 -> 0 | EZ5: Tổng tiền bồi thường về đất: | FD5: =FD29+FD43 -> 0 | FK5: Tổng tiền bồi thường về đất: | FO5: =FO29+FO43 -> 0 | FV5: Tổng tiền bồi thường về đất: | FZ5: =FZ29+FZ43 -> 0 | GG5: Tổng tiền bồi thường về đất: | GK5: =GK29+GK43 -> 0 | GR5: Tổng tiền bồi thường về đất: | GV5: =GV29+GV43 -> 0 | HC5: Tổng tiền bồi thường về đất: | HG5: =HG29+HG43 -> 0 | HN5: Tổng tiền bồi thường về đất: | HR5: =HR29+HR43 -> 0 | HY5: Tổng tiền bồi thường về đất: | IC5: =IC29+IC43 -> 0 | IJ5: Tổng tiền bồi thường về đất: | IN5: =IN29+IN43 -> 0 | IU5: Tổng tiền bồi thường về đất: | IY5: =IY29+IY43 -> 0 | JF5: Tổng tiền bồi thường về đất: | JJ5: =JJ29+JJ43 -> 0 | JQ5: Tổng tiền bồi thường về đất: | JU5: =JU29+JU43 -> 0 | KB5: Tổng tiền bồi thường về đất: | KF5: =KF29+KF43 -> 0 | KM5: Tổng tiền bồi thường về đất: | KQ5: =KQ29+KQ43 -> 0 | KX5: Tổng tiền bồi thường về đất: | LB5: =LB29+LB43 -> 0 | LI5: Tổng tiền bồi thường về đất: | LM5: =LM29+LM43 -> 0 | LT5: Tổng tiền bồi thường về đất: | LX5: =LX29+LX43 -> 0 | ME5: Tổng tiền bồi thường về đất: | MI5: =MI29+MI43 -> 0 | MP5: Tổng tiền bồi thường về đất: | MT5: =MT29+MT43 -> 0 | NA5: Tổng tiền bồi thường về đất: | NE5: =NE29+NE43 -> 0 | NL5: Tổng tiền bồi thường về đất: | NP5: =NP29+NP43 -> 0 | NW5: Tổng tiền bồi thường về đất: | OA5: =OA29+OA43 -> 0 | OH5: Tổng tiền bồi thường về đất: | OL5: =OL29+OL43 -> 0 | OS5: Tổng tiền bồi thường về đất: | OW5: =OW29+OW43 -> 0 | PD5: Tổng tiền bồi thường về đất: | PH5: =PH29+PH43 -> 0 | PO5: Tổng tiền bồi thường về đất: | PS5: =PS29+PS43 -> 0 | PZ5: Tổng tiền bồi thường về đất: | QD5: =QD29+QD43 -> 0 | QK5: Tổng tiền bồi thường về đất: | QO5: =QO29+QO43 -> 0 | QV5: Tổng tiền bồi thường về đất: | QZ5: =QZ29+QZ43 -> 0 | RG5: Tổng tiền bồi thường về đất: | RK5: =RK29+RK43 -> 0 | RR5: Tổng tiền bồi thường về đất: | RV5: =RV29+RV43 -> 0 | SC5: Tổng tiền bồi thường về đất: | SG5: =SG29+SG43 -> 0 | SN5: Tổng tiền bồi thường về đất: | SR5: =SR29+SR43 -> 0 | SY5: Tổng tiền bồi thường về đất: | TC5: =TC29+TC43 -> 0 | TJ5: Tổng tiền bồi thường về đất: | TN5: =TN29+TN43 -> 0 | TU5: Tổng tiền bồi thường về đất: | TY5: =TY29+TY43 -> 0 | UF5: Tổng tiền bồi thường về đất: | UJ5: =UJ29+UJ43 -> 0 | UQ5: Tổng tiền bồi thường về đất: | UU5: =UU29+UU43 -> 0 | VB5: Tổng tiền bồi thường về đất: | VF5: =VF29+VF43 -> 0 | VM5: Tổng tiền bồi thường về đất: | VQ5: =VQ29+VQ43 -> 0 | VX5: Tổng tiền bồi thường về đất: | WB5: =WB29+WB43 -> 0 | WI5: Tổng tiền bồi thường về đất: | WM5: =WM29+WM43 -> 0 | WT5: Tổng tiền bồi thường về đất: | WX5: =WX29+WX43 -> 0 | XE5: Tổng tiền bồi thường về đất: | XI5: =XI29+XI43 -> 0 | XP5: Tổng tiền bồi thường về đất: | XT5: =XT29+XT43 -> 0 | YA5: Tổng tiền bồi thường về đất: | YE5: =YE29+YE43 -> 0 | YL5: Tổng tiền bồi thường về đất: | YP5: =YP29+YP43 -> 0 | YW5: Tổng tiền bồi thường về đất: | ZA5: =ZA29+ZA43 -> 0 | ZH5: Tổng tiền bồi thường về đất: | ZL5: =ZL29+ZL43 -> 0 | ZS5: Tổng tiền bồi thường về đất: | ZW5: =ZW29+ZW43 -> 0 | AAD5: Tổng tiền bồi thường về đất: | AAH5: =AAH29+AAH43 -> 0 | AAO5: Tổng tiền bồi thường về đất: | AAS5: =AAS29+AAS43 -> 0 | AAZ5: Tổng tiền bồi thường về đất: | ABD5: =ABD29+ABD43 -> 0 | ABK5: Tổng tiền bồi thường về đất: | ABO5: =ABO29+ABO43 -> 0 | ABV5: Tổng tiền bồi thường về đất: | ABZ5: =ABZ29+ABZ43 -> 0 | ACG5: Tổng tiền bồi thường về đất: | ACK5: =ACK29+ACK43 -> 0 | ACR5: Tổng tiền bồi thường về đất: | ACV5: =ACV29+ACV43 -> 0 | ADC5: Tổng tiền bồi thường về đất: | ADG5: =ADG29+ADG43 -> 0 | ADN5: Tổng tiền bồi thường về đất: | ADR5: =ADR29+ADR43 -> 0 | ADY5: Tổng tiền bồi thường về đất: | AEC5: =AEC29+AEC43 -> 0 | AEJ5: Tổng tiền bồi thường về đất: | AEN5: =AEN29+AEN43 -> 0 | AEU5: Tổng tiền bồi thường về đất: | AEY5: =AEY29+AEY43 -> 0 | AFF5: Tổng tiền bồi thường về đất: | AFJ5: =AFJ29+AFJ43 -> 0 | AFQ5: Tổng tiền bồi thường về đất: | AFU5: =AFU29+AFU43 -> 0 | AGB5: Tổng tiền bồi thường về đất: | AGF5: =AGF29+AGF43 -> 0 | AGM5: Tổng tiền bồi thường về đất: | AGQ5: =AGQ29+AGQ43 -> 0 | AGX5: Tổng tiền bồi thường về đất: | AHB5: =AHB29+AHB43 -> 0 | AHI5: Tổng tiền bồi thường về đất: | AHM5: =AHM29+AHM43 -> 0 | AHT5: Tổng tiền bồi thường về đất: | AHX5: =AHX29+AHX43 -> 0 | AIE5: Tổng tiền bồi thường về đất: | AII5: =AII29+AII43 -> 0 | AIP5: Tổng tiền bồi thường về đất: | AIT5: =AIT29+AIT43 -> 0 | AJA5: Tổng tiền bồi thường về đất: | AJE5: =AJE29+AJE43 -> 0 | AJL5: Tổng tiền bồi thường về đất: | AJP5: =AJP29+AJP43 -> 0 | AJW5: Tổng tiền bồi thường về đất: | AKA5: =AKA29+AKA43 -> 0 | AKH5: Tổng tiền bồi thường về đất: | AKL5: =AKL29+AKL43 -> 0 | AKS5: Tổng tiền bồi thường về đất: | AKW5: =AKW29+AKW43 -> 0 | ALD5: Tổng tiền bồi thường về đất: | ALH5: =ALH29+ALH43 -> 0 | ALO5: Tổng tiền bồi thường về đất: | ALS5: =ALS29+ALS43 -> 0 | ALZ5: Tổng tiền bồi thường về đất: | AMD5: =AMD29+AMD43 -> 0 | AMK5: Tổng tiền bồi thường về đất: | AMO5: =AMO29+AMO43 -> 0 | AMV5: Tổng tiền bồi thường về đất: | AMZ5: =AMZ29+AMZ43 -> 0 | ANG5: Tổng tiền bồi thường về đất: | ANK5: =ANK29+ANK43 -> 0 | ANR5: Tổng tiền bồi thường về đất: | ANV5: =ANV29+ANV43 -> 0 | AOC5: Tổng tiền bồi thường về đất: | AOG5: =AOG29+AOG43 -> 0 | AON5: Tổng tiền bồi thường về đất: | AOR5: =AOR29+AOR43 -> 0 | AOY5: Tổng tiền bồi thường về đất: | APC5: =APC29+APC43 -> 0 | APJ5: Tổng tiền bồi thường về đất: | APN5: =APN29+APN43 -> 0 | APU5: Tổng tiền bồi thường về đất: | APY5: =APY29+APY43 -> 0 | AQF5: Tổng tiền bồi thường về đất: | AQJ5: =AQJ29+AQJ43 -> 0 | AQQ5: Tổng tiền bồi thường về đất: | AQU5: =AQU29+AQU43 -> 0 | ARB5: Tổng tiền bồi thường về đất: | ARF5: =ARF29+ARF43 -> 0 | ARM5: Tổng tiền bồi thường về đất: | ARQ5: =ARQ29+ARQ43 -> 0 | ARX5: Tổng tiền bồi thường về đất: | ASB5: =ASB29+ASB43 -> 0 | ASI5: Tổng tiền bồi thường về đất: | ASM5: =ASM29+ASM43 -> 0 | AST5: Tổng tiền bồi thường về đất: | ASX5: =ASX29+ASX43 -> 0 | ATE5: Tổng tiền bồi thường về đất: | ATI5: =ATI29+ATI43 -> 0 | ATP5: Tổng tiền bồi thường về đất: | ATT5: =ATT29+ATT43 -> 0 | AUA5: Tổng tiền bồi thường về đất: | AUE5: =AUE29+AUE43 -> 0 | AUL5: Tổng tiền bồi thường về đất: | AUP5: =AUP29+AUP43 -> 0 | AUW5: Tổng tiền bồi thường về đất: | AVA5: =AVA29+AVA43 -> 0 | AVH5: Tổng tiền bồi thường về đất: | AVL5: =AVL29+AVL43 -> 0 | AVS5: Tổng tiền bồi thường về đất: | AVW5: =AVW29+AVW43 -> 0
B6: Các khoản hỗ trợ: | F6: =SUM(F7:F9) -> 3.41714e+08 | M6: Các khoản hỗ trợ: | Q6: =SUM(Q7:Q9) -> 343677000 | X6: Các khoản hỗ trợ: | AB6: =SUM(AB7:AB9) -> 3.64726e+08 | AI6: Các khoản hỗ trợ: | AM6: =SUM(AM7:AM9) -> 125810000 | AT6: Các khoản hỗ trợ: | AX6: =SUM(AX7:AX9) -> 89605000 | BE6: Các khoản hỗ trợ: | BI6: =SUM(BI7:BI9) -> 318710000 | BP6: Các khoản hỗ trợ: | BT6: =SUM(BT7:BT9) -> 252160000 | CA6: Các khoản hỗ trợ: | CE6: =SUM(CE7:CE9) -> 159620000 | CL6: Các khoản hỗ trợ: | CP6: =SUM(CP7:CP9) -> 115420000 | CW6: Các khoản hỗ trợ: | DA6: =SUM(DA7:DA9) -> 15515000 | DH6: Các khoản hỗ trợ: | DL6: =SUM(DL7:DL9) -> 0 | DS6: Các khoản hỗ trợ: | DW6: =SUM(DW7:DW9) -> 0 | ED6: Các khoản hỗ trợ: | EH6: =SUM(EH7:EH9) -> 0 | EO6: Các khoản hỗ trợ: | ES6: =SUM(ES7:ES9) -> 0 | EZ6: Các khoản hỗ trợ: | FD6: =SUM(FD7:FD9) -> 0 | FK6: Các khoản hỗ trợ: | FO6: =SUM(FO7:FO9) -> 0 | FV6: Các khoản hỗ trợ: | FZ6: =SUM(FZ7:FZ9) -> 0 | GG6: Các khoản hỗ trợ: | GK6: =SUM(GK7:GK9) -> 0 | GR6: Các khoản hỗ trợ: | GV6: =SUM(GV7:GV9) -> 0 | HC6: Các khoản hỗ trợ: | HG6: =SUM(HG7:HG9) -> 0 | HN6: Các khoản hỗ trợ: | HR6: =SUM(HR7:HR9) -> 0 | HY6: Các khoản hỗ trợ: | IC6: =SUM(IC7:IC9) -> 0 | IJ6: Các khoản hỗ trợ: | IN6: =SUM(IN7:IN9) -> 0 | IU6: Các khoản hỗ trợ: | IY6: =SUM(IY7:IY9) -> 0 | JF6: Các khoản hỗ trợ: | JJ6: =SUM(JJ7:JJ9) -> 0 | JQ6: Các khoản hỗ trợ: | JU6: =SUM(JU7:JU9) -> 0 | KB6: Các khoản hỗ trợ: | KF6: =SUM(KF7:KF9) -> 0 | KM6: Các khoản hỗ trợ: | KQ6: =SUM(KQ7:KQ9) -> 0 | KX6: Các khoản hỗ trợ: | LB6: =SUM(LB7:LB9) -> 0 | LI6: Các khoản hỗ trợ: | LM6: =SUM(LM7:LM9) -> 0 | LT6: Các khoản hỗ trợ: | LX6: =SUM(LX7:LX9) -> 0 | ME6: Các khoản hỗ trợ: | MI6: =SUM(MI7:MI9) -> 0 | MP6: Các khoản hỗ trợ: | MT6: =SUM(MT7:MT9) -> 0 | NA6: Các khoản hỗ trợ: | NE6: =SUM(NE7:NE9) -> 0 | NL6: Các khoản hỗ trợ: | NP6: =SUM(NP7:NP9) -> 0 | NW6: Các khoản hỗ trợ: | OA6: =SUM(OA7:OA9) -> 0 | OH6: Các khoản hỗ trợ: | OL6: =SUM(OL7:OL9) -> 0 | OS6: Các khoản hỗ trợ: | OW6: =SUM(OW7:OW9) -> 0 | PD6: Các khoản hỗ trợ: | PH6: =SUM(PH7:PH9) -> 0 | PO6: Các khoản hỗ trợ: | PS6: =SUM(PS7:PS9) -> 0 | PZ6: Các khoản hỗ trợ: | QD6: =SUM(QD7:QD9) -> 0 | QK6: Các khoản hỗ trợ: | QO6: =SUM(QO7:QO9) -> 0 | QV6: Các khoản hỗ trợ: | QZ6: =SUM(QZ7:QZ9) -> 0 | RG6: Các khoản hỗ trợ: | RK6: =SUM(RK7:RK9) -> 0 | RR6: Các khoản hỗ trợ: | RV6: =SUM(RV7:RV9) -> 0 | SC6: Các khoản hỗ trợ: | SG6: =SUM(SG7:SG9) -> 0 | SN6: Các khoản hỗ trợ: | SR6: =SUM(SR7:SR9) -> 0 | SY6: Các khoản hỗ trợ: | TC6: =SUM(TC7:TC9) -> 0 | TJ6: Các khoản hỗ trợ: | TN6: =SUM(TN7:TN9) -> 0 | TU6: Các khoản hỗ trợ: | TY6: =SUM(TY7:TY9) -> 0 | UF6: Các khoản hỗ trợ: | UJ6: =SUM(UJ7:UJ9) -> 0 | UQ6: Các khoản hỗ trợ: | UU6: =SUM(UU7:UU9) -> 0 | VB6: Các khoản hỗ trợ: | VF6: =SUM(VF7:VF9) -> 0 | VM6: Các khoản hỗ trợ: | VQ6: =SUM(VQ7:VQ9) -> 0 | VX6: Các khoản hỗ trợ: | WB6: =SUM(WB7:WB9) -> 0 | WI6: Các khoản hỗ trợ: | WM6: =SUM(WM7:WM9) -> 0 | WT6: Các khoản hỗ trợ: | WX6: =SUM(WX7:WX9) -> 0 | XE6: Các khoản hỗ trợ: | XI6: =SUM(XI7:XI9) -> 0 | XP6: Các khoản hỗ trợ: | XT6: =SUM(XT7:XT9) -> 0 | YA6: Các khoản hỗ trợ: | YE6: =SUM(YE7:YE9) -> 0 | YL6: Các khoản hỗ trợ: | YP6: =SUM(YP7:YP9) -> 0 | YW6: Các khoản hỗ trợ: | ZA6: =SUM(ZA7:ZA9) -> 0 | ZH6: Các khoản hỗ trợ: | ZL6: =SUM(ZL7:ZL9) -> 0 | ZS6: Các khoản hỗ trợ: | ZW6: =SUM(ZW7:ZW9) -> 0 | AAD6: Các khoản hỗ trợ: | AAH6: =SUM(AAH7:AAH9) -> 0 | AAO6: Các khoản hỗ trợ: | AAS6: =SUM(AAS7:AAS9) -> 0 | AAZ6: Các khoản hỗ trợ: | ABD6: =SUM(ABD7:ABD9) -> 0 | ABK6: Các khoản hỗ trợ: | ABO6: =SUM(ABO7:ABO9) -> 0 | ABV6: Các khoản hỗ trợ: | ABZ6: =SUM(ABZ7:ABZ9) -> 0 | ACG6: Các khoản hỗ trợ: | ACK6: =SUM(ACK7:ACK9) -> 0 | ACR6: Các khoản hỗ trợ: | ACV6: =SUM(ACV7:ACV9) -> 0 | ADC6: Các khoản hỗ trợ: | ADG6: =SUM(ADG7:ADG9) -> 0 | ADN6: Các khoản hỗ trợ: | ADR6: =SUM(ADR7:ADR9) -> 0 | ADY6: Các khoản hỗ trợ: | AEC6: =SUM(AEC7:AEC9) -> 0 | AEJ6: Các khoản hỗ trợ: | AEN6: =SUM(AEN7:AEN9) -> 0 | AEU6: Các khoản hỗ trợ: | AEY6: =SUM(AEY7:AEY9) -> 0 | AFF6: Các khoản hỗ trợ: | AFJ6: =SUM(AFJ7:AFJ9) -> 0 | AFQ6: Các khoản hỗ trợ: | AFU6: =SUM(AFU7:AFU9) -> 0 | AGB6: Các khoản hỗ trợ: | AGF6: =SUM(AGF7:AGF9) -> 0 | AGM6: Các khoản hỗ trợ: | AGQ6: =SUM(AGQ7:AGQ9) -> 0 | AGX6: Các khoản hỗ trợ: | AHB6: =SUM(AHB7:AHB9) -> 0 | AHI6: Các khoản hỗ trợ: | AHM6: =SUM(AHM7:AHM9) -> 0 | AHT6: Các khoản hỗ trợ: | AHX6: =SUM(AHX7:AHX9) -> 0 | AIE6: Các khoản hỗ trợ: | AII6: =SUM(AII7:AII9) -> 0 | AIP6: Các khoản hỗ trợ: | AIT6: =SUM(AIT7:AIT9) -> 0 | AJA6: Các khoản hỗ trợ: | AJE6: =SUM(AJE7:AJE9) -> 0 | AJL6: Các khoản hỗ trợ: | AJP6: =SUM(AJP7:AJP9) -> 0 | AJW6: Các khoản hỗ trợ: | AKA6: =SUM(AKA7:AKA9) -> 0 | AKH6: Các khoản hỗ trợ: | AKL6: =SUM(AKL7:AKL9) -> 0 | AKS6: Các khoản hỗ trợ: | AKW6: =SUM(AKW7:AKW9) -> 0 | ALD6: Các khoản hỗ trợ: | ALH6: =SUM(ALH7:ALH9) -> 0 | ALO6: Các khoản hỗ trợ: | ALS6: =SUM(ALS7:ALS9) -> 0 | ALZ6: Các khoản hỗ trợ: | AMD6: =SUM(AMD7:AMD9) -> 0 | AMK6: Các khoản hỗ trợ: | AMO6: =SUM(AMO7:AMO9) -> 0 | AMV6: Các khoản hỗ trợ: | AMZ6: =SUM(AMZ7:AMZ9) -> 0 | ANG6: Các khoản hỗ trợ: | ANK6: =SUM(ANK7:ANK9) -> 0 | ANR6: Các khoản hỗ trợ: | ANV6: =SUM(ANV7:ANV9) -> 0 | AOC6: Các khoản hỗ trợ: | AOG6: =SUM(AOG7:AOG9) -> 0 | AON6: Các khoản hỗ trợ: | AOR6: =SUM(AOR7:AOR9) -> 0 | AOY6: Các khoản hỗ trợ: | APC6: =SUM(APC7:APC9) -> 0 | APJ6: Các khoản hỗ trợ: | APN6: =SUM(APN7:APN9) -> 0 | APU6: Các khoản hỗ trợ: | APY6: =SUM(APY7:APY9) -> 0 | AQF6: Các khoản hỗ trợ: | AQJ6: =SUM(AQJ7:AQJ9) -> 0 | AQQ6: Các khoản hỗ trợ: | AQU6: =SUM(AQU7:AQU9) -> 0 | ARB6: Các khoản hỗ trợ: | ARF6: =SUM(ARF7:ARF9) -> 0 | ARM6: Các khoản hỗ trợ: | ARQ6: =SUM(ARQ7:ARQ9) -> 0 | ARX6: Các khoản hỗ trợ: | ASB6: =SUM(ASB7:ASB9) -> 0 | ASI6: Các khoản hỗ trợ: | ASM6: =SUM(ASM7:ASM9) -> 0 | AST6: Các khoản hỗ trợ: | ASX6: =SUM(ASX7:ASX9) -> 0 | ATE6: Các khoản hỗ trợ: | ATI6: =SUM(ATI7:ATI9) -> 0 | ATP6: Các khoản hỗ trợ: | ATT6: =SUM(ATT7:ATT9) -> 0 | AUA6: Các khoản hỗ trợ: | AUE6: =SUM(AUE7:AUE9) -> 0 | AUL6: Các khoản hỗ trợ: | AUP6: =SUM(AUP7:AUP9) -> 0 | AUW6: Các khoản hỗ trợ: | AVA6: =SUM(AVA7:AVA9) -> 0 | AVH6: Các khoản hỗ trợ: | AVL6: =SUM(AVL7:AVL9) -> 0 | AVS6: Các khoản hỗ trợ: | AVW6: =SUM(AVW7:AVW9) -> 0
B7: - Hỗ trợ đào tạo nghề và tìm việc làm: | F7: =IFERROR(Giadatvaheso!$J$4*(F17*Giadatvaheso!$C$7+F31*Giadatvaheso!$C$8),"") -> 2.969e+08 | M7: - Hỗ trợ đào tạo nghề và tìm việc làm: | Q7: =IFERROR(Giadatvaheso!$J$4*(Q17*Giadatvaheso!$C$7+Q31*Giadatvaheso!$C$8),"") -> 300450000 | X7: - Hỗ trợ đào tạo nghề và tìm việc làm: | AB7: =IFERROR(Giadatvaheso!$J$4*(AB17*Giadatvaheso!$C$7+AB31*Giadatvaheso!$C$8),"") -> 3.271e+08 | AI7: - Hỗ trợ đào tạo nghề và tìm việc làm: | AM7: =IFERROR(Giadatvaheso!$J$4*(AM17*Giadatvaheso!$C$7+AM31*Giadatvaheso!$C$8),"") -> 108500000 | AT7: - Hỗ trợ đào tạo nghề và tìm việc làm: | AX7: =IFERROR(Giadatvaheso!$J$4*(AX17*Giadatvaheso!$C$7+AX31*Giadatvaheso!$C$8),"") -> 69250000 | BE7: - Hỗ trợ đào tạo nghề và tìm việc làm: | BI7: =IFERROR(Giadatvaheso!$J$4*(BI17*Giadatvaheso!$C$7+BI31*Giadatvaheso!$C$8),"") -> 273500000 | BP7: - Hỗ trợ đào tạo nghề và tìm việc làm: | BT7: =IFERROR(Giadatvaheso!$J$4*(BT17*Giadatvaheso!$C$7+BT31*Giadatvaheso!$C$8),"") -> 226000000 | CA7: - Hỗ trợ đào tạo nghề và tìm việc làm: | CE7: =IFERROR(Giadatvaheso!$J$4*(CE17*Giadatvaheso!$C$7+CE31*Giadatvaheso!$C$8),"") -> 137000000 | CL7: - Hỗ trợ đào tạo nghề và tìm việc làm: | CP7: =IFERROR(Giadatvaheso!$J$4*(CP17*Giadatvaheso!$C$7+CP31*Giadatvaheso!$C$8),"") -> 97000000 | CW7: - Hỗ trợ đào tạo nghề và tìm việc làm: | DA7: =IFERROR(Giadatvaheso!$J$4*(DA17*Giadatvaheso!$C$7+DA31*Giadatvaheso!$C$8),"") -> 2750000 | DH7: - Hỗ trợ đào tạo nghề và tìm việc làm: | DL7: =IFERROR(Giadatvaheso!$J$4*(DL17*Giadatvaheso!$C$7+DL31*Giadatvaheso!$C$8),"") -> 0 | DS7: - Hỗ trợ đào tạo nghề và tìm việc làm: | DW7: =IFERROR(Giadatvaheso!$J$4*(DW17*Giadatvaheso!$C$7+DW31*Giadatvaheso!$C$8),"") -> 0 | ED7: - Hỗ trợ đào tạo nghề và tìm việc làm: | EH7: =IFERROR(Giadatvaheso!$J$4*(EH17*Giadatvaheso!$C$7+EH31*Giadatvaheso!$C$8),"") -> 0 | EO7: - Hỗ trợ đào tạo nghề và tìm việc làm: | ES7: =IFERROR(Giadatvaheso!$J$4*(ES17*Giadatvaheso!$C$7+ES31*Giadatvaheso!$C$8),"") -> 0 | EZ7: - Hỗ trợ đào tạo nghề và tìm việc làm: | FD7: =IFERROR(Giadatvaheso!$J$4*(FD17*Giadatvaheso!$C$7+FD31*Giadatvaheso!$C$8),"") -> 0 | FK7: - Hỗ trợ đào tạo nghề và tìm việc làm: | FO7: =IFERROR(Giadatvaheso!$J$4*(FO17*Giadatvaheso!$C$7+FO31*Giadatvaheso!$C$8),"") -> 0 | FV7: - Hỗ trợ đào tạo nghề và tìm việc làm: | FZ7: =IFERROR(Giadatvaheso!$J$4*(FZ17*Giadatvaheso!$C$7+FZ31*Giadatvaheso!$C$8),"") -> 0 | GG7: - Hỗ trợ đào tạo nghề và tìm việc làm: | GK7: =IFERROR(Giadatvaheso!$J$4*(GK17*Giadatvaheso!$C$7+GK31*Giadatvaheso!$C$8),"") -> 0 | GR7: - Hỗ trợ đào tạo nghề và tìm việc làm: | GV7: =IFERROR(Giadatvaheso!$J$4*(GV17*Giadatvaheso!$C$7+GV31*Giadatvaheso!$C$8),"") -> 0 | HC7: - Hỗ trợ đào tạo nghề và tìm việc làm: | HG7: =IFERROR(Giadatvaheso!$J$4*(HG17*Giadatvaheso!$C$7+HG31*Giadatvaheso!$C$8),"") -> 0 | HN7: - Hỗ trợ đào tạo nghề và tìm việc làm: | HR7: =IFERROR(Giadatvaheso!$J$4*(HR17*Giadatvaheso!$C$7+HR31*Giadatvaheso!$C$8),"") -> 0 | HY7: - Hỗ trợ đào tạo nghề và tìm việc làm: | IC7: =IFERROR(Giadatvaheso!$J$4*(IC17*Giadatvaheso!$C$7+IC31*Giadatvaheso!$C$8),"") -> 0 | IJ7: - Hỗ trợ đào tạo nghề và tìm việc làm: | IN7: =IFERROR(Giadatvaheso!$J$4*(IN17*Giadatvaheso!$C$7+IN31*Giadatvaheso!$C$8),"") -> 0 | IU7: - Hỗ trợ đào tạo nghề và tìm việc làm: | IY7: =IFERROR(Giadatvaheso!$J$4*(IY17*Giadatvaheso!$C$7+IY31*Giadatvaheso!$C$8),"") -> 0 | JF7: - Hỗ trợ đào tạo nghề và tìm việc làm: | JJ7: =IFERROR(Giadatvaheso!$J$4*(JJ17*Giadatvaheso!$C$7+JJ31*Giadatvaheso!$C$8),"") -> 0 | JQ7: - Hỗ trợ đào tạo nghề và tìm việc làm: | JU7: =IFERROR(Giadatvaheso!$J$4*(JU17*Giadatvaheso!$C$7+JU31*Giadatvaheso!$C$8),"") -> 0 | KB7: - Hỗ trợ đào tạo nghề và tìm việc làm: | KF7: =IFERROR(Giadatvaheso!$J$4*(KF17*Giadatvaheso!$C$7+KF31*Giadatvaheso!$C$8),"") -> 0 | KM7: - Hỗ trợ đào tạo nghề và tìm việc làm: | KQ7: =IFERROR(Giadatvaheso!$J$4*(KQ17*Giadatvaheso!$C$7+KQ31*Giadatvaheso!$C$8),"") -> 0 | KX7: - Hỗ trợ đào tạo nghề và tìm việc làm: | LB7: =IFERROR(Giadatvaheso!$J$4*(LB17*Giadatvaheso!$C$7+LB31*Giadatvaheso!$C$8),"") -> 0 | LI7: - Hỗ trợ đào tạo nghề và tìm việc làm: | LM7: =IFERROR(Giadatvaheso!$J$4*(LM17*Giadatvaheso!$C$7+LM31*Giadatvaheso!$C$8),"") -> 0 | LT7: - Hỗ trợ đào tạo nghề và tìm việc làm: | LX7: =IFERROR(Giadatvaheso!$J$4*(LX17*Giadatvaheso!$C$7+LX31*Giadatvaheso!$C$8),"") -> 0 | ME7: - Hỗ trợ đào tạo nghề và tìm việc làm: | MI7: =IFERROR(Giadatvaheso!$J$4*(MI17*Giadatvaheso!$C$7+MI31*Giadatvaheso!$C$8),"") -> 0 | MP7: - Hỗ trợ đào tạo nghề và tìm việc làm: | MT7: =IFERROR(Giadatvaheso!$J$4*(MT17*Giadatvaheso!$C$7+MT31*Giadatvaheso!$C$8),"") -> 0 | NA7: - Hỗ trợ đào tạo nghề và tìm việc làm: | NE7: =IFERROR(Giadatvaheso!$J$4*(NE17*Giadatvaheso!$C$7+NE31*Giadatvaheso!$C$8),"") -> 0 | NL7: - Hỗ trợ đào tạo nghề và tìm việc làm: | NP7: =IFERROR(Giadatvaheso!$J$4*(NP17*Giadatvaheso!$C$7+NP31*Giadatvaheso!$C$8),"") -> 0 | NW7: - Hỗ trợ đào tạo nghề và tìm việc làm: | OA7: =IFERROR(Giadatvaheso!$J$4*(OA17*Giadatvaheso!$C$7+OA31*Giadatvaheso!$C$8),"") -> 0 | OH7: - Hỗ trợ đào tạo nghề và tìm việc làm: | OL7: =IFERROR(Giadatvaheso!$J$4*(OL17*Giadatvaheso!$C$7+OL31*Giadatvaheso!$C$8),"") -> 0 | OS7: - Hỗ trợ đào tạo nghề và tìm việc làm: | OW7: =IFERROR(Giadatvaheso!$J$4*(OW17*Giadatvaheso!$C$7+OW31*Giadatvaheso!$C$8),"") -> 0 | PD7: - Hỗ trợ đào tạo nghề và tìm việc làm: | PH7: =IFERROR(Giadatvaheso!$J$4*(PH17*Giadatvaheso!$C$7+PH31*Giadatvaheso!$C$8),"") -> 0 | PO7: - Hỗ trợ đào tạo nghề và tìm việc làm: | PS7: =IFERROR(Giadatvaheso!$J$4*(PS17*Giadatvaheso!$C$7+PS31*Giadatvaheso!$C$8),"") -> 0 | PZ7: - Hỗ trợ đào tạo nghề và tìm việc làm: | QD7: =IFERROR(Giadatvaheso!$J$4*(QD17*Giadatvaheso!$C$7+QD31*Giadatvaheso!$C$8),"") -> 0 | QK7: - Hỗ trợ đào tạo nghề và tìm việc làm: | QO7: =IFERROR(Giadatvaheso!$J$4*(QO17*Giadatvaheso!$C$7+QO31*Giadatvaheso!$C$8),"") -> 0 | QV7: - Hỗ trợ đào tạo nghề và tìm việc làm: | QZ7: =IFERROR(Giadatvaheso!$J$4*(QZ17*Giadatvaheso!$C$7+QZ31*Giadatvaheso!$C$8),"") -> 0 | RG7: - Hỗ trợ đào tạo nghề và tìm việc làm: | RK7: =IFERROR(Giadatvaheso!$J$4*(RK17*Giadatvaheso!$C$7+RK31*Giadatvaheso!$C$8),"") -> 0 | RR7: - Hỗ trợ đào tạo nghề và tìm việc làm: | RV7: =IFERROR(Giadatvaheso!$J$4*(RV17*Giadatvaheso!$C$7+RV31*Giadatvaheso!$C$8),"") -> 0 | SC7: - Hỗ trợ đào tạo nghề và tìm việc làm: | SG7: =IFERROR(Giadatvaheso!$J$4*(SG17*Giadatvaheso!$C$7+SG31*Giadatvaheso!$C$8),"") -> 0 | SN7: - Hỗ trợ đào tạo nghề và tìm việc làm: | SR7: =IFERROR(Giadatvaheso!$J$4*(SR17*Giadatvaheso!$C$7+SR31*Giadatvaheso!$C$8),"") -> 0 | SY7: - Hỗ trợ đào tạo nghề và tìm việc làm: | TC7: =IFERROR(Giadatvaheso!$J$4*(TC17*Giadatvaheso!$C$7+TC31*Giadatvaheso!$C$8),"") -> 0 | TJ7: - Hỗ trợ đào tạo nghề và tìm việc làm: | TN7: =IFERROR(Giadatvaheso!$J$4*(TN17*Giadatvaheso!$C$7+TN31*Giadatvaheso!$C$8),"") -> 0 | TU7: - Hỗ trợ đào tạo nghề và tìm việc làm: | TY7: =IFERROR(Giadatvaheso!$J$4*(TY17*Giadatvaheso!$C$7+TY31*Giadatvaheso!$C$8),"") -> 0 | UF7: - Hỗ trợ đào tạo nghề và tìm việc làm: | UJ7: =IFERROR(Giadatvaheso!$J$4*(UJ17*Giadatvaheso!$C$7+UJ31*Giadatvaheso!$C$8),"") -> 0 | UQ7: - Hỗ trợ đào tạo nghề và tìm việc làm: | UU7: =IFERROR(Giadatvaheso!$J$4*(UU17*Giadatvaheso!$C$7+UU31*Giadatvaheso!$C$8),"") -> 0 | VB7: - Hỗ trợ đào tạo nghề và tìm việc làm: | VF7: =IFERROR(Giadatvaheso!$J$4*(VF17*Giadatvaheso!$C$7+VF31*Giadatvaheso!$C$8),"") -> 0 | VM7: - Hỗ trợ đào tạo nghề và tìm việc làm: | VQ7: =IFERROR(Giadatvaheso!$J$4*(VQ17*Giadatvaheso!$C$7+VQ31*Giadatvaheso!$C$8),"") -> 0 | VX7: - Hỗ trợ đào tạo nghề và tìm việc làm: | WB7: =IFERROR(Giadatvaheso!$J$4*(WB17*Giadatvaheso!$C$7+WB31*Giadatvaheso!$C$8),"") -> 0 | WI7: - Hỗ trợ đào tạo nghề và tìm việc làm: | WM7: =IFERROR(Giadatvaheso!$J$4*(WM17*Giadatvaheso!$C$7+WM31*Giadatvaheso!$C$8),"") -> 0 | WT7: - Hỗ trợ đào tạo nghề và tìm việc làm: | WX7: =IFERROR(Giadatvaheso!$J$4*(WX17*Giadatvaheso!$C$7+WX31*Giadatvaheso!$C$8),"") -> 0 | XE7: - Hỗ trợ đào tạo nghề và tìm việc làm: | XI7: =IFERROR(Giadatvaheso!$J$4*(XI17*Giadatvaheso!$C$7+XI31*Giadatvaheso!$C$8),"") -> 0 | XP7: - Hỗ trợ đào tạo nghề và tìm việc làm: | XT7: =IFERROR(Giadatvaheso!$J$4*(XT17*Giadatvaheso!$C$7+XT31*Giadatvaheso!$C$8),"") -> 0 | YA7: - Hỗ trợ đào tạo nghề và tìm việc làm: | YE7: =IFERROR(Giadatvaheso!$J$4*(YE17*Giadatvaheso!$C$7+YE31*Giadatvaheso!$C$8),"") -> 0 | YL7: - Hỗ trợ đào tạo nghề và tìm việc làm: | YP7: =IFERROR(Giadatvaheso!$J$4*(YP17*Giadatvaheso!$C$7+YP31*Giadatvaheso!$C$8),"") -> 0 | YW7: - Hỗ trợ đào tạo nghề và tìm việc làm: | ZA7: =IFERROR(Giadatvaheso!$J$4*(ZA17*Giadatvaheso!$C$7+ZA31*Giadatvaheso!$C$8),"") -> 0 | ZH7: - Hỗ trợ đào tạo nghề và tìm việc làm: | ZL7: =IFERROR(Giadatvaheso!$J$4*(ZL17*Giadatvaheso!$C$7+ZL31*Giadatvaheso!$C$8),"") -> 0 | ZS7: - Hỗ trợ đào tạo nghề và tìm việc làm: | ZW7: =IFERROR(Giadatvaheso!$J$4*(ZW17*Giadatvaheso!$C$7+ZW31*Giadatvaheso!$C$8),"") -> 0 | AAD7: - Hỗ trợ đào tạo nghề và tìm việc làm: | AAH7: =IFERROR(Giadatvaheso!$J$4*(AAH17*Giadatvaheso!$C$7+AAH31*Giadatvaheso!$C$8),"") -> 0 | AAO7: - Hỗ trợ đào tạo nghề và tìm việc làm: | AAS7: =IFERROR(Giadatvaheso!$J$4*(AAS17*Giadatvaheso!$C$7+AAS31*Giadatvaheso!$C$8),"") -> 0 | AAZ7: - Hỗ trợ đào tạo nghề và tìm việc làm: | ABD7: =IFERROR(Giadatvaheso!$J$4*(ABD17*Giadatvaheso!$C$7+ABD31*Giadatvaheso!$C$8),"") -> 0 | ABK7: - Hỗ trợ đào tạo nghề và tìm việc làm: | ABO7: =IFERROR(Giadatvaheso!$J$4*(ABO17*Giadatvaheso!$C$7+ABO31*Giadatvaheso!$C$8),"") -> 0 | ABV7: - Hỗ trợ đào tạo nghề và tìm việc làm: | ABZ7: =IFERROR(Giadatvaheso!$J$4*(ABZ17*Giadatvaheso!$C$7+ABZ31*Giadatvaheso!$C$8),"") -> 0 | ACG7: - Hỗ trợ đào tạo nghề và tìm việc làm: | ACK7: =IFERROR(Giadatvaheso!$J$4*(ACK17*Giadatvaheso!$C$7+ACK31*Giadatvaheso!$C$8),"") -> 0 | ACR7: - Hỗ trợ đào tạo nghề và tìm việc làm: | ACV7: =IFERROR(Giadatvaheso!$J$4*(ACV17*Giadatvaheso!$C$7+ACV31*Giadatvaheso!$C$8),"") -> 0 | ADC7: - Hỗ trợ đào tạo nghề và tìm việc làm: | ADG7: =IFERROR(Giadatvaheso!$J$4*(ADG17*Giadatvaheso!$C$7+ADG31*Giadatvaheso!$C$8),"") -> 0 | ADN7: - Hỗ trợ đào tạo nghề và tìm việc làm: | ADR7: =IFERROR(Giadatvaheso!$J$4*(ADR17*Giadatvaheso!$C$7+ADR31*Giadatvaheso!$C$8),"") -> 0 | ADY7: - Hỗ trợ đào tạo nghề và tìm việc làm: | AEC7: =IFERROR(Giadatvaheso!$J$4*(AEC17*Giadatvaheso!$C$7+AEC31*Giadatvaheso!$C$8),"") -> 0 | AEJ7: - Hỗ trợ đào tạo nghề và tìm việc làm: | AEN7: =IFERROR(Giadatvaheso!$J$4*(AEN17*Giadatvaheso!$C$7+AEN31*Giadatvaheso!$C$8),"") -> 0 | AEU7: - Hỗ trợ đào tạo nghề và tìm việc làm: | AEY7: =IFERROR(Giadatvaheso!$J$4*(AEY17*Giadatvaheso!$C$7+AEY31*Giadatvaheso!$C$8),"") -> 0 | AFF7: - Hỗ trợ đào tạo nghề và tìm việc làm: | AFJ7: =IFERROR(Giadatvaheso!$J$4*(AFJ17*Giadatvaheso!$C$7+AFJ31*Giadatvaheso!$C$8),"") -> 0 | AFQ7: - Hỗ trợ đào tạo nghề và tìm việc làm: | AFU7: =IFERROR(Giadatvaheso!$J$4*(AFU17*Giadatvaheso!$C$7+AFU31*Giadatvaheso!$C$8),"") -> 0 | AGB7: - Hỗ trợ đào tạo nghề và tìm việc làm: | AGF7: =IFERROR(Giadatvaheso!$J$4*(AGF17*Giadatvaheso!$C$7+AGF31*Giadatvaheso!$C$8),"") -> 0 | AGM7: - Hỗ trợ đào tạo nghề và tìm việc làm: | AGQ7: =IFERROR(Giadatvaheso!$J$4*(AGQ17*Giadatvaheso!$C$7+AGQ31*Giadatvaheso!$C$8),"") -> 0 | AGX7: - Hỗ trợ đào tạo nghề và tìm việc làm: | AHB7: =IFERROR(Giadatvaheso!$J$4*(AHB17*Giadatvaheso!$C$7+AHB31*Giadatvaheso!$C$8),"") -> 0 | AHI7: - Hỗ trợ đào tạo nghề và tìm việc làm: | AHM7: =IFERROR(Giadatvaheso!$J$4*(AHM17*Giadatvaheso!$C$7+AHM31*Giadatvaheso!$C$8),"") -> 0 | AHT7: - Hỗ trợ đào tạo nghề và tìm việc làm: | AHX7: =IFERROR(Giadatvaheso!$J$4*(AHX17*Giadatvaheso!$C$7+AHX31*Giadatvaheso!$C$8),"") -> 0 | AIE7: - Hỗ trợ đào tạo nghề và tìm việc làm: | AII7: =IFERROR(Giadatvaheso!$J$4*(AII17*Giadatvaheso!$C$7+AII31*Giadatvaheso!$C$8),"") -> 0 | AIP7: - Hỗ trợ đào tạo nghề và tìm việc làm: | AIT7: =IFERROR(Giadatvaheso!$J$4*(AIT17*Giadatvaheso!$C$7+AIT31*Giadatvaheso!$C$8),"") -> 0 | AJA7: - Hỗ trợ đào tạo nghề và tìm việc làm: | AJE7: =IFERROR(Giadatvaheso!$J$4*(AJE17*Giadatvaheso!$C$7+AJE31*Giadatvaheso!$C$8),"") -> 0 | AJL7: - Hỗ trợ đào tạo nghề và tìm việc làm: | AJP7: =IFERROR(Giadatvaheso!$J$4*(AJP17*Giadatvaheso!$C$7+AJP31*Giadatvaheso!$C$8),"") -> 0 | AJW7: - Hỗ trợ đào tạo nghề và tìm việc làm: | AKA7: =IFERROR(Giadatvaheso!$J$4*(AKA17*Giadatvaheso!$C$7+AKA31*Giadatvaheso!$C$8),"") -> 0 | AKH7: - Hỗ trợ đào tạo nghề và tìm việc làm: | AKL7: =IFERROR(Giadatvaheso!$J$4*(AKL17*Giadatvaheso!$C$7+AKL31*Giadatvaheso!$C$8),"") -> 0 | AKS7: - Hỗ trợ đào tạo nghề và tìm việc làm: | AKW7: =IFERROR(Giadatvaheso!$J$4*(AKW17*Giadatvaheso!$C$7+AKW31*Giadatvaheso!$C$8),"") -> 0 | ALD7: - Hỗ trợ đào tạo nghề và tìm việc làm: | ALH7: =IFERROR(Giadatvaheso!$J$4*(ALH17*Giadatvaheso!$C$7+ALH31*Giadatvaheso!$C$8),"") -> 0 | ALO7: - Hỗ trợ đào tạo nghề và tìm việc làm: | ALS7: =IFERROR(Giadatvaheso!$J$4*(ALS17*Giadatvaheso!$C$7+ALS31*Giadatvaheso!$C$8),"") -> 0 | ALZ7: - Hỗ trợ đào tạo nghề và tìm việc làm: | AMD7: =IFERROR(Giadatvaheso!$J$4*(AMD17*Giadatvaheso!$C$7+AMD31*Giadatvaheso!$C$8),"") -> 0 | AMK7: - Hỗ trợ đào tạo nghề và tìm việc làm: | AMO7: =IFERROR(Giadatvaheso!$J$4*(AMO17*Giadatvaheso!$C$7+AMO31*Giadatvaheso!$C$8),"") -> 0 | AMV7: - Hỗ trợ đào tạo nghề và tìm việc làm: | AMZ7: =IFERROR(Giadatvaheso!$J$4*(AMZ17*Giadatvaheso!$C$7+AMZ31*Giadatvaheso!$C$8),"") -> 0 | ANG7: - Hỗ trợ đào tạo nghề và tìm việc làm: | ANK7: =IFERROR(Giadatvaheso!$J$4*(ANK17*Giadatvaheso!$C$7+ANK31*Giadatvaheso!$C$8),"") -> 0 | ANR7: - Hỗ trợ đào tạo nghề và tìm việc làm: | ANV7: =IFERROR(Giadatvaheso!$J$4*(ANV17*Giadatvaheso!$C$7+ANV31*Giadatvaheso!$C$8),"") -> 0 | AOC7: - Hỗ trợ đào tạo nghề và tìm việc làm: | AOG7: =IFERROR(Giadatvaheso!$J$4*(AOG17*Giadatvaheso!$C$7+AOG31*Giadatvaheso!$C$8),"") -> 0 | AON7: - Hỗ trợ đào tạo nghề và tìm việc làm: | AOR7: =IFERROR(Giadatvaheso!$J$4*(AOR17*Giadatvaheso!$C$7+AOR31*Giadatvaheso!$C$8),"") -> 0 | AOY7: - Hỗ trợ đào tạo nghề và tìm việc làm: | APC7: =IFERROR(Giadatvaheso!$J$4*(APC17*Giadatvaheso!$C$7+APC31*Giadatvaheso!$C$8),"") -> 0 | APJ7: - Hỗ trợ đào tạo nghề và tìm việc làm: | APN7: =IFERROR(Giadatvaheso!$J$4*(APN17*Giadatvaheso!$C$7+APN31*Giadatvaheso!$C$8),"") -> 0 | APU7: - Hỗ trợ đào tạo nghề và tìm việc làm: | APY7: =IFERROR(Giadatvaheso!$J$4*(APY17*Giadatvaheso!$C$7+APY31*Giadatvaheso!$C$8),"") -> 0 | AQF7: - Hỗ trợ đào tạo nghề và tìm việc làm: | AQJ7: =IFERROR(Giadatvaheso!$J$4*(AQJ17*Giadatvaheso!$C$7+AQJ31*Giadatvaheso!$C$8),"") -> 0 | AQQ7: - Hỗ trợ đào tạo nghề và tìm việc làm: | AQU7: =IFERROR(Giadatvaheso!$J$4*(AQU17*Giadatvaheso!$C$7+AQU31*Giadatvaheso!$C$8),"") -> 0 | ARB7: - Hỗ trợ đào tạo nghề và tìm việc làm: | ARF7: =IFERROR(Giadatvaheso!$J$4*(ARF17*Giadatvaheso!$C$7+ARF31*Giadatvaheso!$C$8),"") -> 0 | ARM7: - Hỗ trợ đào tạo nghề và tìm việc làm: | ARQ7: =IFERROR(Giadatvaheso!$J$4*(ARQ17*Giadatvaheso!$C$7+ARQ31*Giadatvaheso!$C$8),"") -> 0 | ARX7: - Hỗ trợ đào tạo nghề và tìm việc làm: | ASB7: =IFERROR(Giadatvaheso!$J$4*(ASB17*Giadatvaheso!$C$7+ASB31*Giadatvaheso!$C$8),"") -> 0 | ASI7: - Hỗ trợ đào tạo nghề và tìm việc làm: | ASM7: =IFERROR(Giadatvaheso!$J$4*(ASM17*Giadatvaheso!$C$7+ASM31*Giadatvaheso!$C$8),"") -> 0 | AST7: - Hỗ trợ đào tạo nghề và tìm việc làm: | ASX7: =IFERROR(Giadatvaheso!$J$4*(ASX17*Giadatvaheso!$C$7+ASX31*Giadatvaheso!$C$8),"") -> 0 | ATE7: - Hỗ trợ đào tạo nghề và tìm việc làm: | ATI7: =IFERROR(Giadatvaheso!$J$4*(ATI17*Giadatvaheso!$C$7+ATI31*Giadatvaheso!$C$8),"") -> 0 | ATP7: - Hỗ trợ đào tạo nghề và tìm việc làm: | ATT7: =IFERROR(Giadatvaheso!$J$4*(ATT17*Giadatvaheso!$C$7+ATT31*Giadatvaheso!$C$8),"") -> 0 | AUA7: - Hỗ trợ đào tạo nghề và tìm việc làm: | AUE7: =IFERROR(Giadatvaheso!$J$4*(AUE17*Giadatvaheso!$C$7+AUE31*Giadatvaheso!$C$8),"") -> 0 | AUL7: - Hỗ trợ đào tạo nghề và tìm việc làm: | AUP7: =IFERROR(Giadatvaheso!$J$4*(AUP17*Giadatvaheso!$C$7+AUP31*Giadatvaheso!$C$8),"") -> 0 | AUW7: - Hỗ trợ đào tạo nghề và tìm việc làm: | AVA7: =IFERROR(Giadatvaheso!$J$4*(AVA17*Giadatvaheso!$C$7+AVA31*Giadatvaheso!$C$8),"") -> 0 | AVH7: - Hỗ trợ đào tạo nghề và tìm việc làm: | AVL7: =IFERROR(Giadatvaheso!$J$4*(AVL17*Giadatvaheso!$C$7+AVL31*Giadatvaheso!$C$8),"") -> 0 | AVS7: - Hỗ trợ đào tạo nghề và tìm việc làm: | AVW7: =IFERROR(Giadatvaheso!$J$4*(AVW17*Giadatvaheso!$C$7+AVW31*Giadatvaheso!$C$8),"") -> 0
B8: - Hỗ trợ sản xuất, kinh doanh: | F8: =IFERROR(0.2*Giadatvaheso!$J$4*(0.3*(F22*Giadatvaheso!$C$7+F36*Giadatvaheso!$C$8)),"") -> 17814000 | M8: - Hỗ trợ sản xuất, kinh doanh: | Q8: =IFERROR(0.2*Giadatvaheso!$J$4*(0.3*(Q22*Giadatvaheso!$C$7+Q36*Giadatvaheso!$C$8)),"") -> 18027000 | X8: - Hỗ trợ sản xuất, kinh doanh: | AB8: =IFERROR(0.2*Giadatvaheso!$J$4*(0.3*(AB22*Giadatvaheso!$C$7+AB36*Giadatvaheso!$C$8)),"") -> 19626000 | AI8: - Hỗ trợ sản xuất, kinh doanh: | AM8: =IFERROR(0.2*Giadatvaheso!$J$4*(0.3*(AM22*Giadatvaheso!$C$7+AM36*Giadatvaheso!$C$8)),"") -> 6510000 | AT8: - Hỗ trợ sản xuất, kinh doanh: | AX8: =IFERROR(0.2*Giadatvaheso!$J$4*(0.3*(AX22*Giadatvaheso!$C$7+AX36*Giadatvaheso!$C$8)),"") -> 4155000 | BE8: - Hỗ trợ sản xuất, kinh doanh: | BI8: =IFERROR(0.2*Giadatvaheso!$J$4*(0.3*(BI22*Giadatvaheso!$C$7+BI36*Giadatvaheso!$C$8)),"") -> 16410000 | BP8: - Hỗ trợ sản xuất, kinh doanh: | BT8: =IFERROR(0.2*Giadatvaheso!$J$4*(0.3*(BT22*Giadatvaheso!$C$7+BT36*Giadatvaheso!$C$8)),"") -> 13560000 | CA8: - Hỗ trợ sản xuất, kinh doanh: | CE8: =IFERROR(0.2*Giadatvaheso!$J$4*(0.3*(CE22*Giadatvaheso!$C$7+CE36*Giadatvaheso!$C$8)),"") -> 8220000 | CL8: - Hỗ trợ sản xuất, kinh doanh: | CP8: =IFERROR(0.2*Giadatvaheso!$J$4*(0.3*(CP22*Giadatvaheso!$C$7+CP36*Giadatvaheso!$C$8)),"") -> 5820000 | CW8: - Hỗ trợ sản xuất, kinh doanh: | DA8: =IFERROR(0.2*Giadatvaheso!$J$4*(0.3*(DA22*Giadatvaheso!$C$7+DA36*Giadatvaheso!$C$8)),"") -> 165000 | DH8: - Hỗ trợ sản xuất, kinh doanh: | DL8: =IFERROR(0.2*Giadatvaheso!$J$4*(0.3*(DL22*Giadatvaheso!$C$7+DL36*Giadatvaheso!$C$8)),"") -> 0 | DS8: - Hỗ trợ sản xuất, kinh doanh: | DW8: =IFERROR(0.2*Giadatvaheso!$J$4*(0.3*(DW22*Giadatvaheso!$C$7+DW36*Giadatvaheso!$C$8)),"") -> 0 | ED8: - Hỗ trợ sản xuất, kinh doanh: | EH8: =IFERROR(0.2*Giadatvaheso!$J$4*(0.3*(EH22*Giadatvaheso!$C$7+EH36*Giadatvaheso!$C$8)),"") -> 0 | EO8: - Hỗ trợ sản xuất, kinh doanh: | ES8: =IFERROR(0.2*Giadatvaheso!$J$4*(0.3*(ES22*Giadatvaheso!$C$7+ES36*Giadatvaheso!$C$8)),"") -> 0 | EZ8: - Hỗ trợ sản xuất, kinh doanh: | FD8: =IFERROR(0.2*Giadatvaheso!$J$4*(0.3*(FD22*Giadatvaheso!$C$7+FD36*Giadatvaheso!$C$8)),"") -> 0 | FK8: - Hỗ trợ sản xuất, kinh doanh: | FO8: =IFERROR(0.2*Giadatvaheso!$J$4*(0.3*(FO22*Giadatvaheso!$C$7+FO36*Giadatvaheso!$C$8)),"") -> 0 | FV8: - Hỗ trợ sản xuất, kinh doanh: | FZ8: =IFERROR(0.2*Giadatvaheso!$J$4*(0.3*(FZ22*Giadatvaheso!$C$7+FZ36*Giadatvaheso!$C$8)),"") -> 0 | GG8: - Hỗ trợ sản xuất, kinh doanh: | GK8: =IFERROR(0.2*Giadatvaheso!$J$4*(0.3*(GK22*Giadatvaheso!$C$7+GK36*Giadatvaheso!$C$8)),"") -> 0 | GR8: - Hỗ trợ sản xuất, kinh doanh: | GV8: =IFERROR(0.2*Giadatvaheso!$J$4*(0.3*(GV22*Giadatvaheso!$C$7+GV36*Giadatvaheso!$C$8)),"") -> 0 | HC8: - Hỗ trợ sản xuất, kinh doanh: | HG8: =IFERROR(0.2*Giadatvaheso!$J$4*(0.3*(HG22*Giadatvaheso!$C$7+HG36*Giadatvaheso!$C$8)),"") -> 0 | HN8: - Hỗ trợ sản xuất, kinh doanh: | HR8: =IFERROR(0.2*Giadatvaheso!$J$4*(0.3*(HR22*Giadatvaheso!$C$7+HR36*Giadatvaheso!$C$8)),"") -> 0 | HY8: - Hỗ trợ sản xuất, kinh doanh: | IC8: =IFERROR(0.2*Giadatvaheso!$J$4*(0.3*(IC22*Giadatvaheso!$C$7+IC36*Giadatvaheso!$C$8)),"") -> 0 | IJ8: - Hỗ trợ sản xuất, kinh doanh: | IN8: =IFERROR(0.2*Giadatvaheso!$J$4*(0.3*(IN22*Giadatvaheso!$C$7+IN36*Giadatvaheso!$C$8)),"") -> 0 | IU8: - Hỗ trợ sản xuất, kinh doanh: | IY8: =IFERROR(0.2*Giadatvaheso!$J$4*(0.3*(IY22*Giadatvaheso!$C$7+IY36*Giadatvaheso!$C$8)),"") -> 0 | JF8: - Hỗ trợ sản xuất, kinh doanh: | JJ8: =IFERROR(0.2*Giadatvaheso!$J$4*(0.3*(JJ22*Giadatvaheso!$C$7+JJ36*Giadatvaheso!$C$8)),"") -> 0 | JQ8: - Hỗ trợ sản xuất, kinh doanh: | JU8: =IFERROR(0.2*Giadatvaheso!$J$4*(0.3*(JU22*Giadatvaheso!$C$7+JU36*Giadatvaheso!$C$8)),"") -> 0 | KB8: - Hỗ trợ sản xuất, kinh doanh: | KF8: =IFERROR(0.2*Giadatvaheso!$J$4*(0.3*(KF22*Giadatvaheso!$C$7+KF36*Giadatvaheso!$C$8)),"") -> 0 | KM8: - Hỗ trợ sản xuất, kinh doanh: | KQ8: =IFERROR(0.2*Giadatvaheso!$J$4*(0.3*(KQ22*Giadatvaheso!$C$7+KQ36*Giadatvaheso!$C$8)),"") -> 0 | KX8: - Hỗ trợ sản xuất, kinh doanh: | LB8: =IFERROR(0.2*Giadatvaheso!$J$4*(0.3*(LB22*Giadatvaheso!$C$7+LB36*Giadatvaheso!$C$8)),"") -> 0 | LI8: - Hỗ trợ sản xuất, kinh doanh: | LM8: =IFERROR(0.2*Giadatvaheso!$J$4*(0.3*(LM22*Giadatvaheso!$C$7+LM36*Giadatvaheso!$C$8)),"") -> 0 | LT8: - Hỗ trợ sản xuất, kinh doanh: | LX8: =IFERROR(0.2*Giadatvaheso!$J$4*(0.3*(LX22*Giadatvaheso!$C$7+LX36*Giadatvaheso!$C$8)),"") -> 0 | ME8: - Hỗ trợ sản xuất, kinh doanh: | MI8: =IFERROR(0.2*Giadatvaheso!$J$4*(0.3*(MI22*Giadatvaheso!$C$7+MI36*Giadatvaheso!$C$8)),"") -> 0 | MP8: - Hỗ trợ sản xuất, kinh doanh: | MT8: =IFERROR(0.2*Giadatvaheso!$J$4*(0.3*(MT22*Giadatvaheso!$C$7+MT36*Giadatvaheso!$C$8)),"") -> 0 | NA8: - Hỗ trợ sản xuất, kinh doanh: | NE8: =IFERROR(0.2*Giadatvaheso!$J$4*(0.3*(NE22*Giadatvaheso!$C$7+NE36*Giadatvaheso!$C$8)),"") -> 0 | NL8: - Hỗ trợ sản xuất, kinh doanh: | NP8: =IFERROR(0.2*Giadatvaheso!$J$4*(0.3*(NP22*Giadatvaheso!$C$7+NP36*Giadatvaheso!$C$8)),"") -> 0 | NW8: - Hỗ trợ sản xuất, kinh doanh: | OA8: =IFERROR(0.2*Giadatvaheso!$J$4*(0.3*(OA22*Giadatvaheso!$C$7+OA36*Giadatvaheso!$C$8)),"") -> 0 | OH8: - Hỗ trợ sản xuất, kinh doanh: | OL8: =IFERROR(0.2*Giadatvaheso!$J$4*(0.3*(OL22*Giadatvaheso!$C$7+OL36*Giadatvaheso!$C$8)),"") -> 0 | OS8: - Hỗ trợ sản xuất, kinh doanh: | OW8: =IFERROR(0.2*Giadatvaheso!$J$4*(0.3*(OW22*Giadatvaheso!$C$7+OW36*Giadatvaheso!$C$8)),"") -> 0 | PD8: - Hỗ trợ sản xuất, kinh doanh: | PH8: =IFERROR(0.2*Giadatvaheso!$J$4*(0.3*(PH22*Giadatvaheso!$C$7+PH36*Giadatvaheso!$C$8)),"") -> 0 | PO8: - Hỗ trợ sản xuất, kinh doanh: | PS8: =IFERROR(0.2*Giadatvaheso!$J$4*(0.3*(PS22*Giadatvaheso!$C$7+PS36*Giadatvaheso!$C$8)),"") -> 0 | PZ8: - Hỗ trợ sản xuất, kinh doanh: | QD8: =IFERROR(0.2*Giadatvaheso!$J$4*(0.3*(QD22*Giadatvaheso!$C$7+QD36*Giadatvaheso!$C$8)),"") -> 0 | QK8: - Hỗ trợ sản xuất, kinh doanh: | QO8: =IFERROR(0.2*Giadatvaheso!$J$4*(0.3*(QO22*Giadatvaheso!$C$7+QO36*Giadatvaheso!$C$8)),"") -> 0 | QV8: - Hỗ trợ sản xuất, kinh doanh: | QZ8: =IFERROR(0.2*Giadatvaheso!$J$4*(0.3*(QZ22*Giadatvaheso!$C$7+QZ36*Giadatvaheso!$C$8)),"") -> 0 | RG8: - Hỗ trợ sản xuất, kinh doanh: | RK8: =IFERROR(0.2*Giadatvaheso!$J$4*(0.3*(RK22*Giadatvaheso!$C$7+RK36*Giadatvaheso!$C$8)),"") -> 0 | RR8: - Hỗ trợ sản xuất, kinh doanh: | RV8: =IFERROR(0.2*Giadatvaheso!$J$4*(0.3*(RV22*Giadatvaheso!$C$7+RV36*Giadatvaheso!$C$8)),"") -> 0 | SC8: - Hỗ trợ sản xuất, kinh doanh: | SG8: =IFERROR(0.2*Giadatvaheso!$J$4*(0.3*(SG22*Giadatvaheso!$C$7+SG36*Giadatvaheso!$C$8)),"") -> 0 | SN8: - Hỗ trợ sản xuất, kinh doanh: | SR8: =IFERROR(0.2*Giadatvaheso!$J$4*(0.3*(SR22*Giadatvaheso!$C$7+SR36*Giadatvaheso!$C$8)),"") -> 0 | SY8: - Hỗ trợ sản xuất, kinh doanh: | TC8: =IFERROR(0.2*Giadatvaheso!$J$4*(0.3*(TC22*Giadatvaheso!$C$7+TC36*Giadatvaheso!$C$8)),"") -> 0 | TJ8: - Hỗ trợ sản xuất, kinh doanh: | TN8: =IFERROR(0.2*Giadatvaheso!$J$4*(0.3*(TN22*Giadatvaheso!$C$7+TN36*Giadatvaheso!$C$8)),"") -> 0 | TU8: - Hỗ trợ sản xuất, kinh doanh: | TY8: =IFERROR(0.2*Giadatvaheso!$J$4*(0.3*(TY22*Giadatvaheso!$C$7+TY36*Giadatvaheso!$C$8)),"") -> 0 | UF8: - Hỗ trợ sản xuất, kinh doanh: | UJ8: =IFERROR(0.2*Giadatvaheso!$J$4*(0.3*(UJ22*Giadatvaheso!$C$7+UJ36*Giadatvaheso!$C$8)),"") -> 0 | UQ8: - Hỗ trợ sản xuất, kinh doanh: | UU8: =IFERROR(0.2*Giadatvaheso!$J$4*(0.3*(UU22*Giadatvaheso!$C$7+UU36*Giadatvaheso!$C$8)),"") -> 0 | VB8: - Hỗ trợ sản xuất, kinh doanh: | VF8: =IFERROR(0.2*Giadatvaheso!$J$4*(0.3*(VF22*Giadatvaheso!$C$7+VF36*Giadatvaheso!$C$8)),"") -> 0 | VM8: - Hỗ trợ sản xuất, kinh doanh: | VQ8: =IFERROR(0.2*Giadatvaheso!$J$4*(0.3*(VQ22*Giadatvaheso!$C$7+VQ36*Giadatvaheso!$C$8)),"") -> 0 | VX8: - Hỗ trợ sản xuất, kinh doanh: | WB8: =IFERROR(0.2*Giadatvaheso!$J$4*(0.3*(WB22*Giadatvaheso!$C$7+WB36*Giadatvaheso!$C$8)),"") -> 0 | WI8: - Hỗ trợ sản xuất, kinh doanh: | WM8: =IFERROR(0.2*Giadatvaheso!$J$4*(0.3*(WM22*Giadatvaheso!$C$7+WM36*Giadatvaheso!$C$8)),"") -> 0 | WT8: - Hỗ trợ sản xuất, kinh doanh: | WX8: =IFERROR(0.2*Giadatvaheso!$J$4*(0.3*(WX22*Giadatvaheso!$C$7+WX36*Giadatvaheso!$C$8)),"") -> 0 | XE8: - Hỗ trợ sản xuất, kinh doanh: | XI8: =IFERROR(0.2*Giadatvaheso!$J$4*(0.3*(XI22*Giadatvaheso!$C$7+XI36*Giadatvaheso!$C$8)),"") -> 0 | XP8: - Hỗ trợ sản xuất, kinh doanh: | XT8: =IFERROR(0.2*Giadatvaheso!$J$4*(0.3*(XT22*Giadatvaheso!$C$7+XT36*Giadatvaheso!$C$8)),"") -> 0 | YA8: - Hỗ trợ sản xuất, kinh doanh: | YE8: =IFERROR(0.2*Giadatvaheso!$J$4*(0.3*(YE22*Giadatvaheso!$C$7+YE36*Giadatvaheso!$C$8)),"") -> 0 | YL8: - Hỗ trợ sản xuất, kinh doanh: | YP8: =IFERROR(0.2*Giadatvaheso!$J$4*(0.3*(YP22*Giadatvaheso!$C$7+YP36*Giadatvaheso!$C$8)),"") -> 0 | YW8: - Hỗ trợ sản xuất, kinh doanh: | ZA8: =IFERROR(0.2*Giadatvaheso!$J$4*(0.3*(ZA22*Giadatvaheso!$C$7+ZA36*Giadatvaheso!$C$8)),"") -> 0 | ZH8: - Hỗ trợ sản xuất, kinh doanh: | ZL8: =IFERROR(0.2*Giadatvaheso!$J$4*(0.3*(ZL22*Giadatvaheso!$C$7+ZL36*Giadatvaheso!$C$8)),"") -> 0 | ZS8: - Hỗ trợ sản xuất, kinh doanh: | ZW8: =IFERROR(0.2*Giadatvaheso!$J$4*(0.3*(ZW22*Giadatvaheso!$C$7+ZW36*Giadatvaheso!$C$8)),"") -> 0 | AAD8: - Hỗ trợ sản xuất, kinh doanh: | AAH8: =IFERROR(0.2*Giadatvaheso!$J$4*(0.3*(AAH22*Giadatvaheso!$C$7+AAH36*Giadatvaheso!$C$8)),"") -> 0 | AAO8: - Hỗ trợ sản xuất, kinh doanh: | AAS8: =IFERROR(0.2*Giadatvaheso!$J$4*(0.3*(AAS22*Giadatvaheso!$C$7+AAS36*Giadatvaheso!$C$8)),"") -> 0 | AAZ8: - Hỗ trợ sản xuất, kinh doanh: | ABD8: =IFERROR(0.2*Giadatvaheso!$J$4*(0.3*(ABD22*Giadatvaheso!$C$7+ABD36*Giadatvaheso!$C$8)),"") -> 0 | ABK8: - Hỗ trợ sản xuất, kinh doanh: | ABO8: =IFERROR(0.2*Giadatvaheso!$J$4*(0.3*(ABO22*Giadatvaheso!$C$7+ABO36*Giadatvaheso!$C$8)),"") -> 0 | ABV8: - Hỗ trợ sản xuất, kinh doanh: | ABZ8: =IFERROR(0.2*Giadatvaheso!$J$4*(0.3*(ABZ22*Giadatvaheso!$C$7+ABZ36*Giadatvaheso!$C$8)),"") -> 0 | ACG8: - Hỗ trợ sản xuất, kinh doanh: | ACK8: =IFERROR(0.2*Giadatvaheso!$J$4*(0.3*(ACK22*Giadatvaheso!$C$7+ACK36*Giadatvaheso!$C$8)),"") -> 0 | ACR8: - Hỗ trợ sản xuất, kinh doanh: | ACV8: =IFERROR(0.2*Giadatvaheso!$J$4*(0.3*(ACV22*Giadatvaheso!$C$7+ACV36*Giadatvaheso!$C$8)),"") -> 0 | ADC8: - Hỗ trợ sản xuất, kinh doanh: | ADG8: =IFERROR(0.2*Giadatvaheso!$J$4*(0.3*(ADG22*Giadatvaheso!$C$7+ADG36*Giadatvaheso!$C$8)),"") -> 0 | ADN8: - Hỗ trợ sản xuất, kinh doanh: | ADR8: =IFERROR(0.2*Giadatvaheso!$J$4*(0.3*(ADR22*Giadatvaheso!$C$7+ADR36*Giadatvaheso!$C$8)),"") -> 0 | ADY8: - Hỗ trợ sản xuất, kinh doanh: | AEC8: =IFERROR(0.2*Giadatvaheso!$J$4*(0.3*(AEC22*Giadatvaheso!$C$7+AEC36*Giadatvaheso!$C$8)),"") -> 0 | AEJ8: - Hỗ trợ sản xuất, kinh doanh: | AEN8: =IFERROR(0.2*Giadatvaheso!$J$4*(0.3*(AEN22*Giadatvaheso!$C$7+AEN36*Giadatvaheso!$C$8)),"") -> 0 | AEU8: - Hỗ trợ sản xuất, kinh doanh: | AEY8: =IFERROR(0.2*Giadatvaheso!$J$4*(0.3*(AEY22*Giadatvaheso!$C$7+AEY36*Giadatvaheso!$C$8)),"") -> 0 | AFF8: - Hỗ trợ sản xuất, kinh doanh: | AFJ8: =IFERROR(0.2*Giadatvaheso!$J$4*(0.3*(AFJ22*Giadatvaheso!$C$7+AFJ36*Giadatvaheso!$C$8)),"") -> 0 | AFQ8: - Hỗ trợ sản xuất, kinh doanh: | AFU8: =IFERROR(0.2*Giadatvaheso!$J$4*(0.3*(AFU22*Giadatvaheso!$C$7+AFU36*Giadatvaheso!$C$8)),"") -> 0 | AGB8: - Hỗ trợ sản xuất, kinh doanh: | AGF8: =IFERROR(0.2*Giadatvaheso!$J$4*(0.3*(AGF22*Giadatvaheso!$C$7+AGF36*Giadatvaheso!$C$8)),"") -> 0 | AGM8: - Hỗ trợ sản xuất, kinh doanh: | AGQ8: =IFERROR(0.2*Giadatvaheso!$J$4*(0.3*(AGQ22*Giadatvaheso!$C$7+AGQ36*Giadatvaheso!$C$8)),"") -> 0 | AGX8: - Hỗ trợ sản xuất, kinh doanh: | AHB8: =IFERROR(0.2*Giadatvaheso!$J$4*(0.3*(AHB22*Giadatvaheso!$C$7+AHB36*Giadatvaheso!$C$8)),"") -> 0 | AHI8: - Hỗ trợ sản xuất, kinh doanh: | AHM8: =IFERROR(0.2*Giadatvaheso!$J$4*(0.3*(AHM22*Giadatvaheso!$C$7+AHM36*Giadatvaheso!$C$8)),"") -> 0 | AHT8: - Hỗ trợ sản xuất, kinh doanh: | AHX8: =IFERROR(0.2*Giadatvaheso!$J$4*(0.3*(AHX22*Giadatvaheso!$C$7+AHX36*Giadatvaheso!$C$8)),"") -> 0 | AIE8: - Hỗ trợ sản xuất, kinh doanh: | AII8: =IFERROR(0.2*Giadatvaheso!$J$4*(0.3*(AII22*Giadatvaheso!$C$7+AII36*Giadatvaheso!$C$8)),"") -> 0 | AIP8: - Hỗ trợ sản xuất, kinh doanh: | AIT8: =IFERROR(0.2*Giadatvaheso!$J$4*(0.3*(AIT22*Giadatvaheso!$C$7+AIT36*Giadatvaheso!$C$8)),"") -> 0 | AJA8: - Hỗ trợ sản xuất, kinh doanh: | AJE8: =IFERROR(0.2*Giadatvaheso!$J$4*(0.3*(AJE22*Giadatvaheso!$C$7+AJE36*Giadatvaheso!$C$8)),"") -> 0 | AJL8: - Hỗ trợ sản xuất, kinh doanh: | AJP8: =IFERROR(0.2*Giadatvaheso!$J$4*(0.3*(AJP22*Giadatvaheso!$C$7+AJP36*Giadatvaheso!$C$8)),"") -> 0 | AJW8: - Hỗ trợ sản xuất, kinh doanh: | AKA8: =IFERROR(0.2*Giadatvaheso!$J$4*(0.3*(AKA22*Giadatvaheso!$C$7+AKA36*Giadatvaheso!$C$8)),"") -> 0 | AKH8: - Hỗ trợ sản xuất, kinh doanh: | AKL8: =IFERROR(0.2*Giadatvaheso!$J$4*(0.3*(AKL22*Giadatvaheso!$C$7+AKL36*Giadatvaheso!$C$8)),"") -> 0 | AKS8: - Hỗ trợ sản xuất, kinh doanh: | AKW8: =IFERROR(0.2*Giadatvaheso!$J$4*(0.3*(AKW22*Giadatvaheso!$C$7+AKW36*Giadatvaheso!$C$8)),"") -> 0 | ALD8: - Hỗ trợ sản xuất, kinh doanh: | ALH8: =IFERROR(0.2*Giadatvaheso!$J$4*(0.3*(ALH22*Giadatvaheso!$C$7+ALH36*Giadatvaheso!$C$8)),"") -> 0 | ALO8: - Hỗ trợ sản xuất, kinh doanh: | ALS8: =IFERROR(0.2*Giadatvaheso!$J$4*(0.3*(ALS22*Giadatvaheso!$C$7+ALS36*Giadatvaheso!$C$8)),"") -> 0 | ALZ8: - Hỗ trợ sản xuất, kinh doanh: | AMD8: =IFERROR(0.2*Giadatvaheso!$J$4*(0.3*(AMD22*Giadatvaheso!$C$7+AMD36*Giadatvaheso!$C$8)),"") -> 0 | AMK8: - Hỗ trợ sản xuất, kinh doanh: | AMO8: =IFERROR(0.2*Giadatvaheso!$J$4*(0.3*(AMO22*Giadatvaheso!$C$7+AMO36*Giadatvaheso!$C$8)),"") -> 0 | AMV8: - Hỗ trợ sản xuất, kinh doanh: | AMZ8: =IFERROR(0.2*Giadatvaheso!$J$4*(0.3*(AMZ22*Giadatvaheso!$C$7+AMZ36*Giadatvaheso!$C$8)),"") -> 0 | ANG8: - Hỗ trợ sản xuất, kinh doanh: | ANK8: =IFERROR(0.2*Giadatvaheso!$J$4*(0.3*(ANK22*Giadatvaheso!$C$7+ANK36*Giadatvaheso!$C$8)),"") -> 0 | ANR8: - Hỗ trợ sản xuất, kinh doanh: | ANV8: =IFERROR(0.2*Giadatvaheso!$J$4*(0.3*(ANV22*Giadatvaheso!$C$7+ANV36*Giadatvaheso!$C$8)),"") -> 0 | AOC8: - Hỗ trợ sản xuất, kinh doanh: | AOG8: =IFERROR(0.2*Giadatvaheso!$J$4*(0.3*(AOG22*Giadatvaheso!$C$7+AOG36*Giadatvaheso!$C$8)),"") -> 0 | AON8: - Hỗ trợ sản xuất, kinh doanh: | AOR8: =IFERROR(0.2*Giadatvaheso!$J$4*(0.3*(AOR22*Giadatvaheso!$C$7+AOR36*Giadatvaheso!$C$8)),"") -> 0 | AOY8: - Hỗ trợ sản xuất, kinh doanh: | APC8: =IFERROR(0.2*Giadatvaheso!$J$4*(0.3*(APC22*Giadatvaheso!$C$7+APC36*Giadatvaheso!$C$8)),"") -> 0 | APJ8: - Hỗ trợ sản xuất, kinh doanh: | APN8: =IFERROR(0.2*Giadatvaheso!$J$4*(0.3*(APN22*Giadatvaheso!$C$7+APN36*Giadatvaheso!$C$8)),"") -> 0 | APU8: - Hỗ trợ sản xuất, kinh doanh: | APY8: =IFERROR(0.2*Giadatvaheso!$J$4*(0.3*(APY22*Giadatvaheso!$C$7+APY36*Giadatvaheso!$C$8)),"") -> 0 | AQF8: - Hỗ trợ sản xuất, kinh doanh: | AQJ8: =IFERROR(0.2*Giadatvaheso!$J$4*(0.3*(AQJ22*Giadatvaheso!$C$7+AQJ36*Giadatvaheso!$C$8)),"") -> 0 | AQQ8: - Hỗ trợ sản xuất, kinh doanh: | AQU8: =IFERROR(0.2*Giadatvaheso!$J$4*(0.3*(AQU22*Giadatvaheso!$C$7+AQU36*Giadatvaheso!$C$8)),"") -> 0 | ARB8: - Hỗ trợ sản xuất, kinh doanh: | ARF8: =IFERROR(0.2*Giadatvaheso!$J$4*(0.3*(ARF22*Giadatvaheso!$C$7+ARF36*Giadatvaheso!$C$8)),"") -> 0 | ARM8: - Hỗ trợ sản xuất, kinh doanh: | ARQ8: =IFERROR(0.2*Giadatvaheso!$J$4*(0.3*(ARQ22*Giadatvaheso!$C$7+ARQ36*Giadatvaheso!$C$8)),"") -> 0 | ARX8: - Hỗ trợ sản xuất, kinh doanh: | ASB8: =IFERROR(0.2*Giadatvaheso!$J$4*(0.3*(ASB22*Giadatvaheso!$C$7+ASB36*Giadatvaheso!$C$8)),"") -> 0 | ASI8: - Hỗ trợ sản xuất, kinh doanh: | ASM8: =IFERROR(0.2*Giadatvaheso!$J$4*(0.3*(ASM22*Giadatvaheso!$C$7+ASM36*Giadatvaheso!$C$8)),"") -> 0 | AST8: - Hỗ trợ sản xuất, kinh doanh: | ASX8: =IFERROR(0.2*Giadatvaheso!$J$4*(0.3*(ASX22*Giadatvaheso!$C$7+ASX36*Giadatvaheso!$C$8)),"") -> 0 | ATE8: - Hỗ trợ sản xuất, kinh doanh: | ATI8: =IFERROR(0.2*Giadatvaheso!$J$4*(0.3*(ATI22*Giadatvaheso!$C$7+ATI36*Giadatvaheso!$C$8)),"") -> 0 | ATP8: - Hỗ trợ sản xuất, kinh doanh: | ATT8: =IFERROR(0.2*Giadatvaheso!$J$4*(0.3*(ATT22*Giadatvaheso!$C$7+ATT36*Giadatvaheso!$C$8)),"") -> 0 | AUA8: - Hỗ trợ sản xuất, kinh doanh: | AUE8: =IFERROR(0.2*Giadatvaheso!$J$4*(0.3*(AUE22*Giadatvaheso!$C$7+AUE36*Giadatvaheso!$C$8)),"") -> 0 | AUL8: - Hỗ trợ sản xuất, kinh doanh: | AUP8: =IFERROR(0.2*Giadatvaheso!$J$4*(0.3*(AUP22*Giadatvaheso!$C$7+AUP36*Giadatvaheso!$C$8)),"") -> 0 | AUW8: - Hỗ trợ sản xuất, kinh doanh: | AVA8: =IFERROR(0.2*Giadatvaheso!$J$4*(0.3*(AVA22*Giadatvaheso!$C$7+AVA36*Giadatvaheso!$C$8)),"") -> 0 | AVH8: - Hỗ trợ sản xuất, kinh doanh: | AVL8: =IFERROR(0.2*Giadatvaheso!$J$4*(0.3*(AVL22*Giadatvaheso!$C$7+AVL36*Giadatvaheso!$C$8)),"") -> 0 | AVS8: - Hỗ trợ sản xuất, kinh doanh: | AVW8: =IFERROR(0.2*Giadatvaheso!$J$4*(0.3*(AVW22*Giadatvaheso!$C$7+AVW36*Giadatvaheso!$C$8)),"") -> 0
B9: - Hỗ trợ ổn định đời sống:: | F9: =IFERROR(VLOOKUP(F3,TrichLuc!$A:$AD,29,0)*IF(VLOOKUP(F3,TrichLuc!$A:$AD,24,0)>70,Giadatvaheso!$J$11,IF(VLOOKUP(F3,TrichLuc!$A:$AD,24,0)>=30,Giadatvaheso!$J$10,Giadatvaheso!$J$9)),"") -> 27000000 | M9: - Hỗ trợ ổn định đời sống: | Q9: =IFERROR(VLOOKUP(Q3,TrichLuc!$A:$AD,29,0)*IF(VLOOKUP(Q3,TrichLuc!$A:$AD,24,0)>70,Giadatvaheso!$J$11,IF(VLOOKUP(Q3,TrichLuc!$A:$AD,24,0)>=30,Giadatvaheso!$J$10,Giadatvaheso!$J$9)),"") -> 25200000 | X9: - Hỗ trợ ổn định đời sống: | AB9: =IFERROR(VLOOKUP(AB3,TrichLuc!$A:$AD,29,0)*IF(VLOOKUP(AB3,TrichLuc!$A:$AD,24,0)>70,Giadatvaheso!$J$11,IF(VLOOKUP(AB3,TrichLuc!$A:$AD,24,0)>=30,Giadatvaheso!$J$10,Giadatvaheso!$J$9)),"") -> 18000000 | AI9: - Hỗ trợ ổn định đời sống: | AM9: =IFERROR(VLOOKUP(AM3,TrichLuc!$A:$AD,29,0)*IF(VLOOKUP(AM3,TrichLuc!$A:$AD,24,0)>70,Giadatvaheso!$J$11,IF(VLOOKUP(AM3,TrichLuc!$A:$AD,24,0)>=30,Giadatvaheso!$J$10,Giadatvaheso!$J$9)),"") -> 10800000 | AT9: - Hỗ trợ ổn định đời sống: | AX9: =IFERROR(VLOOKUP(AX3,TrichLuc!$A:$AD,29,0)*IF(VLOOKUP(AX3,TrichLuc!$A:$AD,24,0)>70,Giadatvaheso!$J$11,IF(VLOOKUP(AX3,TrichLuc!$A:$AD,24,0)>=30,Giadatvaheso!$J$10,Giadatvaheso!$J$9)),"") -> 16200000 | BE9: - Hỗ trợ ổn định đời sống: | BI9: =IFERROR(VLOOKUP(BI3,TrichLuc!$A:$AD,29,0)*IF(VLOOKUP(BI3,TrichLuc!$A:$AD,24,0)>70,Giadatvaheso!$J$11,IF(VLOOKUP(BI3,TrichLuc!$A:$AD,24,0)>=30,Giadatvaheso!$J$10,Giadatvaheso!$J$9)),"") -> 28800000 | BP9: - Hỗ trợ ổn định đời sống: | BT9: =IFERROR(VLOOKUP(BT3,TrichLuc!$A:$AD,29,0)*IF(VLOOKUP(BT3,TrichLuc!$A:$AD,24,0)>70,Giadatvaheso!$J$11,IF(VLOOKUP(BT3,TrichLuc!$A:$AD,24,0)>=30,Giadatvaheso!$J$10,Giadatvaheso!$J$9)),"") -> 12600000 | CA9: - Hỗ trợ ổn định đời sống: | CE9: =IFERROR(VLOOKUP(CE3,TrichLuc!$A:$AD,29,0)*IF(VLOOKUP(CE3,TrichLuc!$A:$AD,24,0)>70,Giadatvaheso!$J$11,IF(VLOOKUP(CE3,TrichLuc!$A:$AD,24,0)>=30,Giadatvaheso!$J$10,Giadatvaheso!$J$9)),"") -> 14400000 | CL9: - Hỗ trợ ổn định đời sống: | CP9: =IFERROR(VLOOKUP(CP3,TrichLuc!$A:$AD,29,0)*IF(VLOOKUP(CP3,TrichLuc!$A:$AD,24,0)>70,Giadatvaheso!$J$11,IF(VLOOKUP(CP3,TrichLuc!$A:$AD,24,0)>=30,Giadatvaheso!$J$10,Giadatvaheso!$J$9)),"") -> 12600000 | CW9: - Hỗ trợ ổn định đời sống: | DA9: =IFERROR(VLOOKUP(DA3,TrichLuc!$A:$AD,29,0)*IF(VLOOKUP(DA3,TrichLuc!$A:$AD,24,0)>70,Giadatvaheso!$J$11,IF(VLOOKUP(DA3,TrichLuc!$A:$AD,24,0)>=30,Giadatvaheso!$J$10,Giadatvaheso!$J$9)),"") -> 12600000 | DH9: - Hỗ trợ ổn định đời sống: | DL9: =IFERROR(VLOOKUP(DL3,TrichLuc!$A:$AD,29,0)*IF(VLOOKUP(DL3,TrichLuc!$A:$AD,24,0)>70,Giadatvaheso!$J$11,IF(VLOOKUP(DL3,TrichLuc!$A:$AD,24,0)>=30,Giadatvaheso!$J$10,Giadatvaheso!$J$9)),"") | DS9: - Hỗ trợ ổn định đời sống: | DW9: =IFERROR(VLOOKUP(DW3,TrichLuc!$A:$AD,29,0)*IF(VLOOKUP(DW3,TrichLuc!$A:$AD,24,0)>70,Giadatvaheso!$J$11,IF(VLOOKUP(DW3,TrichLuc!$A:$AD,24,0)>=30,Giadatvaheso!$J$10,Giadatvaheso!$J$9)),"") | ED9: - Hỗ trợ ổn định đời sống: | EH9: =IFERROR(VLOOKUP(EH3,TrichLuc!$A:$AD,29,0)*IF(VLOOKUP(EH3,TrichLuc!$A:$AD,24,0)>70,Giadatvaheso!$J$11,IF(VLOOKUP(EH3,TrichLuc!$A:$AD,24,0)>=30,Giadatvaheso!$J$10,Giadatvaheso!$J$9)),"") | EO9: - Hỗ trợ ổn định đời sống: | ES9: =IFERROR(VLOOKUP(ES3,TrichLuc!$A:$AD,29,0)*IF(VLOOKUP(ES3,TrichLuc!$A:$AD,24,0)>70,Giadatvaheso!$J$11,IF(VLOOKUP(ES3,TrichLuc!$A:$AD,24,0)>=30,Giadatvaheso!$J$10,Giadatvaheso!$J$9)),"") | EZ9: - Hỗ trợ ổn định đời sống: | FD9: =IFERROR(VLOOKUP(FD3,TrichLuc!$A:$AD,29,0)*IF(VLOOKUP(FD3,TrichLuc!$A:$AD,24,0)>70,Giadatvaheso!$J$11,IF(VLOOKUP(FD3,TrichLuc!$A:$AD,24,0)>=30,Giadatvaheso!$J$10,Giadatvaheso!$J$9)),"") | FK9: - Hỗ trợ ổn định đời sống: | FO9: =IFERROR(VLOOKUP(FO3,TrichLuc!$A:$AD,29,0)*IF(VLOOKUP(FO3,TrichLuc!$A:$AD,24,0)>70,Giadatvaheso!$J$11,IF(VLOOKUP(FO3,TrichLuc!$A:$AD,24,0)>=30,Giadatvaheso!$J$10,Giadatvaheso!$J$9)),"") | FV9: - Hỗ trợ ổn định đời sống: | FZ9: =IFERROR(VLOOKUP(FZ3,TrichLuc!$A:$AD,29,0)*IF(VLOOKUP(FZ3,TrichLuc!$A:$AD,24,0)>70,Giadatvaheso!$J$11,IF(VLOOKUP(FZ3,TrichLuc!$A:$AD,24,0)>=30,Giadatvaheso!$J$10,Giadatvaheso!$J$9)),"") | GG9: - Hỗ trợ ổn định đời sống: | GK9: =IFERROR(VLOOKUP(GK3,TrichLuc!$A:$AD,29,0)*IF(VLOOKUP(GK3,TrichLuc!$A:$AD,24,0)>70,Giadatvaheso!$J$11,IF(VLOOKUP(GK3,TrichLuc!$A:$AD,24,0)>=30,Giadatvaheso!$J$10,Giadatvaheso!$J$9)),"") | GR9: - Hỗ trợ ổn định đời sống: | GV9: =IFERROR(VLOOKUP(GV3,TrichLuc!$A:$AD,29,0)*IF(VLOOKUP(GV3,TrichLuc!$A:$AD,24,0)>70,Giadatvaheso!$J$11,IF(VLOOKUP(GV3,TrichLuc!$A:$AD,24,0)>=30,Giadatvaheso!$J$10,Giadatvaheso!$J$9)),"") | HC9: - Hỗ trợ ổn định đời sống: | HG9: =IFERROR(VLOOKUP(HG3,TrichLuc!$A:$AD,29,0)*IF(VLOOKUP(HG3,TrichLuc!$A:$AD,24,0)>70,Giadatvaheso!$J$11,IF(VLOOKUP(HG3,TrichLuc!$A:$AD,24,0)>=30,Giadatvaheso!$J$10,Giadatvaheso!$J$9)),"") | HN9: - Hỗ trợ ổn định đời sống: | HR9: =IFERROR(VLOOKUP(HR3,TrichLuc!$A:$AD,29,0)*IF(VLOOKUP(HR3,TrichLuc!$A:$AD,24,0)>70,Giadatvaheso!$J$11,IF(VLOOKUP(HR3,TrichLuc!$A:$AD,24,0)>=30,Giadatvaheso!$J$10,Giadatvaheso!$J$9)),"") | HY9: - Hỗ trợ ổn định đời sống: | IC9: =IFERROR(VLOOKUP(IC3,TrichLuc!$A:$AD,29,0)*IF(VLOOKUP(IC3,TrichLuc!$A:$AD,24,0)>70,Giadatvaheso!$J$11,IF(VLOOKUP(IC3,TrichLuc!$A:$AD,24,0)>=30,Giadatvaheso!$J$10,Giadatvaheso!$J$9)),"") | IJ9: - Hỗ trợ ổn định đời sống: | IN9: =IFERROR(VLOOKUP(IN3,TrichLuc!$A:$AD,29,0)*IF(VLOOKUP(IN3,TrichLuc!$A:$AD,24,0)>70,Giadatvaheso!$J$11,IF(VLOOKUP(IN3,TrichLuc!$A:$AD,24,0)>=30,Giadatvaheso!$J$10,Giadatvaheso!$J$9)),"") | IU9: - Hỗ trợ ổn định đời sống: | IY9: =IFERROR(VLOOKUP(IY3,TrichLuc!$A:$AD,29,0)*IF(VLOOKUP(IY3,TrichLuc!$A:$AD,24,0)>70,Giadatvaheso!$J$11,IF(VLOOKUP(IY3,TrichLuc!$A:$AD,24,0)>=30,Giadatvaheso!$J$10,Giadatvaheso!$J$9)),"") | JF9: - Hỗ trợ ổn định đời sống: | JJ9: =IFERROR(VLOOKUP(JJ3,TrichLuc!$A:$AD,29,0)*IF(VLOOKUP(JJ3,TrichLuc!$A:$AD,24,0)>70,Giadatvaheso!$J$11,IF(VLOOKUP(JJ3,TrichLuc!$A:$AD,24,0)>=30,Giadatvaheso!$J$10,Giadatvaheso!$J$9)),"") | JQ9: - Hỗ trợ ổn định đời sống: | JU9: =IFERROR(VLOOKUP(JU3,TrichLuc!$A:$AD,29,0)*IF(VLOOKUP(JU3,TrichLuc!$A:$AD,24,0)>70,Giadatvaheso!$J$11,IF(VLOOKUP(JU3,TrichLuc!$A:$AD,24,0)>=30,Giadatvaheso!$J$10,Giadatvaheso!$J$9)),"") | KB9: - Hỗ trợ ổn định đời sống: | KF9: =IFERROR(VLOOKUP(KF3,TrichLuc!$A:$AD,29,0)*IF(VLOOKUP(KF3,TrichLuc!$A:$AD,24,0)>70,Giadatvaheso!$J$11,IF(VLOOKUP(KF3,TrichLuc!$A:$AD,24,0)>=30,Giadatvaheso!$J$10,Giadatvaheso!$J$9)),"") | KM9: - Hỗ trợ ổn định đời sống: | KQ9: =IFERROR(VLOOKUP(KQ3,TrichLuc!$A:$AD,29,0)*IF(VLOOKUP(KQ3,TrichLuc!$A:$AD,24,0)>70,Giadatvaheso!$J$11,IF(VLOOKUP(KQ3,TrichLuc!$A:$AD,24,0)>=30,Giadatvaheso!$J$10,Giadatvaheso!$J$9)),"") | KX9: - Hỗ trợ ổn định đời sống: | LB9: =IFERROR(VLOOKUP(LB3,TrichLuc!$A:$AD,29,0)*IF(VLOOKUP(LB3,TrichLuc!$A:$AD,24,0)>70,Giadatvaheso!$J$11,IF(VLOOKUP(LB3,TrichLuc!$A:$AD,24,0)>=30,Giadatvaheso!$J$10,Giadatvaheso!$J$9)),"") | LI9: - Hỗ trợ ổn định đời sống: | LM9: =IFERROR(VLOOKUP(LM3,TrichLuc!$A:$AD,29,0)*IF(VLOOKUP(LM3,TrichLuc!$A:$AD,24,0)>70,Giadatvaheso!$J$11,IF(VLOOKUP(LM3,TrichLuc!$A:$AD,24,0)>=30,Giadatvaheso!$J$10,Giadatvaheso!$J$9)),"") | LT9: - Hỗ trợ ổn định đời sống: | LX9: =IFERROR(VLOOKUP(LX3,TrichLuc!$A:$AD,29,0)*IF(VLOOKUP(LX3,TrichLuc!$A:$AD,24,0)>70,Giadatvaheso!$J$11,IF(VLOOKUP(LX3,TrichLuc!$A:$AD,24,0)>=30,Giadatvaheso!$J$10,Giadatvaheso!$J$9)),"") | ME9: - Hỗ trợ ổn định đời sống: | MI9: =IFERROR(VLOOKUP(MI3,TrichLuc!$A:$AD,29,0)*IF(VLOOKUP(MI3,TrichLuc!$A:$AD,24,0)>70,Giadatvaheso!$J$11,IF(VLOOKUP(MI3,TrichLuc!$A:$AD,24,0)>=30,Giadatvaheso!$J$10,Giadatvaheso!$J$9)),"") | MP9: - Hỗ trợ ổn định đời sống: | MT9: =IFERROR(VLOOKUP(MT3,TrichLuc!$A:$AD,29,0)*IF(VLOOKUP(MT3,TrichLuc!$A:$AD,24,0)>70,Giadatvaheso!$J$11,IF(VLOOKUP(MT3,TrichLuc!$A:$AD,24,0)>=30,Giadatvaheso!$J$10,Giadatvaheso!$J$9)),"") | NA9: - Hỗ trợ ổn định đời sống: | NE9: =IFERROR(VLOOKUP(NE3,TrichLuc!$A:$AD,29,0)*IF(VLOOKUP(NE3,TrichLuc!$A:$AD,24,0)>70,Giadatvaheso!$J$11,IF(VLOOKUP(NE3,TrichLuc!$A:$AD,24,0)>=30,Giadatvaheso!$J$10,Giadatvaheso!$J$9)),"") | NL9: - Hỗ trợ ổn định đời sống: | NP9: =IFERROR(VLOOKUP(NP3,TrichLuc!$A:$AD,29,0)*IF(VLOOKUP(NP3,TrichLuc!$A:$AD,24,0)>70,Giadatvaheso!$J$11,IF(VLOOKUP(NP3,TrichLuc!$A:$AD,24,0)>=30,Giadatvaheso!$J$10,Giadatvaheso!$J$9)),"") | NW9: - Hỗ trợ ổn định đời sống: | OA9: =IFERROR(VLOOKUP(OA3,TrichLuc!$A:$AD,29,0)*IF(VLOOKUP(OA3,TrichLuc!$A:$AD,24,0)>70,Giadatvaheso!$J$11,IF(VLOOKUP(OA3,TrichLuc!$A:$AD,24,0)>=30,Giadatvaheso!$J$10,Giadatvaheso!$J$9)),"") | OH9: - Hỗ trợ ổn định đời sống: | OL9: =IFERROR(VLOOKUP(OL3,TrichLuc!$A:$AD,29,0)*IF(VLOOKUP(OL3,TrichLuc!$A:$AD,24,0)>70,Giadatvaheso!$J$11,IF(VLOOKUP(OL3,TrichLuc!$A:$AD,24,0)>=30,Giadatvaheso!$J$10,Giadatvaheso!$J$9)),"") | OS9: - Hỗ trợ ổn định đời sống: | OW9: =IFERROR(VLOOKUP(OW3,TrichLuc!$A:$AD,29,0)*IF(VLOOKUP(OW3,TrichLuc!$A:$AD,24,0)>70,Giadatvaheso!$J$11,IF(VLOOKUP(OW3,TrichLuc!$A:$AD,24,0)>=30,Giadatvaheso!$J$10,Giadatvaheso!$J$9)),"") | PD9: - Hỗ trợ ổn định đời sống: | PH9: =IFERROR(VLOOKUP(PH3,TrichLuc!$A:$AD,29,0)*IF(VLOOKUP(PH3,TrichLuc!$A:$AD,24,0)>70,Giadatvaheso!$J$11,IF(VLOOKUP(PH3,TrichLuc!$A:$AD,24,0)>=30,Giadatvaheso!$J$10,Giadatvaheso!$J$9)),"") | PO9: - Hỗ trợ ổn định đời sống: | PS9: =IFERROR(VLOOKUP(PS3,TrichLuc!$A:$AD,29,0)*IF(VLOOKUP(PS3,TrichLuc!$A:$AD,24,0)>70,Giadatvaheso!$J$11,IF(VLOOKUP(PS3,TrichLuc!$A:$AD,24,0)>=30,Giadatvaheso!$J$10,Giadatvaheso!$J$9)),"") | PZ9: - Hỗ trợ ổn định đời sống: | QD9: =IFERROR(VLOOKUP(QD3,TrichLuc!$A:$AD,29,0)*IF(VLOOKUP(QD3,TrichLuc!$A:$AD,24,0)>70,Giadatvaheso!$J$11,IF(VLOOKUP(QD3,TrichLuc!$A:$AD,24,0)>=30,Giadatvaheso!$J$10,Giadatvaheso!$J$9)),"") | QK9: - Hỗ trợ ổn định đời sống: | QO9: =IFERROR(VLOOKUP(QO3,TrichLuc!$A:$AD,29,0)*IF(VLOOKUP(QO3,TrichLuc!$A:$AD,24,0)>70,Giadatvaheso!$J$11,IF(VLOOKUP(QO3,TrichLuc!$A:$AD,24,0)>=30,Giadatvaheso!$J$10,Giadatvaheso!$J$9)),"") | QV9: - Hỗ trợ ổn định đời sống: | QZ9: =IFERROR(VLOOKUP(QZ3,TrichLuc!$A:$AD,29,0)*IF(VLOOKUP(QZ3,TrichLuc!$A:$AD,24,0)>70,Giadatvaheso!$J$11,IF(VLOOKUP(QZ3,TrichLuc!$A:$AD,24,0)>=30,Giadatvaheso!$J$10,Giadatvaheso!$J$9)),"") | RG9: - Hỗ trợ ổn định đời sống: | RK9: =IFERROR(VLOOKUP(RK3,TrichLuc!$A:$AD,29,0)*IF(VLOOKUP(RK3,TrichLuc!$A:$AD,24,0)>70,Giadatvaheso!$J$11,IF(VLOOKUP(RK3,TrichLuc!$A:$AD,24,0)>=30,Giadatvaheso!$J$10,Giadatvaheso!$J$9)),"") | RR9: - Hỗ trợ ổn định đời sống: | RV9: =IFERROR(VLOOKUP(RV3,TrichLuc!$A:$AD,29,0)*IF(VLOOKUP(RV3,TrichLuc!$A:$AD,24,0)>70,Giadatvaheso!$J$11,IF(VLOOKUP(RV3,TrichLuc!$A:$AD,24,0)>=30,Giadatvaheso!$J$10,Giadatvaheso!$J$9)),"") | SC9: - Hỗ trợ ổn định đời sống: | SG9: =IFERROR(VLOOKUP(SG3,TrichLuc!$A:$AD,29,0)*IF(VLOOKUP(SG3,TrichLuc!$A:$AD,24,0)>70,Giadatvaheso!$J$11,IF(VLOOKUP(SG3,TrichLuc!$A:$AD,24,0)>=30,Giadatvaheso!$J$10,Giadatvaheso!$J$9)),"") | SN9: - Hỗ trợ ổn định đời sống: | SR9: =IFERROR(VLOOKUP(SR3,TrichLuc!$A:$AD,29,0)*IF(VLOOKUP(SR3,TrichLuc!$A:$AD,24,0)>70,Giadatvaheso!$J$11,IF(VLOOKUP(SR3,TrichLuc!$A:$AD,24,0)>=30,Giadatvaheso!$J$10,Giadatvaheso!$J$9)),"") | SY9: - Hỗ trợ ổn định đời sống: | TC9: =IFERROR(VLOOKUP(TC3,TrichLuc!$A:$AD,29,0)*IF(VLOOKUP(TC3,TrichLuc!$A:$AD,24,0)>70,Giadatvaheso!$J$11,IF(VLOOKUP(TC3,TrichLuc!$A:$AD,24,0)>=30,Giadatvaheso!$J$10,Giadatvaheso!$J$9)),"") | TJ9: - Hỗ trợ ổn định đời sống: | TN9: =IFERROR(VLOOKUP(TN3,TrichLuc!$A:$AD,29,0)*IF(VLOOKUP(TN3,TrichLuc!$A:$AD,24,0)>70,Giadatvaheso!$J$11,IF(VLOOKUP(TN3,TrichLuc!$A:$AD,24,0)>=30,Giadatvaheso!$J$10,Giadatvaheso!$J$9)),"") | TU9: - Hỗ trợ ổn định đời sống: | TY9: =IFERROR(VLOOKUP(TY3,TrichLuc!$A:$AD,29,0)*IF(VLOOKUP(TY3,TrichLuc!$A:$AD,24,0)>70,Giadatvaheso!$J$11,IF(VLOOKUP(TY3,TrichLuc!$A:$AD,24,0)>=30,Giadatvaheso!$J$10,Giadatvaheso!$J$9)),"") | UF9: - Hỗ trợ ổn định đời sống: | UJ9: =IFERROR(VLOOKUP(UJ3,TrichLuc!$A:$AD,29,0)*IF(VLOOKUP(UJ3,TrichLuc!$A:$AD,24,0)>70,Giadatvaheso!$J$11,IF(VLOOKUP(UJ3,TrichLuc!$A:$AD,24,0)>=30,Giadatvaheso!$J$10,Giadatvaheso!$J$9)),"") | UQ9: - Hỗ trợ ổn định đời sống: | UU9: =IFERROR(VLOOKUP(UU3,TrichLuc!$A:$AD,29,0)*IF(VLOOKUP(UU3,TrichLuc!$A:$AD,24,0)>70,Giadatvaheso!$J$11,IF(VLOOKUP(UU3,TrichLuc!$A:$AD,24,0)>=30,Giadatvaheso!$J$10,Giadatvaheso!$J$9)),"") | VB9: - Hỗ trợ ổn định đời sống: | VF9: =IFERROR(VLOOKUP(VF3,TrichLuc!$A:$AD,29,0)*IF(VLOOKUP(VF3,TrichLuc!$A:$AD,24,0)>70,Giadatvaheso!$J$11,IF(VLOOKUP(VF3,TrichLuc!$A:$AD,24,0)>=30,Giadatvaheso!$J$10,Giadatvaheso!$J$9)),"") | VM9: - Hỗ trợ ổn định đời sống: | VQ9: =IFERROR(VLOOKUP(VQ3,TrichLuc!$A:$AD,29,0)*IF(VLOOKUP(VQ3,TrichLuc!$A:$AD,24,0)>70,Giadatvaheso!$J$11,IF(VLOOKUP(VQ3,TrichLuc!$A:$AD,24,0)>=30,Giadatvaheso!$J$10,Giadatvaheso!$J$9)),"") | VX9: - Hỗ trợ ổn định đời sống: | WB9: =IFERROR(VLOOKUP(WB3,TrichLuc!$A:$AD,29,0)*IF(VLOOKUP(WB3,TrichLuc!$A:$AD,24,0)>70,Giadatvaheso!$J$11,IF(VLOOKUP(WB3,TrichLuc!$A:$AD,24,0)>=30,Giadatvaheso!$J$10,Giadatvaheso!$J$9)),"") | WI9: - Hỗ trợ ổn định đời sống: | WM9: =IFERROR(VLOOKUP(WM3,TrichLuc!$A:$AD,29,0)*IF(VLOOKUP(WM3,TrichLuc!$A:$AD,24,0)>70,Giadatvaheso!$J$11,IF(VLOOKUP(WM3,TrichLuc!$A:$AD,24,0)>=30,Giadatvaheso!$J$10,Giadatvaheso!$J$9)),"") | WT9: - Hỗ trợ ổn định đời sống: | WX9: =IFERROR(VLOOKUP(WX3,TrichLuc!$A:$AD,29,0)*IF(VLOOKUP(WX3,TrichLuc!$A:$AD,24,0)>70,Giadatvaheso!$J$11,IF(VLOOKUP(WX3,TrichLuc!$A:$AD,24,0)>=30,Giadatvaheso!$J$10,Giadatvaheso!$J$9)),"") | XE9: - Hỗ trợ ổn định đời sống: | XI9: =IFERROR(VLOOKUP(XI3,TrichLuc!$A:$AD,29,0)*IF(VLOOKUP(XI3,TrichLuc!$A:$AD,24,0)>70,Giadatvaheso!$J$11,IF(VLOOKUP(XI3,TrichLuc!$A:$AD,24,0)>=30,Giadatvaheso!$J$10,Giadatvaheso!$J$9)),"") | XP9: - Hỗ trợ ổn định đời sống: | XT9: =IFERROR(VLOOKUP(XT3,TrichLuc!$A:$AD,29,0)*IF(VLOOKUP(XT3,TrichLuc!$A:$AD,24,0)>70,Giadatvaheso!$J$11,IF(VLOOKUP(XT3,TrichLuc!$A:$AD,24,0)>=30,Giadatvaheso!$J$10,Giadatvaheso!$J$9)),"") | YA9: - Hỗ trợ ổn định đời sống: | YE9: =IFERROR(VLOOKUP(YE3,TrichLuc!$A:$AD,29,0)*IF(VLOOKUP(YE3,TrichLuc!$A:$AD,24,0)>70,Giadatvaheso!$J$11,IF(VLOOKUP(YE3,TrichLuc!$A:$AD,24,0)>=30,Giadatvaheso!$J$10,Giadatvaheso!$J$9)),"") | YL9: - Hỗ trợ ổn định đời sống: | YP9: =IFERROR(VLOOKUP(YP3,TrichLuc!$A:$AD,29,0)*IF(VLOOKUP(YP3,TrichLuc!$A:$AD,24,0)>70,Giadatvaheso!$J$11,IF(VLOOKUP(YP3,TrichLuc!$A:$AD,24,0)>=30,Giadatvaheso!$J$10,Giadatvaheso!$J$9)),"") | YW9: - Hỗ trợ ổn định đời sống: | ZA9: =IFERROR(VLOOKUP(ZA3,TrichLuc!$A:$AD,29,0)*IF(VLOOKUP(ZA3,TrichLuc!$A:$AD,24,0)>70,Giadatvaheso!$J$11,IF(VLOOKUP(ZA3,TrichLuc!$A:$AD,24,0)>=30,Giadatvaheso!$J$10,Giadatvaheso!$J$9)),"") | ZH9: - Hỗ trợ ổn định đời sống: | ZL9: =IFERROR(VLOOKUP(ZL3,TrichLuc!$A:$AD,29,0)*IF(VLOOKUP(ZL3,TrichLuc!$A:$AD,24,0)>70,Giadatvaheso!$J$11,IF(VLOOKUP(ZL3,TrichLuc!$A:$AD,24,0)>=30,Giadatvaheso!$J$10,Giadatvaheso!$J$9)),"") | ZS9: - Hỗ trợ ổn định đời sống: | ZW9: =IFERROR(VLOOKUP(ZW3,TrichLuc!$A:$AD,29,0)*IF(VLOOKUP(ZW3,TrichLuc!$A:$AD,24,0)>70,Giadatvaheso!$J$11,IF(VLOOKUP(ZW3,TrichLuc!$A:$AD,24,0)>=30,Giadatvaheso!$J$10,Giadatvaheso!$J$9)),"") | AAD9: - Hỗ trợ ổn định đời sống: | AAH9: =IFERROR(VLOOKUP(AAH3,TrichLuc!$A:$AD,29,0)*IF(VLOOKUP(AAH3,TrichLuc!$A:$AD,24,0)>70,Giadatvaheso!$J$11,IF(VLOOKUP(AAH3,TrichLuc!$A:$AD,24,0)>=30,Giadatvaheso!$J$10,Giadatvaheso!$J$9)),"") | AAO9: - Hỗ trợ ổn định đời sống: | AAS9: =IFERROR(VLOOKUP(AAS3,TrichLuc!$A:$AD,29,0)*IF(VLOOKUP(AAS3,TrichLuc!$A:$AD,24,0)>70,Giadatvaheso!$J$11,IF(VLOOKUP(AAS3,TrichLuc!$A:$AD,24,0)>=30,Giadatvaheso!$J$10,Giadatvaheso!$J$9)),"") | AAZ9: - Hỗ trợ ổn định đời sống: | ABD9: =IFERROR(VLOOKUP(ABD3,TrichLuc!$A:$AD,29,0)*IF(VLOOKUP(ABD3,TrichLuc!$A:$AD,24,0)>70,Giadatvaheso!$J$11,IF(VLOOKUP(ABD3,TrichLuc!$A:$AD,24,0)>=30,Giadatvaheso!$J$10,Giadatvaheso!$J$9)),"") | ABK9: - Hỗ trợ ổn định đời sống: | ABO9: =IFERROR(VLOOKUP(ABO3,TrichLuc!$A:$AD,29,0)*IF(VLOOKUP(ABO3,TrichLuc!$A:$AD,24,0)>70,Giadatvaheso!$J$11,IF(VLOOKUP(ABO3,TrichLuc!$A:$AD,24,0)>=30,Giadatvaheso!$J$10,Giadatvaheso!$J$9)),"") | ABV9: - Hỗ trợ ổn định đời sống: | ABZ9: =IFERROR(VLOOKUP(ABZ3,TrichLuc!$A:$AD,29,0)*IF(VLOOKUP(ABZ3,TrichLuc!$A:$AD,24,0)>70,Giadatvaheso!$J$11,IF(VLOOKUP(ABZ3,TrichLuc!$A:$AD,24,0)>=30,Giadatvaheso!$J$10,Giadatvaheso!$J$9)),"") | ACG9: - Hỗ trợ ổn định đời sống: | ACK9: =IFERROR(VLOOKUP(ACK3,TrichLuc!$A:$AD,29,0)*IF(VLOOKUP(ACK3,TrichLuc!$A:$AD,24,0)>70,Giadatvaheso!$J$11,IF(VLOOKUP(ACK3,TrichLuc!$A:$AD,24,0)>=30,Giadatvaheso!$J$10,Giadatvaheso!$J$9)),"") | ACR9: - Hỗ trợ ổn định đời sống: | ACV9: =IFERROR(VLOOKUP(ACV3,TrichLuc!$A:$AD,29,0)*IF(VLOOKUP(ACV3,TrichLuc!$A:$AD,24,0)>70,Giadatvaheso!$J$11,IF(VLOOKUP(ACV3,TrichLuc!$A:$AD,24,0)>=30,Giadatvaheso!$J$10,Giadatvaheso!$J$9)),"") | ADC9: - Hỗ trợ ổn định đời sống: | ADG9: =IFERROR(VLOOKUP(ADG3,TrichLuc!$A:$AD,29,0)*IF(VLOOKUP(ADG3,TrichLuc!$A:$AD,24,0)>70,Giadatvaheso!$J$11,IF(VLOOKUP(ADG3,TrichLuc!$A:$AD,24,0)>=30,Giadatvaheso!$J$10,Giadatvaheso!$J$9)),"") | ADN9: - Hỗ trợ ổn định đời sống: | ADR9: =IFERROR(VLOOKUP(ADR3,TrichLuc!$A:$AD,29,0)*IF(VLOOKUP(ADR3,TrichLuc!$A:$AD,24,0)>70,Giadatvaheso!$J$11,IF(VLOOKUP(ADR3,TrichLuc!$A:$AD,24,0)>=30,Giadatvaheso!$J$10,Giadatvaheso!$J$9)),"") | ADY9: - Hỗ trợ ổn định đời sống: | AEC9: =IFERROR(VLOOKUP(AEC3,TrichLuc!$A:$AD,29,0)*IF(VLOOKUP(AEC3,TrichLuc!$A:$AD,24,0)>70,Giadatvaheso!$J$11,IF(VLOOKUP(AEC3,TrichLuc!$A:$AD,24,0)>=30,Giadatvaheso!$J$10,Giadatvaheso!$J$9)),"") | AEJ9: - Hỗ trợ ổn định đời sống: | AEN9: =IFERROR(VLOOKUP(AEN3,TrichLuc!$A:$AD,29,0)*IF(VLOOKUP(AEN3,TrichLuc!$A:$AD,24,0)>70,Giadatvaheso!$J$11,IF(VLOOKUP(AEN3,TrichLuc!$A:$AD,24,0)>=30,Giadatvaheso!$J$10,Giadatvaheso!$J$9)),"") | AEU9: - Hỗ trợ ổn định đời sống: | AEY9: =IFERROR(VLOOKUP(AEY3,TrichLuc!$A:$AD,29,0)*IF(VLOOKUP(AEY3,TrichLuc!$A:$AD,24,0)>70,Giadatvaheso!$J$11,IF(VLOOKUP(AEY3,TrichLuc!$A:$AD,24,0)>=30,Giadatvaheso!$J$10,Giadatvaheso!$J$9)),"") | AFF9: - Hỗ trợ ổn định đời sống: | AFJ9: =IFERROR(VLOOKUP(AFJ3,TrichLuc!$A:$AD,29,0)*IF(VLOOKUP(AFJ3,TrichLuc!$A:$AD,24,0)>70,Giadatvaheso!$J$11,IF(VLOOKUP(AFJ3,TrichLuc!$A:$AD,24,0)>=30,Giadatvaheso!$J$10,Giadatvaheso!$J$9)),"") | AFQ9: - Hỗ trợ ổn định đời sống: | AFU9: =IFERROR(VLOOKUP(AFU3,TrichLuc!$A:$AD,29,0)*IF(VLOOKUP(AFU3,TrichLuc!$A:$AD,24,0)>70,Giadatvaheso!$J$11,IF(VLOOKUP(AFU3,TrichLuc!$A:$AD,24,0)>=30,Giadatvaheso!$J$10,Giadatvaheso!$J$9)),"") | AGB9: - Hỗ trợ ổn định đời sống: | AGF9: =IFERROR(VLOOKUP(AGF3,TrichLuc!$A:$AD,29,0)*IF(VLOOKUP(AGF3,TrichLuc!$A:$AD,24,0)>70,Giadatvaheso!$J$11,IF(VLOOKUP(AGF3,TrichLuc!$A:$AD,24,0)>=30,Giadatvaheso!$J$10,Giadatvaheso!$J$9)),"") | AGM9: - Hỗ trợ ổn định đời sống: | AGQ9: =IFERROR(VLOOKUP(AGQ3,TrichLuc!$A:$AD,29,0)*IF(VLOOKUP(AGQ3,TrichLuc!$A:$AD,24,0)>70,Giadatvaheso!$J$11,IF(VLOOKUP(AGQ3,TrichLuc!$A:$AD,24,0)>=30,Giadatvaheso!$J$10,Giadatvaheso!$J$9)),"") | AGX9: - Hỗ trợ ổn định đời sống: | AHB9: =IFERROR(VLOOKUP(AHB3,TrichLuc!$A:$AD,29,0)*IF(VLOOKUP(AHB3,TrichLuc!$A:$AD,24,0)>70,Giadatvaheso!$J$11,IF(VLOOKUP(AHB3,TrichLuc!$A:$AD,24,0)>=30,Giadatvaheso!$J$10,Giadatvaheso!$J$9)),"") | AHI9: - Hỗ trợ ổn định đời sống: | AHM9: =IFERROR(VLOOKUP(AHM3,TrichLuc!$A:$AD,29,0)*IF(VLOOKUP(AHM3,TrichLuc!$A:$AD,24,0)>70,Giadatvaheso!$J$11,IF(VLOOKUP(AHM3,TrichLuc!$A:$AD,24,0)>=30,Giadatvaheso!$J$10,Giadatvaheso!$J$9)),"") | AHT9: - Hỗ trợ ổn định đời sống: | AHX9: =IFERROR(VLOOKUP(AHX3,TrichLuc!$A:$AD,29,0)*IF(VLOOKUP(AHX3,TrichLuc!$A:$AD,24,0)>70,Giadatvaheso!$J$11,IF(VLOOKUP(AHX3,TrichLuc!$A:$AD,24,0)>=30,Giadatvaheso!$J$10,Giadatvaheso!$J$9)),"") | AIE9: - Hỗ trợ ổn định đời sống: | AII9: =IFERROR(VLOOKUP(AII3,TrichLuc!$A:$AD,29,0)*IF(VLOOKUP(AII3,TrichLuc!$A:$AD,24,0)>70,Giadatvaheso!$J$11,IF(VLOOKUP(AII3,TrichLuc!$A:$AD,24,0)>=30,Giadatvaheso!$J$10,Giadatvaheso!$J$9)),"") | AIP9: - Hỗ trợ ổn định đời sống: | AIT9: =IFERROR(VLOOKUP(AIT3,TrichLuc!$A:$AD,29,0)*IF(VLOOKUP(AIT3,TrichLuc!$A:$AD,24,0)>70,Giadatvaheso!$J$11,IF(VLOOKUP(AIT3,TrichLuc!$A:$AD,24,0)>=30,Giadatvaheso!$J$10,Giadatvaheso!$J$9)),"") | AJA9: - Hỗ trợ ổn định đời sống: | AJE9: =IFERROR(VLOOKUP(AJE3,TrichLuc!$A:$AD,29,0)*IF(VLOOKUP(AJE3,TrichLuc!$A:$AD,24,0)>70,Giadatvaheso!$J$11,IF(VLOOKUP(AJE3,TrichLuc!$A:$AD,24,0)>=30,Giadatvaheso!$J$10,Giadatvaheso!$J$9)),"") | AJL9: - Hỗ trợ ổn định đời sống: | AJP9: =IFERROR(VLOOKUP(AJP3,TrichLuc!$A:$AD,29,0)*IF(VLOOKUP(AJP3,TrichLuc!$A:$AD,24,0)>70,Giadatvaheso!$J$11,IF(VLOOKUP(AJP3,TrichLuc!$A:$AD,24,0)>=30,Giadatvaheso!$J$10,Giadatvaheso!$J$9)),"") | AJW9: - Hỗ trợ ổn định đời sống: | AKA9: =IFERROR(VLOOKUP(AKA3,TrichLuc!$A:$AD,29,0)*IF(VLOOKUP(AKA3,TrichLuc!$A:$AD,24,0)>70,Giadatvaheso!$J$11,IF(VLOOKUP(AKA3,TrichLuc!$A:$AD,24,0)>=30,Giadatvaheso!$J$10,Giadatvaheso!$J$9)),"") | AKH9: - Hỗ trợ ổn định đời sống: | AKL9: =IFERROR(VLOOKUP(AKL3,TrichLuc!$A:$AD,29,0)*IF(VLOOKUP(AKL3,TrichLuc!$A:$AD,24,0)>70,Giadatvaheso!$J$11,IF(VLOOKUP(AKL3,TrichLuc!$A:$AD,24,0)>=30,Giadatvaheso!$J$10,Giadatvaheso!$J$9)),"") | AKS9: - Hỗ trợ ổn định đời sống: | AKW9: =IFERROR(VLOOKUP(AKW3,TrichLuc!$A:$AD,29,0)*IF(VLOOKUP(AKW3,TrichLuc!$A:$AD,24,0)>70,Giadatvaheso!$J$11,IF(VLOOKUP(AKW3,TrichLuc!$A:$AD,24,0)>=30,Giadatvaheso!$J$10,Giadatvaheso!$J$9)),"") | ALD9: - Hỗ trợ ổn định đời sống: | ALH9: =IFERROR(VLOOKUP(ALH3,TrichLuc!$A:$AD,29,0)*IF(VLOOKUP(ALH3,TrichLuc!$A:$AD,24,0)>70,Giadatvaheso!$J$11,IF(VLOOKUP(ALH3,TrichLuc!$A:$AD,24,0)>=30,Giadatvaheso!$J$10,Giadatvaheso!$J$9)),"") | ALO9: - Hỗ trợ ổn định đời sống: | ALS9: =IFERROR(VLOOKUP(ALS3,TrichLuc!$A:$AD,29,0)*IF(VLOOKUP(ALS3,TrichLuc!$A:$AD,24,0)>70,Giadatvaheso!$J$11,IF(VLOOKUP(ALS3,TrichLuc!$A:$AD,24,0)>=30,Giadatvaheso!$J$10,Giadatvaheso!$J$9)),"") | ALZ9: - Hỗ trợ ổn định đời sống: | AMD9: =IFERROR(VLOOKUP(AMD3,TrichLuc!$A:$AD,29,0)*IF(VLOOKUP(AMD3,TrichLuc!$A:$AD,24,0)>70,Giadatvaheso!$J$11,IF(VLOOKUP(AMD3,TrichLuc!$A:$AD,24,0)>=30,Giadatvaheso!$J$10,Giadatvaheso!$J$9)),"") | AMK9: - Hỗ trợ ổn định đời sống: | AMO9: =IFERROR(VLOOKUP(AMO3,TrichLuc!$A:$AD,29,0)*IF(VLOOKUP(AMO3,TrichLuc!$A:$AD,24,0)>70,Giadatvaheso!$J$11,IF(VLOOKUP(AMO3,TrichLuc!$A:$AD,24,0)>=30,Giadatvaheso!$J$10,Giadatvaheso!$J$9)),"") | AMV9: - Hỗ trợ ổn định đời sống: | AMZ9: =IFERROR(VLOOKUP(AMZ3,TrichLuc!$A:$AD,29,0)*IF(VLOOKUP(AMZ3,TrichLuc!$A:$AD,24,0)>70,Giadatvaheso!$J$11,IF(VLOOKUP(AMZ3,TrichLuc!$A:$AD,24,0)>=30,Giadatvaheso!$J$10,Giadatvaheso!$J$9)),"") | ANG9: - Hỗ trợ ổn định đời sống: | ANK9: =IFERROR(VLOOKUP(ANK3,TrichLuc!$A:$AD,29,0)*IF(VLOOKUP(ANK3,TrichLuc!$A:$AD,24,0)>70,Giadatvaheso!$J$11,IF(VLOOKUP(ANK3,TrichLuc!$A:$AD,24,0)>=30,Giadatvaheso!$J$10,Giadatvaheso!$J$9)),"") | ANR9: - Hỗ trợ ổn định đời sống: | ANV9: =IFERROR(VLOOKUP(ANV3,TrichLuc!$A:$AD,29,0)*IF(VLOOKUP(ANV3,TrichLuc!$A:$AD,24,0)>70,Giadatvaheso!$J$11,IF(VLOOKUP(ANV3,TrichLuc!$A:$AD,24,0)>=30,Giadatvaheso!$J$10,Giadatvaheso!$J$9)),"") | AOC9: - Hỗ trợ ổn định đời sống: | AOG9: =IFERROR(VLOOKUP(AOG3,TrichLuc!$A:$AD,29,0)*IF(VLOOKUP(AOG3,TrichLuc!$A:$AD,24,0)>70,Giadatvaheso!$J$11,IF(VLOOKUP(AOG3,TrichLuc!$A:$AD,24,0)>=30,Giadatvaheso!$J$10,Giadatvaheso!$J$9)),"") | AON9: - Hỗ trợ ổn định đời sống: | AOR9: =IFERROR(VLOOKUP(AOR3,TrichLuc!$A:$AD,29,0)*IF(VLOOKUP(AOR3,TrichLuc!$A:$AD,24,0)>70,Giadatvaheso!$J$11,IF(VLOOKUP(AOR3,TrichLuc!$A:$AD,24,0)>=30,Giadatvaheso!$J$10,Giadatvaheso!$J$9)),"") | AOY9: - Hỗ trợ ổn định đời sống: | APC9: =IFERROR(VLOOKUP(APC3,TrichLuc!$A:$AD,29,0)*IF(VLOOKUP(APC3,TrichLuc!$A:$AD,24,0)>70,Giadatvaheso!$J$11,IF(VLOOKUP(APC3,TrichLuc!$A:$AD,24,0)>=30,Giadatvaheso!$J$10,Giadatvaheso!$J$9)),"") | APJ9: - Hỗ trợ ổn định đời sống: | APN9: =IFERROR(VLOOKUP(APN3,TrichLuc!$A:$AD,29,0)*IF(VLOOKUP(APN3,TrichLuc!$A:$AD,24,0)>70,Giadatvaheso!$J$11,IF(VLOOKUP(APN3,TrichLuc!$A:$AD,24,0)>=30,Giadatvaheso!$J$10,Giadatvaheso!$J$9)),"") | APU9: - Hỗ trợ ổn định đời sống: | APY9: =IFERROR(VLOOKUP(APY3,TrichLuc!$A:$AD,29,0)*IF(VLOOKUP(APY3,TrichLuc!$A:$AD,24,0)>70,Giadatvaheso!$J$11,IF(VLOOKUP(APY3,TrichLuc!$A:$AD,24,0)>=30,Giadatvaheso!$J$10,Giadatvaheso!$J$9)),"") | AQF9: - Hỗ trợ ổn định đời sống: | AQJ9: =IFERROR(VLOOKUP(AQJ3,TrichLuc!$A:$AD,29,0)*IF(VLOOKUP(AQJ3,TrichLuc!$A:$AD,24,0)>70,Giadatvaheso!$J$11,IF(VLOOKUP(AQJ3,TrichLuc!$A:$AD,24,0)>=30,Giadatvaheso!$J$10,Giadatvaheso!$J$9)),"") | AQQ9: - Hỗ trợ ổn định đời sống: | AQU9: =IFERROR(VLOOKUP(AQU3,TrichLuc!$A:$AD,29,0)*IF(VLOOKUP(AQU3,TrichLuc!$A:$AD,24,0)>70,Giadatvaheso!$J$11,IF(VLOOKUP(AQU3,TrichLuc!$A:$AD,24,0)>=30,Giadatvaheso!$J$10,Giadatvaheso!$J$9)),"") | ARB9: - Hỗ trợ ổn định đời sống: | ARF9: =IFERROR(VLOOKUP(ARF3,TrichLuc!$A:$AD,29,0)*IF(VLOOKUP(ARF3,TrichLuc!$A:$AD,24,0)>70,Giadatvaheso!$J$11,IF(VLOOKUP(ARF3,TrichLuc!$A:$AD,24,0)>=30,Giadatvaheso!$J$10,Giadatvaheso!$J$9)),"") | ARM9: - Hỗ trợ ổn định đời sống: | ARQ9: =IFERROR(VLOOKUP(ARQ3,TrichLuc!$A:$AD,29,0)*IF(VLOOKUP(ARQ3,TrichLuc!$A:$AD,24,0)>70,Giadatvaheso!$J$11,IF(VLOOKUP(ARQ3,TrichLuc!$A:$AD,24,0)>=30,Giadatvaheso!$J$10,Giadatvaheso!$J$9)),"") | ARX9: - Hỗ trợ ổn định đời sống: | ASB9: =IFERROR(VLOOKUP(ASB3,TrichLuc!$A:$AD,29,0)*IF(VLOOKUP(ASB3,TrichLuc!$A:$AD,24,0)>70,Giadatvaheso!$J$11,IF(VLOOKUP(ASB3,TrichLuc!$A:$AD,24,0)>=30,Giadatvaheso!$J$10,Giadatvaheso!$J$9)),"") | ASI9: - Hỗ trợ ổn định đời sống: | ASM9: =IFERROR(VLOOKUP(ASM3,TrichLuc!$A:$AD,29,0)*IF(VLOOKUP(ASM3,TrichLuc!$A:$AD,24,0)>70,Giadatvaheso!$J$11,IF(VLOOKUP(ASM3,TrichLuc!$A:$AD,24,0)>=30,Giadatvaheso!$J$10,Giadatvaheso!$J$9)),"") | AST9: - Hỗ trợ ổn định đời sống: | ASX9: =IFERROR(VLOOKUP(ASX3,TrichLuc!$A:$AD,29,0)*IF(VLOOKUP(ASX3,TrichLuc!$A:$AD,24,0)>70,Giadatvaheso!$J$11,IF(VLOOKUP(ASX3,TrichLuc!$A:$AD,24,0)>=30,Giadatvaheso!$J$10,Giadatvaheso!$J$9)),"") | ATE9: - Hỗ trợ ổn định đời sống: | ATI9: =IFERROR(VLOOKUP(ATI3,TrichLuc!$A:$AD,29,0)*IF(VLOOKUP(ATI3,TrichLuc!$A:$AD,24,0)>70,Giadatvaheso!$J$11,IF(VLOOKUP(ATI3,TrichLuc!$A:$AD,24,0)>=30,Giadatvaheso!$J$10,Giadatvaheso!$J$9)),"") | ATP9: - Hỗ trợ ổn định đời sống: | ATT9: =IFERROR(VLOOKUP(ATT3,TrichLuc!$A:$AD,29,0)*IF(VLOOKUP(ATT3,TrichLuc!$A:$AD,24,0)>70,Giadatvaheso!$J$11,IF(VLOOKUP(ATT3,TrichLuc!$A:$AD,24,0)>=30,Giadatvaheso!$J$10,Giadatvaheso!$J$9)),"") | AUA9: - Hỗ trợ ổn định đời sống: | AUE9: =IFERROR(VLOOKUP(AUE3,TrichLuc!$A:$AD,29,0)*IF(VLOOKUP(AUE3,TrichLuc!$A:$AD,24,0)>70,Giadatvaheso!$J$11,IF(VLOOKUP(AUE3,TrichLuc!$A:$AD,24,0)>=30,Giadatvaheso!$J$10,Giadatvaheso!$J$9)),"") | AUL9: - Hỗ trợ ổn định đời sống: | AUP9: =IFERROR(VLOOKUP(AUP3,TrichLuc!$A:$AD,29,0)*IF(VLOOKUP(AUP3,TrichLuc!$A:$AD,24,0)>70,Giadatvaheso!$J$11,IF(VLOOKUP(AUP3,TrichLuc!$A:$AD,24,0)>=30,Giadatvaheso!$J$10,Giadatvaheso!$J$9)),"") | AUW9: - Hỗ trợ ổn định đời sống: | AVA9: =IFERROR(VLOOKUP(AVA3,TrichLuc!$A:$AD,29,0)*IF(VLOOKUP(AVA3,TrichLuc!$A:$AD,24,0)>70,Giadatvaheso!$J$11,IF(VLOOKUP(AVA3,TrichLuc!$A:$AD,24,0)>=30,Giadatvaheso!$J$10,Giadatvaheso!$J$9)),"") | AVH9: - Hỗ trợ ổn định đời sống: | AVL9: =IFERROR(VLOOKUP(AVL3,TrichLuc!$A:$AD,29,0)*IF(VLOOKUP(AVL3,TrichLuc!$A:$AD,24,0)>70,Giadatvaheso!$J$11,IF(VLOOKUP(AVL3,TrichLuc!$A:$AD,24,0)>=30,Giadatvaheso!$J$10,Giadatvaheso!$J$9)),"") | AVS9: - Hỗ trợ ổn định đời sống: | AVW9: =IFERROR(VLOOKUP(AVW3,TrichLuc!$A:$AD,29,0)*IF(VLOOKUP(AVW3,TrichLuc!$A:$AD,24,0)>70,Giadatvaheso!$J$11,IF(VLOOKUP(AVW3,TrichLuc!$A:$AD,24,0)>=30,Giadatvaheso!$J$10,Giadatvaheso!$J$9)),"")
B10: - Hỗ trợ đối với Người có công với cách mạng | F10: =IFERROR(IF(F17>=200,INDEX(TrichLuc!$AG$11:$AG$1699,MATCH(BangTinh!F3,TrichLuc!$C$11:$C$1699,0))*Giadatvaheso!$J$14,""),0) -> 0 | M10: - Hỗ trợ đối với Người có công với cách mạng | Q10: =IFERROR(IF(Q17>=200,INDEX(TrichLuc!$AG$11:$AG$1699,MATCH(BangTinh!Q3,TrichLuc!$C$11:$C$1699,0))*Giadatvaheso!$J$14,""),0) -> 0 | X10: - Hỗ trợ đối với Người có công với cách mạng | AB10: =IFERROR(IF(AB17>=200,INDEX(TrichLuc!$AG$11:$AG$1699,MATCH(BangTinh!AB3,TrichLuc!$C$11:$C$1699,0))*Giadatvaheso!$J$14,""),0) -> 0 | AI10: - Hỗ trợ đối với Người có công với cách mạng | AM10: =IFERROR(IF(AM17>=200,INDEX(TrichLuc!$AG$11:$AG$1699,MATCH(BangTinh!AM3,TrichLuc!$C$11:$C$1699,0))*Giadatvaheso!$J$14,""),0) -> 0 | AT10: - Hỗ trợ đối với Người có công với cách mạng | AX10: =IFERROR(IF(AX17>=200,INDEX(TrichLuc!$AG$11:$AG$1699,MATCH(BangTinh!AX3,TrichLuc!$C$11:$C$1699,0))*Giadatvaheso!$J$14,""),0) | BE10: - Hỗ trợ đối với Người có công với cách mạng | BI10: =IFERROR(IF(BI17>=200,INDEX(TrichLuc!$AG$11:$AG$1699,MATCH(BangTinh!BI3,TrichLuc!$C$11:$C$1699,0))*Giadatvaheso!$J$14,""),0) -> 0 | BP10: - Hỗ trợ đối với Người có công với cách mạng | BT10: =IFERROR(IF(BT17>=200,INDEX(TrichLuc!$AG$11:$AG$1699,MATCH(BangTinh!BT3,TrichLuc!$C$11:$C$1699,0))*Giadatvaheso!$J$14,""),0) -> 0 | CA10: - Hỗ trợ đối với Người có công với cách mạng | CE10: =IFERROR(IF(CE17>=200,INDEX(TrichLuc!$AG$11:$AG$1699,MATCH(BangTinh!CE3,TrichLuc!$C$11:$C$1699,0))*Giadatvaheso!$J$14,""),0) -> 0 | CL10: - Hỗ trợ đối với Người có công với cách mạng | CP10: =IFERROR(IF(CP17>=200,INDEX(TrichLuc!$AG$11:$AG$1699,MATCH(BangTinh!CP3,TrichLuc!$C$11:$C$1699,0))*Giadatvaheso!$J$14,""),0) | CW10: - Hỗ trợ đối với Người có công với cách mạng | DA10: =IFERROR(IF(DA17>=200,INDEX(TrichLuc!$AG$11:$AG$1699,MATCH(BangTinh!DA3,TrichLuc!$C$11:$C$1699,0))*Giadatvaheso!$J$14,""),0) | DH10: - Hỗ trợ đối với Người có công với cách mạng | DL10: =IFERROR(IF(DL17>=200,INDEX(TrichLuc!$AG$11:$AG$1699,MATCH(BangTinh!DL3,TrichLuc!$C$11:$C$1699,0))*Giadatvaheso!$J$14,""),0) | DS10: - Hỗ trợ đối với Người có công với cách mạng | DW10: =IFERROR(IF(DW17>=200,INDEX(TrichLuc!$AG$11:$AG$1699,MATCH(BangTinh!DW3,TrichLuc!$C$11:$C$1699,0))*Giadatvaheso!$J$14,""),0) | ED10: - Hỗ trợ đối với Người có công với cách mạng | EH10: =IFERROR(IF(EH17>=200,INDEX(TrichLuc!$AG$11:$AG$1699,MATCH(BangTinh!EH3,TrichLuc!$C$11:$C$1699,0))*Giadatvaheso!$J$14,""),0) | EO10: - Hỗ trợ đối với Người có công với cách mạng | ES10: =IFERROR(IF(ES17>=200,INDEX(TrichLuc!$AG$11:$AG$1699,MATCH(BangTinh!ES3,TrichLuc!$C$11:$C$1699,0))*Giadatvaheso!$J$14,""),0) | EZ10: - Hỗ trợ đối với Người có công với cách mạng | FD10: =IFERROR(IF(FD17>=200,INDEX(TrichLuc!$AG$11:$AG$1699,MATCH(BangTinh!FD3,TrichLuc!$C$11:$C$1699,0))*Giadatvaheso!$J$14,""),0) | FK10: - Hỗ trợ đối với Người có công với cách mạng | FO10: =IFERROR(IF(FO17>=200,INDEX(TrichLuc!$AG$11:$AG$1699,MATCH(BangTinh!FO3,TrichLuc!$C$11:$C$1699,0))*Giadatvaheso!$J$14,""),0) | FV10: - Hỗ trợ đối với Người có công với cách mạng | FZ10: =IFERROR(IF(FZ17>=200,INDEX(TrichLuc!$AG$11:$AG$1699,MATCH(BangTinh!FZ3,TrichLuc!$C$11:$C$1699,0))*Giadatvaheso!$J$14,""),0) | GG10: - Hỗ trợ đối với Người có công với cách mạng | GK10: =IFERROR(IF(GK17>=200,INDEX(TrichLuc!$AG$11:$AG$1699,MATCH(BangTinh!GK3,TrichLuc!$C$11:$C$1699,0))*Giadatvaheso!$J$14,""),0) | GR10: - Hỗ trợ đối với Người có công với cách mạng | GV10: =IFERROR(IF(GV17>=200,INDEX(TrichLuc!$AG$11:$AG$1699,MATCH(BangTinh!GV3,TrichLuc!$C$11:$C$1699,0))*Giadatvaheso!$J$14,""),0) | HC10: - Hỗ trợ đối với Người có công với cách mạng | HG10: =IFERROR(IF(HG17>=200,INDEX(TrichLuc!$AG$11:$AG$1699,MATCH(BangTinh!HG3,TrichLuc!$C$11:$C$1699,0))*Giadatvaheso!$J$14,""),0) | HN10: - Hỗ trợ đối với Người có công với cách mạng | HR10: =IFERROR(IF(HR17>=200,INDEX(TrichLuc!$AG$11:$AG$1699,MATCH(BangTinh!HR3,TrichLuc!$C$11:$C$1699,0))*Giadatvaheso!$J$14,""),0) | HY10: - Hỗ trợ đối với Người có công với cách mạng | IC10: =IFERROR(IF(IC17>=200,INDEX(TrichLuc!$AG$11:$AG$1699,MATCH(BangTinh!IC3,TrichLuc!$C$11:$C$1699,0))*Giadatvaheso!$J$14,""),0) | IJ10: - Hỗ trợ đối với Người có công với cách mạng | IN10: =IFERROR(IF(IN17>=200,INDEX(TrichLuc!$AG$11:$AG$1699,MATCH(BangTinh!IN3,TrichLuc!$C$11:$C$1699,0))*Giadatvaheso!$J$14,""),0) | IU10: - Hỗ trợ đối với Người có công với cách mạng | IY10: =IFERROR(IF(IY17>=200,INDEX(TrichLuc!$AG$11:$AG$1699,MATCH(BangTinh!IY3,TrichLuc!$C$11:$C$1699,0))*Giadatvaheso!$J$14,""),0) | JF10: - Hỗ trợ đối với Người có công với cách mạng | JJ10: =IFERROR(IF(JJ17>=200,INDEX(TrichLuc!$AG$11:$AG$1699,MATCH(BangTinh!JJ3,TrichLuc!$C$11:$C$1699,0))*Giadatvaheso!$J$14,""),0) | JQ10: - Hỗ trợ đối với Người có công với cách mạng | JU10: =IFERROR(IF(JU17>=200,INDEX(TrichLuc!$AG$11:$AG$1699,MATCH(BangTinh!JU3,TrichLuc!$C$11:$C$1699,0))*Giadatvaheso!$J$14,""),0) | KB10: - Hỗ trợ đối với Người có công với cách mạng | KF10: =IFERROR(IF(KF17>=200,INDEX(TrichLuc!$AG$11:$AG$1699,MATCH(BangTinh!KF3,TrichLuc!$C$11:$C$1699,0))*Giadatvaheso!$J$14,""),0) | KM10: - Hỗ trợ đối với Người có công với cách mạng | KQ10: =IFERROR(IF(KQ17>=200,INDEX(TrichLuc!$AG$11:$AG$1699,MATCH(BangTinh!KQ3,TrichLuc!$C$11:$C$1699,0))*Giadatvaheso!$J$14,""),0) | KX10: - Hỗ trợ đối với Người có công với cách mạng | LB10: =IFERROR(IF(LB17>=200,INDEX(TrichLuc!$AG$11:$AG$1699,MATCH(BangTinh!LB3,TrichLuc!$C$11:$C$1699,0))*Giadatvaheso!$J$14,""),0) | LI10: - Hỗ trợ đối với Người có công với cách mạng | LM10: =IFERROR(IF(LM17>=200,INDEX(TrichLuc!$AG$11:$AG$1699,MATCH(BangTinh!LM3,TrichLuc!$C$11:$C$1699,0))*Giadatvaheso!$J$14,""),0) | LT10: - Hỗ trợ đối với Người có công với cách mạng | LX10: =IFERROR(IF(LX17>=200,INDEX(TrichLuc!$AG$11:$AG$1699,MATCH(BangTinh!LX3,TrichLuc!$C$11:$C$1699,0))*Giadatvaheso!$J$14,""),0) | ME10: - Hỗ trợ đối với Người có công với cách mạng | MI10: =IFERROR(IF(MI17>=200,INDEX(TrichLuc!$AG$11:$AG$1699,MATCH(BangTinh!MI3,TrichLuc!$C$11:$C$1699,0))*Giadatvaheso!$J$14,""),0) | MP10: - Hỗ trợ đối với Người có công với cách mạng | MT10: =IFERROR(IF(MT17>=200,INDEX(TrichLuc!$AG$11:$AG$1699,MATCH(BangTinh!MT3,TrichLuc!$C$11:$C$1699,0))*Giadatvaheso!$J$14,""),0) | NA10: - Hỗ trợ đối với Người có công với cách mạng | NE10: =IFERROR(IF(NE17>=200,INDEX(TrichLuc!$AG$11:$AG$1699,MATCH(BangTinh!NE3,TrichLuc!$C$11:$C$1699,0))*Giadatvaheso!$J$14,""),0) | NL10: - Hỗ trợ đối với Người có công với cách mạng | NP10: =IFERROR(IF(NP17>=200,INDEX(TrichLuc!$AG$11:$AG$1699,MATCH(BangTinh!NP3,TrichLuc!$C$11:$C$1699,0))*Giadatvaheso!$J$14,""),0) | NW10: - Hỗ trợ đối với Người có công với cách mạng | OA10: =IFERROR(IF(OA17>=200,INDEX(TrichLuc!$AG$11:$AG$1699,MATCH(BangTinh!OA3,TrichLuc!$C$11:$C$1699,0))*Giadatvaheso!$J$14,""),0) | OH10: - Hỗ trợ đối với Người có công với cách mạng | OL10: =IFERROR(IF(OL17>=200,INDEX(TrichLuc!$AG$11:$AG$1699,MATCH(BangTinh!OL3,TrichLuc!$C$11:$C$1699,0))*Giadatvaheso!$J$14,""),0) | OS10: - Hỗ trợ đối với Người có công với cách mạng | OW10: =IFERROR(IF(OW17>=200,INDEX(TrichLuc!$AG$11:$AG$1699,MATCH(BangTinh!OW3,TrichLuc!$C$11:$C$1699,0))*Giadatvaheso!$J$14,""),0) | PD10: - Hỗ trợ đối với Người có công với cách mạng | PH10: =IFERROR(IF(PH17>=200,INDEX(TrichLuc!$AG$11:$AG$1699,MATCH(BangTinh!PH3,TrichLuc!$C$11:$C$1699,0))*Giadatvaheso!$J$14,""),0) | PO10: - Hỗ trợ đối với Người có công với cách mạng | PS10: =IFERROR(IF(PS17>=200,INDEX(TrichLuc!$AG$11:$AG$1699,MATCH(BangTinh!PS3,TrichLuc!$C$11:$C$1699,0))*Giadatvaheso!$J$14,""),0) | PZ10: - Hỗ trợ đối với Người có công với cách mạng | QD10: =IFERROR(IF(QD17>=200,INDEX(TrichLuc!$AG$11:$AG$1699,MATCH(BangTinh!QD3,TrichLuc!$C$11:$C$1699,0))*Giadatvaheso!$J$14,""),0) | QK10: - Hỗ trợ đối với Người có công với cách mạng | QO10: =IFERROR(IF(QO17>=200,INDEX(TrichLuc!$AG$11:$AG$1699,MATCH(BangTinh!QO3,TrichLuc!$C$11:$C$1699,0))*Giadatvaheso!$J$14,""),0) | QV10: - Hỗ trợ đối với Người có công với cách mạng | QZ10: =IFERROR(IF(QZ17>=200,INDEX(TrichLuc!$AG$11:$AG$1699,MATCH(BangTinh!QZ3,TrichLuc!$C$11:$C$1699,0))*Giadatvaheso!$J$14,""),0) | RG10: - Hỗ trợ đối với Người có công với cách mạng | RK10: =IFERROR(IF(RK17>=200,INDEX(TrichLuc!$AG$11:$AG$1699,MATCH(BangTinh!RK3,TrichLuc!$C$11:$C$1699,0))*Giadatvaheso!$J$14,""),0) | RR10: - Hỗ trợ đối với Người có công với cách mạng | RV10: =IFERROR(IF(RV17>=200,INDEX(TrichLuc!$AG$11:$AG$1699,MATCH(BangTinh!RV3,TrichLuc!$C$11:$C$1699,0))*Giadatvaheso!$J$14,""),0) | SC10: - Hỗ trợ đối với Người có công với cách mạng | SG10: =IFERROR(IF(SG17>=200,INDEX(TrichLuc!$AG$11:$AG$1699,MATCH(BangTinh!SG3,TrichLuc!$C$11:$C$1699,0))*Giadatvaheso!$J$14,""),0) | SN10: - Hỗ trợ đối với Người có công với cách mạng | SR10: =IFERROR(IF(SR17>=200,INDEX(TrichLuc!$AG$11:$AG$1699,MATCH(BangTinh!SR3,TrichLuc!$C$11:$C$1699,0))*Giadatvaheso!$J$14,""),0) | SY10: - Hỗ trợ đối với Người có công với cách mạng | TC10: =IFERROR(IF(TC17>=200,INDEX(TrichLuc!$AG$11:$AG$1699,MATCH(BangTinh!TC3,TrichLuc!$C$11:$C$1699,0))*Giadatvaheso!$J$14,""),0) | TJ10: - Hỗ trợ đối với Người có công với cách mạng | TN10: =IFERROR(IF(TN17>=200,INDEX(TrichLuc!$AG$11:$AG$1699,MATCH(BangTinh!TN3,TrichLuc!$C$11:$C$1699,0))*Giadatvaheso!$J$14,""),0) | TU10: - Hỗ trợ đối với Người có công với cách mạng | TY10: =IFERROR(IF(TY17>=200,INDEX(TrichLuc!$AG$11:$AG$1699,MATCH(BangTinh!TY3,TrichLuc!$C$11:$C$1699,0))*Giadatvaheso!$J$14,""),0) | UF10: - Hỗ trợ đối với Người có công với cách mạng | UJ10: =IFERROR(IF(UJ17>=200,INDEX(TrichLuc!$AG$11:$AG$1699,MATCH(BangTinh!UJ3,TrichLuc!$C$11:$C$1699,0))*Giadatvaheso!$J$14,""),0) | UQ10: - Hỗ trợ đối với Người có công với cách mạng | UU10: =IFERROR(IF(UU17>=200,INDEX(TrichLuc!$AG$11:$AG$1699,MATCH(BangTinh!UU3,TrichLuc!$C$11:$C$1699,0))*Giadatvaheso!$J$14,""),0) | VB10: - Hỗ trợ đối với Người có công với cách mạng | VF10: =IFERROR(IF(VF17>=200,INDEX(TrichLuc!$AG$11:$AG$1699,MATCH(BangTinh!VF3,TrichLuc!$C$11:$C$1699,0))*Giadatvaheso!$J$14,""),0) | VM10: - Hỗ trợ đối với Người có công với cách mạng | VQ10: =IFERROR(IF(VQ17>=200,INDEX(TrichLuc!$AG$11:$AG$1699,MATCH(BangTinh!VQ3,TrichLuc!$C$11:$C$1699,0))*Giadatvaheso!$J$14,""),0) | VX10: - Hỗ trợ đối với Người có công với cách mạng | WB10: =IFERROR(IF(WB17>=200,INDEX(TrichLuc!$AG$11:$AG$1699,MATCH(BangTinh!WB3,TrichLuc!$C$11:$C$1699,0))*Giadatvaheso!$J$14,""),0) | WI10: - Hỗ trợ đối với Người có công với cách mạng | WM10: =IFERROR(IF(WM17>=200,INDEX(TrichLuc!$AG$11:$AG$1699,MATCH(BangTinh!WM3,TrichLuc!$C$11:$C$1699,0))*Giadatvaheso!$J$14,""),0) | WT10: - Hỗ trợ đối với Người có công với cách mạng | WX10: =IFERROR(IF(WX17>=200,INDEX(TrichLuc!$AG$11:$AG$1699,MATCH(BangTinh!WX3,TrichLuc!$C$11:$C$1699,0))*Giadatvaheso!$J$14,""),0) | XE10: - Hỗ trợ đối với Người có công với cách mạng | XI10: =IFERROR(IF(XI17>=200,INDEX(TrichLuc!$AG$11:$AG$1699,MATCH(BangTinh!XI3,TrichLuc!$C$11:$C$1699,0))*Giadatvaheso!$J$14,""),0) | XP10: - Hỗ trợ đối với Người có công với cách mạng | XT10: =IFERROR(IF(XT17>=200,INDEX(TrichLuc!$AG$11:$AG$1699,MATCH(BangTinh!XT3,TrichLuc!$C$11:$C$1699,0))*Giadatvaheso!$J$14,""),0) | YA10: - Hỗ trợ đối với Người có công với cách mạng | YE10: =IFERROR(IF(YE17>=200,INDEX(TrichLuc!$AG$11:$AG$1699,MATCH(BangTinh!YE3,TrichLuc!$C$11:$C$1699,0))*Giadatvaheso!$J$14,""),0) | YL10: - Hỗ trợ đối với Người có công với cách mạng | YP10: =IFERROR(IF(YP17>=200,INDEX(TrichLuc!$AG$11:$AG$1699,MATCH(BangTinh!YP3,TrichLuc!$C$11:$C$1699,0))*Giadatvaheso!$J$14,""),0) | YW10: - Hỗ trợ đối với Người có công với cách mạng | ZA10: =IFERROR(IF(ZA17>=200,INDEX(TrichLuc!$AG$11:$AG$1699,MATCH(BangTinh!ZA3,TrichLuc!$C$11:$C$1699,0))*Giadatvaheso!$J$14,""),0) | ZH10: - Hỗ trợ đối với Người có công với cách mạng | ZL10: =IFERROR(IF(ZL17>=200,INDEX(TrichLuc!$AG$11:$AG$1699,MATCH(BangTinh!ZL3,TrichLuc!$C$11:$C$1699,0))*Giadatvaheso!$J$14,""),0) | ZS10: - Hỗ trợ đối với Người có công với cách mạng | ZW10: =IFERROR(IF(ZW17>=200,INDEX(TrichLuc!$AG$11:$AG$1699,MATCH(BangTinh!ZW3,TrichLuc!$C$11:$C$1699,0))*Giadatvaheso!$J$14,""),0) | AAD10: - Hỗ trợ đối với Người có công với cách mạng | AAH10: =IFERROR(IF(AAH17>=200,INDEX(TrichLuc!$AG$11:$AG$1699,MATCH(BangTinh!AAH3,TrichLuc!$C$11:$C$1699,0))*Giadatvaheso!$J$14,""),0) | AAO10: - Hỗ trợ đối với Người có công với cách mạng | AAS10: =IFERROR(IF(AAS17>=200,INDEX(TrichLuc!$AG$11:$AG$1699,MATCH(BangTinh!AAS3,TrichLuc!$C$11:$C$1699,0))*Giadatvaheso!$J$14,""),0) | AAZ10: - Hỗ trợ đối với Người có công với cách mạng | ABD10: =IFERROR(IF(ABD17>=200,INDEX(TrichLuc!$AG$11:$AG$1699,MATCH(BangTinh!ABD3,TrichLuc!$C$11:$C$1699,0))*Giadatvaheso!$J$14,""),0) | ABK10: - Hỗ trợ đối với Người có công với cách mạng | ABO10: =IFERROR(IF(ABO17>=200,INDEX(TrichLuc!$AG$11:$AG$1699,MATCH(BangTinh!ABO3,TrichLuc!$C$11:$C$1699,0))*Giadatvaheso!$J$14,""),0) | ABV10: - Hỗ trợ đối với Người có công với cách mạng | ABZ10: =IFERROR(IF(ABZ17>=200,INDEX(TrichLuc!$AG$11:$AG$1699,MATCH(BangTinh!ABZ3,TrichLuc!$C$11:$C$1699,0))*Giadatvaheso!$J$14,""),0) | ACG10: - Hỗ trợ đối với Người có công với cách mạng | ACK10: =IFERROR(IF(ACK17>=200,INDEX(TrichLuc!$AG$11:$AG$1699,MATCH(BangTinh!ACK3,TrichLuc!$C$11:$C$1699,0))*Giadatvaheso!$J$14,""),0) | ACR10: - Hỗ trợ đối với Người có công với cách mạng | ACV10: =IFERROR(IF(ACV17>=200,INDEX(TrichLuc!$AG$11:$AG$1699,MATCH(BangTinh!ACV3,TrichLuc!$C$11:$C$1699,0))*Giadatvaheso!$J$14,""),0) | ADC10: - Hỗ trợ đối với Người có công với cách mạng | ADG10: =IFERROR(IF(ADG17>=200,INDEX(TrichLuc!$AG$11:$AG$1699,MATCH(BangTinh!ADG3,TrichLuc!$C$11:$C$1699,0))*Giadatvaheso!$J$14,""),0) | ADN10: - Hỗ trợ đối với Người có công với cách mạng | ADR10: =IFERROR(IF(ADR17>=200,INDEX(TrichLuc!$AG$11:$AG$1699,MATCH(BangTinh!ADR3,TrichLuc!$C$11:$C$1699,0))*Giadatvaheso!$J$14,""),0) | ADY10: - Hỗ trợ đối với Người có công với cách mạng | AEC10: =IFERROR(IF(AEC17>=200,INDEX(TrichLuc!$AG$11:$AG$1699,MATCH(BangTinh!AEC3,TrichLuc!$C$11:$C$1699,0))*Giadatvaheso!$J$14,""),0) | AEJ10: - Hỗ trợ đối với Người có công với cách mạng | AEN10: =IFERROR(IF(AEN17>=200,INDEX(TrichLuc!$AG$11:$AG$1699,MATCH(BangTinh!AEN3,TrichLuc!$C$11:$C$1699,0))*Giadatvaheso!$J$14,""),0) | AEU10: - Hỗ trợ đối với Người có công với cách mạng | AEY10: =IFERROR(IF(AEY17>=200,INDEX(TrichLuc!$AG$11:$AG$1699,MATCH(BangTinh!AEY3,TrichLuc!$C$11:$C$1699,0))*Giadatvaheso!$J$14,""),0) | AFF10: - Hỗ trợ đối với Người có công với cách mạng | AFJ10: =IFERROR(IF(AFJ17>=200,INDEX(TrichLuc!$AG$11:$AG$1699,MATCH(BangTinh!AFJ3,TrichLuc!$C$11:$C$1699,0))*Giadatvaheso!$J$14,""),0) | AFQ10: - Hỗ trợ đối với Người có công với cách mạng | AFU10: =IFERROR(IF(AFU17>=200,INDEX(TrichLuc!$AG$11:$AG$1699,MATCH(BangTinh!AFU3,TrichLuc!$C$11:$C$1699,0))*Giadatvaheso!$J$14,""),0) | AGB10: - Hỗ trợ đối với Người có công với cách mạng | AGF10: =IFERROR(IF(AGF17>=200,INDEX(TrichLuc!$AG$11:$AG$1699,MATCH(BangTinh!AGF3,TrichLuc!$C$11:$C$1699,0))*Giadatvaheso!$J$14,""),0) | AGM10: - Hỗ trợ đối với Người có công với cách mạng | AGQ10: =IFERROR(IF(AGQ17>=200,INDEX(TrichLuc!$AG$11:$AG$1699,MATCH(BangTinh!AGQ3,TrichLuc!$C$11:$C$1699,0))*Giadatvaheso!$J$14,""),0) | AGX10: - Hỗ trợ đối với Người có công với cách mạng | AHB10: =IFERROR(IF(AHB17>=200,INDEX(TrichLuc!$AG$11:$AG$1699,MATCH(BangTinh!AHB3,TrichLuc!$C$11:$C$1699,0))*Giadatvaheso!$J$14,""),0) | AHI10: - Hỗ trợ đối với Người có công với cách mạng | AHM10: =IFERROR(IF(AHM17>=200,INDEX(TrichLuc!$AG$11:$AG$1699,MATCH(BangTinh!AHM3,TrichLuc!$C$11:$C$1699,0))*Giadatvaheso!$J$14,""),0) | AHT10: - Hỗ trợ đối với Người có công với cách mạng | AHX10: =IFERROR(IF(AHX17>=200,INDEX(TrichLuc!$AG$11:$AG$1699,MATCH(BangTinh!AHX3,TrichLuc!$C$11:$C$1699,0))*Giadatvaheso!$J$14,""),0) | AIE10: - Hỗ trợ đối với Người có công với cách mạng | AII10: =IFERROR(IF(AII17>=200,INDEX(TrichLuc!$AG$11:$AG$1699,MATCH(BangTinh!AII3,TrichLuc!$C$11:$C$1699,0))*Giadatvaheso!$J$14,""),0) | AIP10: - Hỗ trợ đối với Người có công với cách mạng | AIT10: =IFERROR(IF(AIT17>=200,INDEX(TrichLuc!$AG$11:$AG$1699,MATCH(BangTinh!AIT3,TrichLuc!$C$11:$C$1699,0))*Giadatvaheso!$J$14,""),0) | AJA10: - Hỗ trợ đối với Người có công với cách mạng | AJE10: =IFERROR(IF(AJE17>=200,INDEX(TrichLuc!$AG$11:$AG$1699,MATCH(BangTinh!AJE3,TrichLuc!$C$11:$C$1699,0))*Giadatvaheso!$J$14,""),0) | AJL10: - Hỗ trợ đối với Người có công với cách mạng | AJP10: =IFERROR(IF(AJP17>=200,INDEX(TrichLuc!$AG$11:$AG$1699,MATCH(BangTinh!AJP3,TrichLuc!$C$11:$C$1699,0))*Giadatvaheso!$J$14,""),0) | AJW10: - Hỗ trợ đối với Người có công với cách mạng | AKA10: =IFERROR(IF(AKA17>=200,INDEX(TrichLuc!$AG$11:$AG$1699,MATCH(BangTinh!AKA3,TrichLuc!$C$11:$C$1699,0))*Giadatvaheso!$J$14,""),0) | AKH10: - Hỗ trợ đối với Người có công với cách mạng | AKL10: =IFERROR(IF(AKL17>=200,INDEX(TrichLuc!$AG$11:$AG$1699,MATCH(BangTinh!AKL3,TrichLuc!$C$11:$C$1699,0))*Giadatvaheso!$J$14,""),0) | AKS10: - Hỗ trợ đối với Người có công với cách mạng | AKW10: =IFERROR(IF(AKW17>=200,INDEX(TrichLuc!$AG$11:$AG$1699,MATCH(BangTinh!AKW3,TrichLuc!$C$11:$C$1699,0))*Giadatvaheso!$J$14,""),0) | ALD10: - Hỗ trợ đối với Người có công với cách mạng | ALH10: =IFERROR(IF(ALH17>=200,INDEX(TrichLuc!$AG$11:$AG$1699,MATCH(BangTinh!ALH3,TrichLuc!$C$11:$C$1699,0))*Giadatvaheso!$J$14,""),0) | ALO10: - Hỗ trợ đối với Người có công với cách mạng | ALS10: =IFERROR(IF(ALS17>=200,INDEX(TrichLuc!$AG$11:$AG$1699,MATCH(BangTinh!ALS3,TrichLuc!$C$11:$C$1699,0))*Giadatvaheso!$J$14,""),0) | ALZ10: - Hỗ trợ đối với Người có công với cách mạng | AMD10: =IFERROR(IF(AMD17>=200,INDEX(TrichLuc!$AG$11:$AG$1699,MATCH(BangTinh!AMD3,TrichLuc!$C$11:$C$1699,0))*Giadatvaheso!$J$14,""),0) | AMK10: - Hỗ trợ đối với Người có công với cách mạng | AMO10: =IFERROR(IF(AMO17>=200,INDEX(TrichLuc!$AG$11:$AG$1699,MATCH(BangTinh!AMO3,TrichLuc!$C$11:$C$1699,0))*Giadatvaheso!$J$14,""),0) | AMV10: - Hỗ trợ đối với Người có công với cách mạng | AMZ10: =IFERROR(IF(AMZ17>=200,INDEX(TrichLuc!$AG$11:$AG$1699,MATCH(BangTinh!AMZ3,TrichLuc!$C$11:$C$1699,0))*Giadatvaheso!$J$14,""),0) | ANG10: - Hỗ trợ đối với Người có công với cách mạng | ANK10: =IFERROR(IF(ANK17>=200,INDEX(TrichLuc!$AG$11:$AG$1699,MATCH(BangTinh!ANK3,TrichLuc!$C$11:$C$1699,0))*Giadatvaheso!$J$14,""),0) | ANR10: - Hỗ trợ đối với Người có công với cách mạng | ANV10: =IFERROR(IF(ANV17>=200,INDEX(TrichLuc!$AG$11:$AG$1699,MATCH(BangTinh!ANV3,TrichLuc!$C$11:$C$1699,0))*Giadatvaheso!$J$14,""),0) | AOC10: - Hỗ trợ đối với Người có công với cách mạng | AOG10: =IFERROR(IF(AOG17>=200,INDEX(TrichLuc!$AG$11:$AG$1699,MATCH(BangTinh!AOG3,TrichLuc!$C$11:$C$1699,0))*Giadatvaheso!$J$14,""),0) | AON10: - Hỗ trợ đối với Người có công với cách mạng | AOR10: =IFERROR(IF(AOR17>=200,INDEX(TrichLuc!$AG$11:$AG$1699,MATCH(BangTinh!AOR3,TrichLuc!$C$11:$C$1699,0))*Giadatvaheso!$J$14,""),0) | AOY10: - Hỗ trợ đối với Người có công với cách mạng | APC10: =IFERROR(IF(APC17>=200,INDEX(TrichLuc!$AG$11:$AG$1699,MATCH(BangTinh!APC3,TrichLuc!$C$11:$C$1699,0))*Giadatvaheso!$J$14,""),0) | APJ10: - Hỗ trợ đối với Người có công với cách mạng | APN10: =IFERROR(IF(APN17>=200,INDEX(TrichLuc!$AG$11:$AG$1699,MATCH(BangTinh!APN3,TrichLuc!$C$11:$C$1699,0))*Giadatvaheso!$J$14,""),0) | APU10: - Hỗ trợ đối với Người có công với cách mạng | APY10: =IFERROR(IF(APY17>=200,INDEX(TrichLuc!$AG$11:$AG$1699,MATCH(BangTinh!APY3,TrichLuc!$C$11:$C$1699,0))*Giadatvaheso!$J$14,""),0) | AQF10: - Hỗ trợ đối với Người có công với cách mạng | AQJ10: =IFERROR(IF(AQJ17>=200,INDEX(TrichLuc!$AG$11:$AG$1699,MATCH(BangTinh!AQJ3,TrichLuc!$C$11:$C$1699,0))*Giadatvaheso!$J$14,""),0) | AQQ10: - Hỗ trợ đối với Người có công với cách mạng | AQU10: =IFERROR(IF(AQU17>=200,INDEX(TrichLuc!$AG$11:$AG$1699,MATCH(BangTinh!AQU3,TrichLuc!$C$11:$C$1699,0))*Giadatvaheso!$J$14,""),0) | ARB10: - Hỗ trợ đối với Người có công với cách mạng | ARF10: =IFERROR(IF(ARF17>=200,INDEX(TrichLuc!$AG$11:$AG$1699,MATCH(BangTinh!ARF3,TrichLuc!$C$11:$C$1699,0))*Giadatvaheso!$J$14,""),0) | ARM10: - Hỗ trợ đối với Người có công với cách mạng | ARQ10: =IFERROR(IF(ARQ17>=200,INDEX(TrichLuc!$AG$11:$AG$1699,MATCH(BangTinh!ARQ3,TrichLuc!$C$11:$C$1699,0))*Giadatvaheso!$J$14,""),0) | ARX10: - Hỗ trợ đối với Người có công với cách mạng | ASB10: =IFERROR(IF(ASB17>=200,INDEX(TrichLuc!$AG$11:$AG$1699,MATCH(BangTinh!ASB3,TrichLuc!$C$11:$C$1699,0))*Giadatvaheso!$J$14,""),0) | ASI10: - Hỗ trợ đối với Người có công với cách mạng | ASM10: =IFERROR(IF(ASM17>=200,INDEX(TrichLuc!$AG$11:$AG$1699,MATCH(BangTinh!ASM3,TrichLuc!$C$11:$C$1699,0))*Giadatvaheso!$J$14,""),0) | AST10: - Hỗ trợ đối với Người có công với cách mạng | ASX10: =IFERROR(IF(ASX17>=200,INDEX(TrichLuc!$AG$11:$AG$1699,MATCH(BangTinh!ASX3,TrichLuc!$C$11:$C$1699,0))*Giadatvaheso!$J$14,""),0) | ATE10: - Hỗ trợ đối với Người có công với cách mạng | ATI10: =IFERROR(IF(ATI17>=200,INDEX(TrichLuc!$AG$11:$AG$1699,MATCH(BangTinh!ATI3,TrichLuc!$C$11:$C$1699,0))*Giadatvaheso!$J$14,""),0) | ATP10: - Hỗ trợ đối với Người có công với cách mạng | ATT10: =IFERROR(IF(ATT17>=200,INDEX(TrichLuc!$AG$11:$AG$1699,MATCH(BangTinh!ATT3,TrichLuc!$C$11:$C$1699,0))*Giadatvaheso!$J$14,""),0) | AUA10: - Hỗ trợ đối với Người có công với cách mạng | AUE10: =IFERROR(IF(AUE17>=200,INDEX(TrichLuc!$AG$11:$AG$1699,MATCH(BangTinh!AUE3,TrichLuc!$C$11:$C$1699,0))*Giadatvaheso!$J$14,""),0) | AUL10: - Hỗ trợ đối với Người có công với cách mạng | AUP10: =IFERROR(IF(AUP17>=200,INDEX(TrichLuc!$AG$11:$AG$1699,MATCH(BangTinh!AUP3,TrichLuc!$C$11:$C$1699,0))*Giadatvaheso!$J$14,""),0) | AUW10: - Hỗ trợ đối với Người có công với cách mạng | AVA10: =IFERROR(IF(AVA17>=200,INDEX(TrichLuc!$AG$11:$AG$1699,MATCH(BangTinh!AVA3,TrichLuc!$C$11:$C$1699,0))*Giadatvaheso!$J$14,""),0) | AVH10: - Hỗ trợ đối với Người có công với cách mạng | AVL10: =IFERROR(IF(AVL17>=200,INDEX(TrichLuc!$AG$11:$AG$1699,MATCH(BangTinh!AVL3,TrichLuc!$C$11:$C$1699,0))*Giadatvaheso!$J$14,""),0) | AVS10: - Hỗ trợ đối với Người có công với cách mạng | AVW10: =IFERROR(IF(AVW17>=200,INDEX(TrichLuc!$AG$11:$AG$1699,MATCH(BangTinh!AVW3,TrichLuc!$C$11:$C$1699,0))*Giadatvaheso!$J$14,""),0)
B11: - Hỗ trợ đối với hộ nghèo, cận nghèo | F11: =IFERROR(IF(F17>=200,INDEX(TrichLuc!$AH$11:$AH$1699,MATCH(BangTinh!F3,TrichLuc!$C$11:$C$1699,0))*Giadatvaheso!$J$15,""),0) -> 0 | M11: - Hỗ trợ đối với hộ nghèo, cận nghèo | Q11: =IFERROR(IF(Q17>=200,INDEX(TrichLuc!$AH$11:$AH$1699,MATCH(BangTinh!Q3,TrichLuc!$C$11:$C$1699,0))*Giadatvaheso!$J$15,""),0) -> 0 | X11: - Hỗ trợ đối với hộ nghèo, cận nghèo | AB11: =IFERROR(IF(AB17>=200,INDEX(TrichLuc!$AH$11:$AH$1699,MATCH(BangTinh!AB3,TrichLuc!$C$11:$C$1699,0))*Giadatvaheso!$J$15,""),0) -> 0 | AI11: - Hỗ trợ đối với hộ nghèo, cận nghèo | AM11: =IFERROR(IF(AM17>=200,INDEX(TrichLuc!$AH$11:$AH$1699,MATCH(BangTinh!AM3,TrichLuc!$C$11:$C$1699,0))*Giadatvaheso!$J$15,""),0) -> 0 | AT11: - Hỗ trợ đối với hộ nghèo, cận nghèo | AX11: =IFERROR(IF(AX17>=200,INDEX(TrichLuc!$AH$11:$AH$1699,MATCH(BangTinh!AX3,TrichLuc!$C$11:$C$1699,0))*Giadatvaheso!$J$15,""),0) | BE11: - Hỗ trợ đối với hộ nghèo, cận nghèo | BI11: =IFERROR(IF(BI17>=200,INDEX(TrichLuc!$AH$11:$AH$1699,MATCH(BangTinh!BI3,TrichLuc!$C$11:$C$1699,0))*Giadatvaheso!$J$15,""),0) -> 0 | BP11: - Hỗ trợ đối với hộ nghèo, cận nghèo | BT11: =IFERROR(IF(BT17>=200,INDEX(TrichLuc!$AH$11:$AH$1699,MATCH(BangTinh!BT3,TrichLuc!$C$11:$C$1699,0))*Giadatvaheso!$J$15,""),0) -> 0 | CA11: - Hỗ trợ đối với hộ nghèo, cận nghèo | CE11: =IFERROR(IF(CE17>=200,INDEX(TrichLuc!$AH$11:$AH$1699,MATCH(BangTinh!CE3,TrichLuc!$C$11:$C$1699,0))*Giadatvaheso!$J$15,""),0) -> 0 | CL11: - Hỗ trợ đối với hộ nghèo, cận nghèo | CP11: =IFERROR(IF(CP17>=200,INDEX(TrichLuc!$AH$11:$AH$1699,MATCH(BangTinh!CP3,TrichLuc!$C$11:$C$1699,0))*Giadatvaheso!$J$15,""),0) | CW11: - Hỗ trợ đối với hộ nghèo, cận nghèo | DA11: =IFERROR(IF(DA17>=200,INDEX(TrichLuc!$AH$11:$AH$1699,MATCH(BangTinh!DA3,TrichLuc!$C$11:$C$1699,0))*Giadatvaheso!$J$15,""),0) | DH11: - Hỗ trợ đối với hộ nghèo, cận nghèo | DL11: =IFERROR(IF(DL17>=200,INDEX(TrichLuc!$AH$11:$AH$1699,MATCH(BangTinh!DL3,TrichLuc!$C$11:$C$1699,0))*Giadatvaheso!$J$15,""),0) | DS11: - Hỗ trợ đối với hộ nghèo, cận nghèo | DW11: =IFERROR(IF(DW17>=200,INDEX(TrichLuc!$AH$11:$AH$1699,MATCH(BangTinh!DW3,TrichLuc!$C$11:$C$1699,0))*Giadatvaheso!$J$15,""),0) | ED11: - Hỗ trợ đối với hộ nghèo, cận nghèo | EH11: =IFERROR(IF(EH17>=200,INDEX(TrichLuc!$AH$11:$AH$1699,MATCH(BangTinh!EH3,TrichLuc!$C$11:$C$1699,0))*Giadatvaheso!$J$15,""),0) | EO11: - Hỗ trợ đối với hộ nghèo, cận nghèo | ES11: =IFERROR(IF(ES17>=200,INDEX(TrichLuc!$AH$11:$AH$1699,MATCH(BangTinh!ES3,TrichLuc!$C$11:$C$1699,0))*Giadatvaheso!$J$15,""),0) | EZ11: - Hỗ trợ đối với hộ nghèo, cận nghèo | FD11: =IFERROR(IF(FD17>=200,INDEX(TrichLuc!$AH$11:$AH$1699,MATCH(BangTinh!FD3,TrichLuc!$C$11:$C$1699,0))*Giadatvaheso!$J$15,""),0) | FK11: - Hỗ trợ đối với hộ nghèo, cận nghèo | FO11: =IFERROR(IF(FO17>=200,INDEX(TrichLuc!$AH$11:$AH$1699,MATCH(BangTinh!FO3,TrichLuc!$C$11:$C$1699,0))*Giadatvaheso!$J$15,""),0) | FV11: - Hỗ trợ đối với hộ nghèo, cận nghèo | FZ11: =IFERROR(IF(FZ17>=200,INDEX(TrichLuc!$AH$11:$AH$1699,MATCH(BangTinh!FZ3,TrichLuc!$C$11:$C$1699,0))*Giadatvaheso!$J$15,""),0) | GG11: - Hỗ trợ đối với hộ nghèo, cận nghèo | GK11: =IFERROR(IF(GK17>=200,INDEX(TrichLuc!$AH$11:$AH$1699,MATCH(BangTinh!GK3,TrichLuc!$C$11:$C$1699,0))*Giadatvaheso!$J$15,""),0) | GR11: - Hỗ trợ đối với hộ nghèo, cận nghèo | GV11: =IFERROR(IF(GV17>=200,INDEX(TrichLuc!$AH$11:$AH$1699,MATCH(BangTinh!GV3,TrichLuc!$C$11:$C$1699,0))*Giadatvaheso!$J$15,""),0) | HC11: - Hỗ trợ đối với hộ nghèo, cận nghèo | HG11: =IFERROR(IF(HG17>=200,INDEX(TrichLuc!$AH$11:$AH$1699,MATCH(BangTinh!HG3,TrichLuc!$C$11:$C$1699,0))*Giadatvaheso!$J$15,""),0) | HN11: - Hỗ trợ đối với hộ nghèo, cận nghèo | HR11: =IFERROR(IF(HR17>=200,INDEX(TrichLuc!$AH$11:$AH$1699,MATCH(BangTinh!HR3,TrichLuc!$C$11:$C$1699,0))*Giadatvaheso!$J$15,""),0) | HY11: - Hỗ trợ đối với hộ nghèo, cận nghèo | IC11: =IFERROR(IF(IC17>=200,INDEX(TrichLuc!$AH$11:$AH$1699,MATCH(BangTinh!IC3,TrichLuc!$C$11:$C$1699,0))*Giadatvaheso!$J$15,""),0) | IJ11: - Hỗ trợ đối với hộ nghèo, cận nghèo | IN11: =IFERROR(IF(IN17>=200,INDEX(TrichLuc!$AH$11:$AH$1699,MATCH(BangTinh!IN3,TrichLuc!$C$11:$C$1699,0))*Giadatvaheso!$J$15,""),0) | IU11: - Hỗ trợ đối với hộ nghèo, cận nghèo | IY11: =IFERROR(IF(IY17>=200,INDEX(TrichLuc!$AH$11:$AH$1699,MATCH(BangTinh!IY3,TrichLuc!$C$11:$C$1699,0))*Giadatvaheso!$J$15,""),0) | JF11: - Hỗ trợ đối với hộ nghèo, cận nghèo | JJ11: =IFERROR(IF(JJ17>=200,INDEX(TrichLuc!$AH$11:$AH$1699,MATCH(BangTinh!JJ3,TrichLuc!$C$11:$C$1699,0))*Giadatvaheso!$J$15,""),0) | JQ11: - Hỗ trợ đối với hộ nghèo, cận nghèo | JU11: =IFERROR(IF(JU17>=200,INDEX(TrichLuc!$AH$11:$AH$1699,MATCH(BangTinh!JU3,TrichLuc!$C$11:$C$1699,0))*Giadatvaheso!$J$15,""),0) | KB11: - Hỗ trợ đối với hộ nghèo, cận nghèo | KF11: =IFERROR(IF(KF17>=200,INDEX(TrichLuc!$AH$11:$AH$1699,MATCH(BangTinh!KF3,TrichLuc!$C$11:$C$1699,0))*Giadatvaheso!$J$15,""),0) | KM11: - Hỗ trợ đối với hộ nghèo, cận nghèo | KQ11: =IFERROR(IF(KQ17>=200,INDEX(TrichLuc!$AH$11:$AH$1699,MATCH(BangTinh!KQ3,TrichLuc!$C$11:$C$1699,0))*Giadatvaheso!$J$15,""),0) | KX11: - Hỗ trợ đối với hộ nghèo, cận nghèo | LB11: =IFERROR(IF(LB17>=200,INDEX(TrichLuc!$AH$11:$AH$1699,MATCH(BangTinh!LB3,TrichLuc!$C$11:$C$1699,0))*Giadatvaheso!$J$15,""),0) | LI11: - Hỗ trợ đối với hộ nghèo, cận nghèo | LM11: =IFERROR(IF(LM17>=200,INDEX(TrichLuc!$AH$11:$AH$1699,MATCH(BangTinh!LM3,TrichLuc!$C$11:$C$1699,0))*Giadatvaheso!$J$15,""),0) | LT11: - Hỗ trợ đối với hộ nghèo, cận nghèo | LX11: =IFERROR(IF(LX17>=200,INDEX(TrichLuc!$AH$11:$AH$1699,MATCH(BangTinh!LX3,TrichLuc!$C$11:$C$1699,0))*Giadatvaheso!$J$15,""),0) | ME11: - Hỗ trợ đối với hộ nghèo, cận nghèo | MI11: =IFERROR(IF(MI17>=200,INDEX(TrichLuc!$AH$11:$AH$1699,MATCH(BangTinh!MI3,TrichLuc!$C$11:$C$1699,0))*Giadatvaheso!$J$15,""),0) | MP11: - Hỗ trợ đối với hộ nghèo, cận nghèo | MT11: =IFERROR(IF(MT17>=200,INDEX(TrichLuc!$AH$11:$AH$1699,MATCH(BangTinh!MT3,TrichLuc!$C$11:$C$1699,0))*Giadatvaheso!$J$15,""),0) | NA11: - Hỗ trợ đối với hộ nghèo, cận nghèo | NE11: =IFERROR(IF(NE17>=200,INDEX(TrichLuc!$AH$11:$AH$1699,MATCH(BangTinh!NE3,TrichLuc!$C$11:$C$1699,0))*Giadatvaheso!$J$15,""),0) | NL11: - Hỗ trợ đối với hộ nghèo, cận nghèo | NP11: =IFERROR(IF(NP17>=200,INDEX(TrichLuc!$AH$11:$AH$1699,MATCH(BangTinh!NP3,TrichLuc!$C$11:$C$1699,0))*Giadatvaheso!$J$15,""),0) | NW11: - Hỗ trợ đối với hộ nghèo, cận nghèo | OA11: =IFERROR(IF(OA17>=200,INDEX(TrichLuc!$AH$11:$AH$1699,MATCH(BangTinh!OA3,TrichLuc!$C$11:$C$1699,0))*Giadatvaheso!$J$15,""),0) | OH11: - Hỗ trợ đối với hộ nghèo, cận nghèo | OL11: =IFERROR(IF(OL17>=200,INDEX(TrichLuc!$AH$11:$AH$1699,MATCH(BangTinh!OL3,TrichLuc!$C$11:$C$1699,0))*Giadatvaheso!$J$15,""),0) | OS11: - Hỗ trợ đối với hộ nghèo, cận nghèo | OW11: =IFERROR(IF(OW17>=200,INDEX(TrichLuc!$AH$11:$AH$1699,MATCH(BangTinh!OW3,TrichLuc!$C$11:$C$1699,0))*Giadatvaheso!$J$15,""),0) | PD11: - Hỗ trợ đối với hộ nghèo, cận nghèo | PH11: =IFERROR(IF(PH17>=200,INDEX(TrichLuc!$AH$11:$AH$1699,MATCH(BangTinh!PH3,TrichLuc!$C$11:$C$1699,0))*Giadatvaheso!$J$15,""),0) | PO11: - Hỗ trợ đối với hộ nghèo, cận nghèo | PS11: =IFERROR(IF(PS17>=200,INDEX(TrichLuc!$AH$11:$AH$1699,MATCH(BangTinh!PS3,TrichLuc!$C$11:$C$1699,0))*Giadatvaheso!$J$15,""),0) | PZ11: - Hỗ trợ đối với hộ nghèo, cận nghèo | QD11: =IFERROR(IF(QD17>=200,INDEX(TrichLuc!$AH$11:$AH$1699,MATCH(BangTinh!QD3,TrichLuc!$C$11:$C$1699,0))*Giadatvaheso!$J$15,""),0) | QK11: - Hỗ trợ đối với hộ nghèo, cận nghèo | QO11: =IFERROR(IF(QO17>=200,INDEX(TrichLuc!$AH$11:$AH$1699,MATCH(BangTinh!QO3,TrichLuc!$C$11:$C$1699,0))*Giadatvaheso!$J$15,""),0) | QV11: - Hỗ trợ đối với hộ nghèo, cận nghèo | QZ11: =IFERROR(IF(QZ17>=200,INDEX(TrichLuc!$AH$11:$AH$1699,MATCH(BangTinh!QZ3,TrichLuc!$C$11:$C$1699,0))*Giadatvaheso!$J$15,""),0) | RG11: - Hỗ trợ đối với hộ nghèo, cận nghèo | RK11: =IFERROR(IF(RK17>=200,INDEX(TrichLuc!$AH$11:$AH$1699,MATCH(BangTinh!RK3,TrichLuc!$C$11:$C$1699,0))*Giadatvaheso!$J$15,""),0) | RR11: - Hỗ trợ đối với hộ nghèo, cận nghèo | RV11: =IFERROR(IF(RV17>=200,INDEX(TrichLuc!$AH$11:$AH$1699,MATCH(BangTinh!RV3,TrichLuc!$C$11:$C$1699,0))*Giadatvaheso!$J$15,""),0) | SC11: - Hỗ trợ đối với hộ nghèo, cận nghèo | SG11: =IFERROR(IF(SG17>=200,INDEX(TrichLuc!$AH$11:$AH$1699,MATCH(BangTinh!SG3,TrichLuc!$C$11:$C$1699,0))*Giadatvaheso!$J$15,""),0) | SN11: - Hỗ trợ đối với hộ nghèo, cận nghèo | SR11: =IFERROR(IF(SR17>=200,INDEX(TrichLuc!$AH$11:$AH$1699,MATCH(BangTinh!SR3,TrichLuc!$C$11:$C$1699,0))*Giadatvaheso!$J$15,""),0) | SY11: - Hỗ trợ đối với hộ nghèo, cận nghèo | TC11: =IFERROR(IF(TC17>=200,INDEX(TrichLuc!$AH$11:$AH$1699,MATCH(BangTinh!TC3,TrichLuc!$C$11:$C$1699,0))*Giadatvaheso!$J$15,""),0) | TJ11: - Hỗ trợ đối với hộ nghèo, cận nghèo | TN11: =IFERROR(IF(TN17>=200,INDEX(TrichLuc!$AH$11:$AH$1699,MATCH(BangTinh!TN3,TrichLuc!$C$11:$C$1699,0))*Giadatvaheso!$J$15,""),0) | TU11: - Hỗ trợ đối với hộ nghèo, cận nghèo | TY11: =IFERROR(IF(TY17>=200,INDEX(TrichLuc!$AH$11:$AH$1699,MATCH(BangTinh!TY3,TrichLuc!$C$11:$C$1699,0))*Giadatvaheso!$J$15,""),0) | UF11: - Hỗ trợ đối với hộ nghèo, cận nghèo | UJ11: =IFERROR(IF(UJ17>=200,INDEX(TrichLuc!$AH$11:$AH$1699,MATCH(BangTinh!UJ3,TrichLuc!$C$11:$C$1699,0))*Giadatvaheso!$J$15,""),0) | UQ11: - Hỗ trợ đối với hộ nghèo, cận nghèo | UU11: =IFERROR(IF(UU17>=200,INDEX(TrichLuc!$AH$11:$AH$1699,MATCH(BangTinh!UU3,TrichLuc!$C$11:$C$1699,0))*Giadatvaheso!$J$15,""),0) | VB11: - Hỗ trợ đối với hộ nghèo, cận nghèo | VF11: =IFERROR(IF(VF17>=200,INDEX(TrichLuc!$AH$11:$AH$1699,MATCH(BangTinh!VF3,TrichLuc!$C$11:$C$1699,0))*Giadatvaheso!$J$15,""),0) | VM11: - Hỗ trợ đối với hộ nghèo, cận nghèo | VQ11: =IFERROR(IF(VQ17>=200,INDEX(TrichLuc!$AH$11:$AH$1699,MATCH(BangTinh!VQ3,TrichLuc!$C$11:$C$1699,0))*Giadatvaheso!$J$15,""),0) | VX11: - Hỗ trợ đối với hộ nghèo, cận nghèo | WB11: =IFERROR(IF(WB17>=200,INDEX(TrichLuc!$AH$11:$AH$1699,MATCH(BangTinh!WB3,TrichLuc!$C$11:$C$1699,0))*Giadatvaheso!$J$15,""),0) | WI11: - Hỗ trợ đối với hộ nghèo, cận nghèo | WM11: =IFERROR(IF(WM17>=200,INDEX(TrichLuc!$AH$11:$AH$1699,MATCH(BangTinh!WM3,TrichLuc!$C$11:$C$1699,0))*Giadatvaheso!$J$15,""),0) | WT11: - Hỗ trợ đối với hộ nghèo, cận nghèo | WX11: =IFERROR(IF(WX17>=200,INDEX(TrichLuc!$AH$11:$AH$1699,MATCH(BangTinh!WX3,TrichLuc!$C$11:$C$1699,0))*Giadatvaheso!$J$15,""),0) | XE11: - Hỗ trợ đối với hộ nghèo, cận nghèo | XI11: =IFERROR(IF(XI17>=200,INDEX(TrichLuc!$AH$11:$AH$1699,MATCH(BangTinh!XI3,TrichLuc!$C$11:$C$1699,0))*Giadatvaheso!$J$15,""),0) | XP11: - Hỗ trợ đối với hộ nghèo, cận nghèo | XT11: =IFERROR(IF(XT17>=200,INDEX(TrichLuc!$AH$11:$AH$1699,MATCH(BangTinh!XT3,TrichLuc!$C$11:$C$1699,0))*Giadatvaheso!$J$15,""),0) | YA11: - Hỗ trợ đối với hộ nghèo, cận nghèo | YE11: =IFERROR(IF(YE17>=200,INDEX(TrichLuc!$AH$11:$AH$1699,MATCH(BangTinh!YE3,TrichLuc!$C$11:$C$1699,0))*Giadatvaheso!$J$15,""),0) | YL11: - Hỗ trợ đối với hộ nghèo, cận nghèo | YP11: =IFERROR(IF(YP17>=200,INDEX(TrichLuc!$AH$11:$AH$1699,MATCH(BangTinh!YP3,TrichLuc!$C$11:$C$1699,0))*Giadatvaheso!$J$15,""),0) | YW11: - Hỗ trợ đối với hộ nghèo, cận nghèo | ZA11: =IFERROR(IF(ZA17>=200,INDEX(TrichLuc!$AH$11:$AH$1699,MATCH(BangTinh!ZA3,TrichLuc!$C$11:$C$1699,0))*Giadatvaheso!$J$15,""),0) | ZH11: - Hỗ trợ đối với hộ nghèo, cận nghèo | ZL11: =IFERROR(IF(ZL17>=200,INDEX(TrichLuc!$AH$11:$AH$1699,MATCH(BangTinh!ZL3,TrichLuc!$C$11:$C$1699,0))*Giadatvaheso!$J$15,""),0) | ZS11: - Hỗ trợ đối với hộ nghèo, cận nghèo | ZW11: =IFERROR(IF(ZW17>=200,INDEX(TrichLuc!$AH$11:$AH$1699,MATCH(BangTinh!ZW3,TrichLuc!$C$11:$C$1699,0))*Giadatvaheso!$J$15,""),0) | AAD11: - Hỗ trợ đối với hộ nghèo, cận nghèo | AAH11: =IFERROR(IF(AAH17>=200,INDEX(TrichLuc!$AH$11:$AH$1699,MATCH(BangTinh!AAH3,TrichLuc!$C$11:$C$1699,0))*Giadatvaheso!$J$15,""),0) | AAO11: - Hỗ trợ đối với hộ nghèo, cận nghèo | AAS11: =IFERROR(IF(AAS17>=200,INDEX(TrichLuc!$AH$11:$AH$1699,MATCH(BangTinh!AAS3,TrichLuc!$C$11:$C$1699,0))*Giadatvaheso!$J$15,""),0) | AAZ11: - Hỗ trợ đối với hộ nghèo, cận nghèo | ABD11: =IFERROR(IF(ABD17>=200,INDEX(TrichLuc!$AH$11:$AH$1699,MATCH(BangTinh!ABD3,TrichLuc!$C$11:$C$1699,0))*Giadatvaheso!$J$15,""),0) | ABK11: - Hỗ trợ đối với hộ nghèo, cận nghèo | ABO11: =IFERROR(IF(ABO17>=200,INDEX(TrichLuc!$AH$11:$AH$1699,MATCH(BangTinh!ABO3,TrichLuc!$C$11:$C$1699,0))*Giadatvaheso!$J$15,""),0) | ABV11: - Hỗ trợ đối với hộ nghèo, cận nghèo | ABZ11: =IFERROR(IF(ABZ17>=200,INDEX(TrichLuc!$AH$11:$AH$1699,MATCH(BangTinh!ABZ3,TrichLuc!$C$11:$C$1699,0))*Giadatvaheso!$J$15,""),0) | ACG11: - Hỗ trợ đối với hộ nghèo, cận nghèo | ACK11: =IFERROR(IF(ACK17>=200,INDEX(TrichLuc!$AH$11:$AH$1699,MATCH(BangTinh!ACK3,TrichLuc!$C$11:$C$1699,0))*Giadatvaheso!$J$15,""),0) | ACR11: - Hỗ trợ đối với hộ nghèo, cận nghèo | ACV11: =IFERROR(IF(ACV17>=200,INDEX(TrichLuc!$AH$11:$AH$1699,MATCH(BangTinh!ACV3,TrichLuc!$C$11:$C$1699,0))*Giadatvaheso!$J$15,""),0) | ADC11: - Hỗ trợ đối với hộ nghèo, cận nghèo | ADG11: =IFERROR(IF(ADG17>=200,INDEX(TrichLuc!$AH$11:$AH$1699,MATCH(BangTinh!ADG3,TrichLuc!$C$11:$C$1699,0))*Giadatvaheso!$J$15,""),0) | ADN11: - Hỗ trợ đối với hộ nghèo, cận nghèo | ADR11: =IFERROR(IF(ADR17>=200,INDEX(TrichLuc!$AH$11:$AH$1699,MATCH(BangTinh!ADR3,TrichLuc!$C$11:$C$1699,0))*Giadatvaheso!$J$15,""),0) | ADY11: - Hỗ trợ đối với hộ nghèo, cận nghèo | AEC11: =IFERROR(IF(AEC17>=200,INDEX(TrichLuc!$AH$11:$AH$1699,MATCH(BangTinh!AEC3,TrichLuc!$C$11:$C$1699,0))*Giadatvaheso!$J$15,""),0) | AEJ11: - Hỗ trợ đối với hộ nghèo, cận nghèo | AEN11: =IFERROR(IF(AEN17>=200,INDEX(TrichLuc!$AH$11:$AH$1699,MATCH(BangTinh!AEN3,TrichLuc!$C$11:$C$1699,0))*Giadatvaheso!$J$15,""),0) | AEU11: - Hỗ trợ đối với hộ nghèo, cận nghèo | AEY11: =IFERROR(IF(AEY17>=200,INDEX(TrichLuc!$AH$11:$AH$1699,MATCH(BangTinh!AEY3,TrichLuc!$C$11:$C$1699,0))*Giadatvaheso!$J$15,""),0) | AFF11: - Hỗ trợ đối với hộ nghèo, cận nghèo | AFJ11: =IFERROR(IF(AFJ17>=200,INDEX(TrichLuc!$AH$11:$AH$1699,MATCH(BangTinh!AFJ3,TrichLuc!$C$11:$C$1699,0))*Giadatvaheso!$J$15,""),0) | AFQ11: - Hỗ trợ đối với hộ nghèo, cận nghèo | AFU11: =IFERROR(IF(AFU17>=200,INDEX(TrichLuc!$AH$11:$AH$1699,MATCH(BangTinh!AFU3,TrichLuc!$C$11:$C$1699,0))*Giadatvaheso!$J$15,""),0) | AGB11: - Hỗ trợ đối với hộ nghèo, cận nghèo | AGF11: =IFERROR(IF(AGF17>=200,INDEX(TrichLuc!$AH$11:$AH$1699,MATCH(BangTinh!AGF3,TrichLuc!$C$11:$C$1699,0))*Giadatvaheso!$J$15,""),0) | AGM11: - Hỗ trợ đối với hộ nghèo, cận nghèo | AGQ11: =IFERROR(IF(AGQ17>=200,INDEX(TrichLuc!$AH$11:$AH$1699,MATCH(BangTinh!AGQ3,TrichLuc!$C$11:$C$1699,0))*Giadatvaheso!$J$15,""),0) | AGX11: - Hỗ trợ đối với hộ nghèo, cận nghèo | AHB11: =IFERROR(IF(AHB17>=200,INDEX(TrichLuc!$AH$11:$AH$1699,MATCH(BangTinh!AHB3,TrichLuc!$C$11:$C$1699,0))*Giadatvaheso!$J$15,""),0) | AHI11: - Hỗ trợ đối với hộ nghèo, cận nghèo | AHM11: =IFERROR(IF(AHM17>=200,INDEX(TrichLuc!$AH$11:$AH$1699,MATCH(BangTinh!AHM3,TrichLuc!$C$11:$C$1699,0))*Giadatvaheso!$J$15,""),0) | AHT11: - Hỗ trợ đối với hộ nghèo, cận nghèo | AHX11: =IFERROR(IF(AHX17>=200,INDEX(TrichLuc!$AH$11:$AH$1699,MATCH(BangTinh!AHX3,TrichLuc!$C$11:$C$1699,0))*Giadatvaheso!$J$15,""),0) | AIE11: - Hỗ trợ đối với hộ nghèo, cận nghèo | AII11: =IFERROR(IF(AII17>=200,INDEX(TrichLuc!$AH$11:$AH$1699,MATCH(BangTinh!AII3,TrichLuc!$C$11:$C$1699,0))*Giadatvaheso!$J$15,""),0) | AIP11: - Hỗ trợ đối với hộ nghèo, cận nghèo | AIT11: =IFERROR(IF(AIT17>=200,INDEX(TrichLuc!$AH$11:$AH$1699,MATCH(BangTinh!AIT3,TrichLuc!$C$11:$C$1699,0))*Giadatvaheso!$J$15,""),0) | AJA11: - Hỗ trợ đối với hộ nghèo, cận nghèo | AJE11: =IFERROR(IF(AJE17>=200,INDEX(TrichLuc!$AH$11:$AH$1699,MATCH(BangTinh!AJE3,TrichLuc!$C$11:$C$1699,0))*Giadatvaheso!$J$15,""),0) | AJL11: - Hỗ trợ đối với hộ nghèo, cận nghèo | AJP11: =IFERROR(IF(AJP17>=200,INDEX(TrichLuc!$AH$11:$AH$1699,MATCH(BangTinh!AJP3,TrichLuc!$C$11:$C$1699,0))*Giadatvaheso!$J$15,""),0) | AJW11: - Hỗ trợ đối với hộ nghèo, cận nghèo | AKA11: =IFERROR(IF(AKA17>=200,INDEX(TrichLuc!$AH$11:$AH$1699,MATCH(BangTinh!AKA3,TrichLuc!$C$11:$C$1699,0))*Giadatvaheso!$J$15,""),0) | AKH11: - Hỗ trợ đối với hộ nghèo, cận nghèo | AKL11: =IFERROR(IF(AKL17>=200,INDEX(TrichLuc!$AH$11:$AH$1699,MATCH(BangTinh!AKL3,TrichLuc!$C$11:$C$1699,0))*Giadatvaheso!$J$15,""),0) | AKS11: - Hỗ trợ đối với hộ nghèo, cận nghèo | AKW11: =IFERROR(IF(AKW17>=200,INDEX(TrichLuc!$AH$11:$AH$1699,MATCH(BangTinh!AKW3,TrichLuc!$C$11:$C$1699,0))*Giadatvaheso!$J$15,""),0) | ALD11: - Hỗ trợ đối với hộ nghèo, cận nghèo | ALH11: =IFERROR(IF(ALH17>=200,INDEX(TrichLuc!$AH$11:$AH$1699,MATCH(BangTinh!ALH3,TrichLuc!$C$11:$C$1699,0))*Giadatvaheso!$J$15,""),0) | ALO11: - Hỗ trợ đối với hộ nghèo, cận nghèo | ALS11: =IFERROR(IF(ALS17>=200,INDEX(TrichLuc!$AH$11:$AH$1699,MATCH(BangTinh!ALS3,TrichLuc!$C$11:$C$1699,0))*Giadatvaheso!$J$15,""),0) | ALZ11: - Hỗ trợ đối với hộ nghèo, cận nghèo | AMD11: =IFERROR(IF(AMD17>=200,INDEX(TrichLuc!$AH$11:$AH$1699,MATCH(BangTinh!AMD3,TrichLuc!$C$11:$C$1699,0))*Giadatvaheso!$J$15,""),0) | AMK11: - Hỗ trợ đối với hộ nghèo, cận nghèo | AMO11: =IFERROR(IF(AMO17>=200,INDEX(TrichLuc!$AH$11:$AH$1699,MATCH(BangTinh!AMO3,TrichLuc!$C$11:$C$1699,0))*Giadatvaheso!$J$15,""),0) | AMV11: - Hỗ trợ đối với hộ nghèo, cận nghèo | AMZ11: =IFERROR(IF(AMZ17>=200,INDEX(TrichLuc!$AH$11:$AH$1699,MATCH(BangTinh!AMZ3,TrichLuc!$C$11:$C$1699,0))*Giadatvaheso!$J$15,""),0) | ANG11: - Hỗ trợ đối với hộ nghèo, cận nghèo | ANK11: =IFERROR(IF(ANK17>=200,INDEX(TrichLuc!$AH$11:$AH$1699,MATCH(BangTinh!ANK3,TrichLuc!$C$11:$C$1699,0))*Giadatvaheso!$J$15,""),0) | ANR11: - Hỗ trợ đối với hộ nghèo, cận nghèo | ANV11: =IFERROR(IF(ANV17>=200,INDEX(TrichLuc!$AH$11:$AH$1699,MATCH(BangTinh!ANV3,TrichLuc!$C$11:$C$1699,0))*Giadatvaheso!$J$15,""),0) | AOC11: - Hỗ trợ đối với hộ nghèo, cận nghèo | AOG11: =IFERROR(IF(AOG17>=200,INDEX(TrichLuc!$AH$11:$AH$1699,MATCH(BangTinh!AOG3,TrichLuc!$C$11:$C$1699,0))*Giadatvaheso!$J$15,""),0) | AON11: - Hỗ trợ đối với hộ nghèo, cận nghèo | AOR11: =IFERROR(IF(AOR17>=200,INDEX(TrichLuc!$AH$11:$AH$1699,MATCH(BangTinh!AOR3,TrichLuc!$C$11:$C$1699,0))*Giadatvaheso!$J$15,""),0) | AOY11: - Hỗ trợ đối với hộ nghèo, cận nghèo | APC11: =IFERROR(IF(APC17>=200,INDEX(TrichLuc!$AH$11:$AH$1699,MATCH(BangTinh!APC3,TrichLuc!$C$11:$C$1699,0))*Giadatvaheso!$J$15,""),0) | APJ11: - Hỗ trợ đối với hộ nghèo, cận nghèo | APN11: =IFERROR(IF(APN17>=200,INDEX(TrichLuc!$AH$11:$AH$1699,MATCH(BangTinh!APN3,TrichLuc!$C$11:$C$1699,0))*Giadatvaheso!$J$15,""),0) | APU11: - Hỗ trợ đối với hộ nghèo, cận nghèo | APY11: =IFERROR(IF(APY17>=200,INDEX(TrichLuc!$AH$11:$AH$1699,MATCH(BangTinh!APY3,TrichLuc!$C$11:$C$1699,0))*Giadatvaheso!$J$15,""),0) | AQF11: - Hỗ trợ đối với hộ nghèo, cận nghèo | AQJ11: =IFERROR(IF(AQJ17>=200,INDEX(TrichLuc!$AH$11:$AH$1699,MATCH(BangTinh!AQJ3,TrichLuc!$C$11:$C$1699,0))*Giadatvaheso!$J$15,""),0) | AQQ11: - Hỗ trợ đối với hộ nghèo, cận nghèo | AQU11: =IFERROR(IF(AQU17>=200,INDEX(TrichLuc!$AH$11:$AH$1699,MATCH(BangTinh!AQU3,TrichLuc!$C$11:$C$1699,0))*Giadatvaheso!$J$15,""),0) | ARB11: - Hỗ trợ đối với hộ nghèo, cận nghèo | ARF11: =IFERROR(IF(ARF17>=200,INDEX(TrichLuc!$AH$11:$AH$1699,MATCH(BangTinh!ARF3,TrichLuc!$C$11:$C$1699,0))*Giadatvaheso!$J$15,""),0) | ARM11: - Hỗ trợ đối với hộ nghèo, cận nghèo | ARQ11: =IFERROR(IF(ARQ17>=200,INDEX(TrichLuc!$AH$11:$AH$1699,MATCH(BangTinh!ARQ3,TrichLuc!$C$11:$C$1699,0))*Giadatvaheso!$J$15,""),0) | ARX11: - Hỗ trợ đối với hộ nghèo, cận nghèo | ASB11: =IFERROR(IF(ASB17>=200,INDEX(TrichLuc!$AH$11:$AH$1699,MATCH(BangTinh!ASB3,TrichLuc!$C$11:$C$1699,0))*Giadatvaheso!$J$15,""),0) | ASI11: - Hỗ trợ đối với hộ nghèo, cận nghèo | ASM11: =IFERROR(IF(ASM17>=200,INDEX(TrichLuc!$AH$11:$AH$1699,MATCH(BangTinh!ASM3,TrichLuc!$C$11:$C$1699,0))*Giadatvaheso!$J$15,""),0) | AST11: - Hỗ trợ đối với hộ nghèo, cận nghèo | ASX11: =IFERROR(IF(ASX17>=200,INDEX(TrichLuc!$AH$11:$AH$1699,MATCH(BangTinh!ASX3,TrichLuc!$C$11:$C$1699,0))*Giadatvaheso!$J$15,""),0) | ATE11: - Hỗ trợ đối với hộ nghèo, cận nghèo | ATI11: =IFERROR(IF(ATI17>=200,INDEX(TrichLuc!$AH$11:$AH$1699,MATCH(BangTinh!ATI3,TrichLuc!$C$11:$C$1699,0))*Giadatvaheso!$J$15,""),0) | ATP11: - Hỗ trợ đối với hộ nghèo, cận nghèo | ATT11: =IFERROR(IF(ATT17>=200,INDEX(TrichLuc!$AH$11:$AH$1699,MATCH(BangTinh!ATT3,TrichLuc!$C$11:$C$1699,0))*Giadatvaheso!$J$15,""),0) | AUA11: - Hỗ trợ đối với hộ nghèo, cận nghèo | AUE11: =IFERROR(IF(AUE17>=200,INDEX(TrichLuc!$AH$11:$AH$1699,MATCH(BangTinh!AUE3,TrichLuc!$C$11:$C$1699,0))*Giadatvaheso!$J$15,""),0) | AUL11: - Hỗ trợ đối với hộ nghèo, cận nghèo | AUP11: =IFERROR(IF(AUP17>=200,INDEX(TrichLuc!$AH$11:$AH$1699,MATCH(BangTinh!AUP3,TrichLuc!$C$11:$C$1699,0))*Giadatvaheso!$J$15,""),0) | AUW11: - Hỗ trợ đối với hộ nghèo, cận nghèo | AVA11: =IFERROR(IF(AVA17>=200,INDEX(TrichLuc!$AH$11:$AH$1699,MATCH(BangTinh!AVA3,TrichLuc!$C$11:$C$1699,0))*Giadatvaheso!$J$15,""),0) | AVH11: - Hỗ trợ đối với hộ nghèo, cận nghèo | AVL11: =IFERROR(IF(AVL17>=200,INDEX(TrichLuc!$AH$11:$AH$1699,MATCH(BangTinh!AVL3,TrichLuc!$C$11:$C$1699,0))*Giadatvaheso!$J$15,""),0) | AVS11: - Hỗ trợ đối với hộ nghèo, cận nghèo | AVW11: =IFERROR(IF(AVW17>=200,INDEX(TrichLuc!$AH$11:$AH$1699,MATCH(BangTinh!AVW3,TrichLuc!$C$11:$C$1699,0))*Giadatvaheso!$J$15,""),0)
B12: Tiền cây và hoa màu: | F12: =SUM(D47:D59) -> 0 | M12: Tiền cây và hoa màu: | Q12: =SUM(O47:O59) -> 0 | X12: Tiền cây và hoa màu: | AB12: =SUM(Z47:Z59) -> 0 | AI12: Tiền cây và hoa màu: | AM12: =SUM(AK47:AK59) -> 0 | AT12: Tiền cây và hoa màu: | AX12: =SUM(AV47:AV59) -> 0 | BE12: Tiền cây và hoa màu: | BI12: =SUM(BG47:BG59) -> 0 | BP12: Tiền cây và hoa màu: | BT12: =SUM(BR47:BR59) -> 0 | CA12: Tiền cây và hoa màu: | CE12: =SUM(CC47:CC59) -> 0 | CL12: Tiền cây và hoa màu: | CP12: =SUM(CN47:CN59) -> 0 | CW12: Tiền cây và hoa màu: | DA12: =SUM(CY47:CY59) -> 0 | DH12: Tiền cây và hoa màu: | DL12: =SUM(DJ47:DJ59) -> 0 | DS12: Tiền cây và hoa màu: | DW12: =SUM(DU47:DU59) -> 0 | ED12: Tiền cây và hoa màu: | EH12: =SUM(EF47:EF59) -> 0 | EO12: Tiền cây và hoa màu: | ES12: =SUM(EQ47:EQ59) -> 0 | EZ12: Tiền cây và hoa màu: | FD12: =SUM(FB47:FB59) -> 0 | FK12: Tiền cây và hoa màu: | FO12: =SUM(FM47:FM59) -> 0 | FV12: Tiền cây và hoa màu: | FZ12: =SUM(FX47:FX59) -> 0 | GG12: Tiền cây và hoa màu: | GK12: =SUM(GI47:GI59) -> 0 | GR12: Tiền cây và hoa màu: | GV12: =SUM(GT47:GT59) -> 0 | HC12: Tiền cây và hoa màu: | HG12: =SUM(HE47:HE59) -> 0 | HN12: Tiền cây và hoa màu: | HR12: =SUM(HP47:HP59) -> 0 | HY12: Tiền cây và hoa màu: | IC12: =SUM(IA47:IA59) -> 0 | IJ12: Tiền cây và hoa màu: | IN12: =SUM(IL47:IL59) -> 0 | IU12: Tiền cây và hoa màu: | IY12: =SUM(IW47:IW59) -> 0 | JF12: Tiền cây và hoa màu: | JJ12: =SUM(JH47:JH59) -> 0 | JQ12: Tiền cây và hoa màu: | JU12: =SUM(JS47:JS59) -> 0 | KB12: Tiền cây và hoa màu: | KF12: =SUM(KD47:KD59) -> 0 | KM12: Tiền cây và hoa màu: | KQ12: =SUM(KO47:KO59) -> 0 | KX12: Tiền cây và hoa màu: | LB12: =SUM(KZ47:KZ59) -> 0 | LI12: Tiền cây và hoa màu: | LM12: =SUM(LK47:LK59) -> 0 | LT12: Tiền cây và hoa màu: | LX12: =SUM(LV47:LV59) -> 0 | ME12: Tiền cây và hoa màu: | MI12: =SUM(MG47:MG59) -> 0 | MP12: Tiền cây và hoa màu: | MT12: =SUM(MR47:MR59) -> 0 | NA12: Tiền cây và hoa màu: | NE12: =SUM(NC47:NC59) -> 0 | NL12: Tiền cây và hoa màu: | NP12: =SUM(NN47:NN59) -> 0 | NW12: Tiền cây và hoa màu: | OA12: =SUM(NY47:NY59) -> 0 | OH12: Tiền cây và hoa màu: | OL12: =SUM(OJ47:OJ59) -> 0 | OS12: Tiền cây và hoa màu: | OW12: =SUM(OU47:OU59) -> 0 | PD12: Tiền cây và hoa màu: | PH12: =SUM(PF47:PF59) -> 0 | PO12: Tiền cây và hoa màu: | PS12: =SUM(PQ47:PQ59) -> 0 | PZ12: Tiền cây và hoa màu: | QD12: =SUM(QB47:QB59) -> 0 | QK12: Tiền cây và hoa màu: | QO12: =SUM(QM47:QM59) -> 0 | QV12: Tiền cây và hoa màu: | QZ12: =SUM(QX47:QX59) -> 0 | RG12: Tiền cây và hoa màu: | RK12: =SUM(RI47:RI59) -> 0 | RR12: Tiền cây và hoa màu: | RV12: =SUM(RT47:RT59) -> 0 | SC12: Tiền cây và hoa màu: | SG12: =SUM(SE47:SE59) -> 0 | SN12: Tiền cây và hoa màu: | SR12: =SUM(SP47:SP59) -> 0 | SY12: Tiền cây và hoa màu: | TC12: =SUM(TA47:TA59) -> 0 | TJ12: Tiền cây và hoa màu: | TN12: =SUM(TL47:TL59) -> 0 | TU12: Tiền cây và hoa màu: | TY12: =SUM(TW47:TW59) -> 0 | UF12: Tiền cây và hoa màu: | UJ12: =SUM(UH47:UH59) -> 0 | UQ12: Tiền cây và hoa màu: | UU12: =SUM(US47:US59) -> 0 | VB12: Tiền cây và hoa màu: | VF12: =SUM(VD47:VD59) -> 0 | VM12: Tiền cây và hoa màu: | VQ12: =SUM(VO47:VO59) -> 0 | VX12: Tiền cây và hoa màu: | WB12: =SUM(VZ47:VZ59) -> 0 | WI12: Tiền cây và hoa màu: | WM12: =SUM(WK47:WK59) -> 0 | WT12: Tiền cây và hoa màu: | WX12: =SUM(WV47:WV59) -> 0 | XE12: Tiền cây và hoa màu: | XI12: =SUM(XG47:XG59) -> 0 | XP12: Tiền cây và hoa màu: | XT12: =SUM(XR47:XR59) -> 0 | YA12: Tiền cây và hoa màu: | YE12: =SUM(YC47:YC59) -> 0 | YL12: Tiền cây và hoa màu: | YP12: =SUM(YN47:YN59) -> 0 | YW12: Tiền cây và hoa màu: | ZA12: =SUM(YY47:YY59) -> 0 | ZH12: Tiền cây và hoa màu: | ZL12: =SUM(ZJ47:ZJ59) -> 0 | ZS12: Tiền cây và hoa màu: | ZW12: =SUM(ZU47:ZU59) -> 0 | AAD12: Tiền cây và hoa màu: | AAH12: =SUM(AAF47:AAF59) -> 0 | AAO12: Tiền cây và hoa màu: | AAS12: =SUM(AAQ47:AAQ59) -> 0 | AAZ12: Tiền cây và hoa màu: | ABD12: =SUM(ABB47:ABB59) -> 0 | ABK12: Tiền cây và hoa màu: | ABO12: =SUM(ABM47:ABM59) -> 0 | ABV12: Tiền cây và hoa màu: | ABZ12: =SUM(ABX47:ABX59) -> 0 | ACG12: Tiền cây và hoa màu: | ACK12: =SUM(ACI47:ACI59) -> 0 | ACR12: Tiền cây và hoa màu: | ACV12: =SUM(ACT47:ACT59) -> 0 | ADC12: Tiền cây và hoa màu: | ADG12: =SUM(ADE47:ADE59) -> 0 | ADN12: Tiền cây và hoa màu: | ADR12: =SUM(ADP47:ADP59) -> 0 | ADY12: Tiền cây và hoa màu: | AEC12: =SUM(AEA47:AEA59) -> 0 | AEJ12: Tiền cây và hoa màu: | AEN12: =SUM(AEL47:AEL59) -> 0 | AEU12: Tiền cây và hoa màu: | AEY12: =SUM(AEW47:AEW59) -> 0 | AFF12: Tiền cây và hoa màu: | AFJ12: =SUM(AFH47:AFH59) -> 0 | AFQ12: Tiền cây và hoa màu: | AFU12: =SUM(AFS47:AFS59) -> 0 | AGB12: Tiền cây và hoa màu: | AGF12: =SUM(AGD47:AGD59) -> 0 | AGM12: Tiền cây và hoa màu: | AGQ12: =SUM(AGO47:AGO59) -> 0 | AGX12: Tiền cây và hoa màu: | AHB12: =SUM(AGZ47:AGZ59) -> 0 | AHI12: Tiền cây và hoa màu: | AHM12: =SUM(AHK47:AHK59) -> 0 | AHT12: Tiền cây và hoa màu: | AHX12: =SUM(AHV47:AHV59) -> 0 | AIE12: Tiền cây và hoa màu: | AII12: =SUM(AIG47:AIG59) -> 0 | AIP12: Tiền cây và hoa màu: | AIT12: =SUM(AIR47:AIR59) -> 0 | AJA12: Tiền cây và hoa màu: | AJE12: =SUM(AJC47:AJC59) -> 0 | AJL12: Tiền cây và hoa màu: | AJP12: =SUM(AJN47:AJN59) -> 0 | AJW12: Tiền cây và hoa màu: | AKA12: =SUM(AJY47:AJY59) -> 0 | AKH12: Tiền cây và hoa màu: | AKL12: =SUM(AKJ47:AKJ59) -> 0 | AKS12: Tiền cây và hoa màu: | AKW12: =SUM(AKU47:AKU59) -> 0 | ALD12: Tiền cây và hoa màu: | ALH12: =SUM(ALF47:ALF59) -> 0 | ALO12: Tiền cây và hoa màu: | ALS12: =SUM(ALQ47:ALQ59) -> 0 | ALZ12: Tiền cây và hoa màu: | AMD12: =SUM(AMB47:AMB59) -> 0 | AMK12: Tiền cây và hoa màu: | AMO12: =SUM(AMM47:AMM59) -> 0 | AMV12: Tiền cây và hoa màu: | AMZ12: =SUM(AMX47:AMX59) -> 0 | ANG12: Tiền cây và hoa màu: | ANK12: =SUM(ANI47:ANI59) -> 0 | ANR12: Tiền cây và hoa màu: | ANV12: =SUM(ANT47:ANT59) -> 0 | AOC12: Tiền cây và hoa màu: | AOG12: =SUM(AOE47:AOE59) -> 0 | AON12: Tiền cây và hoa màu: | AOR12: =SUM(AOP47:AOP59) -> 0 | AOY12: Tiền cây và hoa màu: | APC12: =SUM(APA47:APA59) -> 0 | APJ12: Tiền cây và hoa màu: | APN12: =SUM(APL47:APL59) -> 0 | APU12: Tiền cây và hoa màu: | APY12: =SUM(APW47:APW59) -> 0 | AQF12: Tiền cây và hoa màu: | AQJ12: =SUM(AQH47:AQH59) -> 0 | AQQ12: Tiền cây và hoa màu: | AQU12: =SUM(AQS47:AQS59) -> 0 | ARB12: Tiền cây và hoa màu: | ARF12: =SUM(ARD47:ARD59) -> 0 | ARM12: Tiền cây và hoa màu: | ARQ12: =SUM(ARO47:ARO59) -> 0 | ARX12: Tiền cây và hoa màu: | ASB12: =SUM(ARZ47:ARZ59) -> 0 | ASI12: Tiền cây và hoa màu: | ASM12: =SUM(ASK47:ASK59) -> 0 | AST12: Tiền cây và hoa màu: | ASX12: =SUM(ASV47:ASV59) -> 0 | ATE12: Tiền cây và hoa màu: | ATI12: =SUM(ATG47:ATG59) -> 0 | ATP12: Tiền cây và hoa màu: | ATT12: =SUM(ATR47:ATR59) -> 0 | AUA12: Tiền cây và hoa màu: | AUE12: =SUM(AUC47:AUC59) -> 0 | AUL12: Tiền cây và hoa màu: | AUP12: =SUM(AUN47:AUN59) -> 0 | AUW12: Tiền cây và hoa màu: | AVA12: =SUM(AUY47:AUY59) -> 0 | AVH12: Tiền cây và hoa màu: | AVL12: =SUM(AVJ47:AVJ59) -> 0 | AVS12: Tiền cây và hoa màu: | AVW12: =SUM(AVU47:AVU59) -> 0
B13: Tổng | F13: =SUM(F5,F6,F12) -> 4.01094e+08 | M13: Tổng | Q13: =SUM(Q5,Q6,Q12) -> 403767000 | X13: Tổng | AB13: =SUM(AB5,AB6,AB12) -> 4.30146e+08 | AI13: Tổng | AM13: =SUM(AM5,AM6,AM12) -> 147510000 | AT13: Tổng | AX13: =SUM(AX5,AX6,AX12) -> 103455000 | BE13: Tổng | BI13: =SUM(BI5,BI6,BI12) -> 373410000 | BP13: Tổng | BT13: =SUM(BT5,BT6,BT12) -> 297360000 | CA13: Tổng | CE13: =SUM(CE5,CE6,CE12) -> 187020000 | CL13: Tổng | CP13: =SUM(CP5,CP6,CP12) -> 134820000 | CW13: Tổng | DA13: =SUM(DA5,DA6,DA12) -> 16065000 | DH13: Tổng | DL13: =SUM(DL5,DL6,DL12) -> 0 | DS13: Tổng | DW13: =SUM(DW5,DW6,DW12) -> 0 | ED13: Tổng | EH13: =SUM(EH5,EH6,EH12) -> 0 | EO13: Tổng | ES13: =SUM(ES5,ES6,ES12) -> 0 | EZ13: Tổng | FD13: =SUM(FD5,FD6,FD12) -> 0 | FK13: Tổng | FO13: =SUM(FO5,FO6,FO12) -> 0 | FV13: Tổng | FZ13: =SUM(FZ5,FZ6,FZ12) -> 0 | GG13: Tổng | GK13: =SUM(GK5,GK6,GK12) -> 0 | GR13: Tổng | GV13: =SUM(GV5,GV6,GV12) -> 0 | HC13: Tổng | HG13: =SUM(HG5,HG6,HG12) -> 0 | HN13: Tổng | HR13: =SUM(HR5,HR6,HR12) -> 0 | HY13: Tổng | IC13: =SUM(IC5,IC6,IC12) -> 0 | IJ13: Tổng | IN13: =SUM(IN5,IN6,IN12) -> 0 | IU13: Tổng | IY13: =SUM(IY5,IY6,IY12) -> 0 | JF13: Tổng | JJ13: =SUM(JJ5,JJ6,JJ12) -> 0 | JQ13: Tổng | JU13: =SUM(JU5,JU6,JU12) -> 0 | KB13: Tổng | KF13: =SUM(KF5,KF6,KF12) -> 0 | KM13: Tổng | KQ13: =SUM(KQ5,KQ6,KQ12) -> 0 | KX13: Tổng | LB13: =SUM(LB5,LB6,LB12) -> 0 | LI13: Tổng | LM13: =SUM(LM5,LM6,LM12) -> 0 | LT13: Tổng | LX13: =SUM(LX5,LX6,LX12) -> 0 | ME13: Tổng | MI13: =SUM(MI5,MI6,MI12) -> 0 | MP13: Tổng | MT13: =SUM(MT5,MT6,MT12) -> 0 | NA13: Tổng | NE13: =SUM(NE5,NE6,NE12) -> 0 | NL13: Tổng | NP13: =SUM(NP5,NP6,NP12) -> 0 | NW13: Tổng | OA13: =SUM(OA5,OA6,OA12) -> 0 | OH13: Tổng | OL13: =SUM(OL5,OL6,OL12) -> 0 | OS13: Tổng | OW13: =SUM(OW5,OW6,OW12) -> 0 | PD13: Tổng | PH13: =SUM(PH5,PH6,PH12) -> 0 | PO13: Tổng | PS13: =SUM(PS5,PS6,PS12) -> 0 | PZ13: Tổng | QD13: =SUM(QD5,QD6,QD12) -> 0 | QK13: Tổng | QO13: =SUM(QO5,QO6,QO12) -> 0 | QV13: Tổng | QZ13: =SUM(QZ5,QZ6,QZ12) -> 0 | RG13: Tổng | RK13: =SUM(RK5,RK6,RK12) -> 0 | RR13: Tổng | RV13: =SUM(RV5,RV6,RV12) -> 0 | SC13: Tổng | SG13: =SUM(SG5,SG6,SG12) -> 0 | SN13: Tổng | SR13: =SUM(SR5,SR6,SR12) -> 0 | SY13: Tổng | TC13: =SUM(TC5,TC6,TC12) -> 0 | TJ13: Tổng | TN13: =SUM(TN5,TN6,TN12) -> 0 | TU13: Tổng | TY13: =SUM(TY5,TY6,TY12) -> 0 | UF13: Tổng | UJ13: =SUM(UJ5,UJ6,UJ12) -> 0 | UQ13: Tổng | UU13: =SUM(UU5,UU6,UU12) -> 0 | VB13: Tổng | VF13: =SUM(VF5,VF6,VF12) -> 0 | VM13: Tổng | VQ13: =SUM(VQ5,VQ6,VQ12) -> 0 | VX13: Tổng | WB13: =SUM(WB5,WB6,WB12) -> 0 | WI13: Tổng | WM13: =SUM(WM5,WM6,WM12) -> 0 | WT13: Tổng | WX13: =SUM(WX5,WX6,WX12) -> 0 | XE13: Tổng | XI13: =SUM(XI5,XI6,XI12) -> 0 | XP13: Tổng | XT13: =SUM(XT5,XT6,XT12) -> 0 | YA13: Tổng | YE13: =SUM(YE5,YE6,YE12) -> 0 | YL13: Tổng | YP13: =SUM(YP5,YP6,YP12) -> 0 | YW13: Tổng | ZA13: =SUM(ZA5,ZA6,ZA12) -> 0 | ZH13: Tổng | ZL13: =SUM(ZL5,ZL6,ZL12) -> 0 | ZS13: Tổng | ZW13: =SUM(ZW5,ZW6,ZW12) -> 0 | AAD13: Tổng | AAH13: =SUM(AAH5,AAH6,AAH12) -> 0 | AAO13: Tổng | AAS13: =SUM(AAS5,AAS6,AAS12) -> 0 | AAZ13: Tổng | ABD13: =SUM(ABD5,ABD6,ABD12) -> 0 | ABK13: Tổng | ABO13: =SUM(ABO5,ABO6,ABO12) -> 0 | ABV13: Tổng | ABZ13: =SUM(ABZ5,ABZ6,ABZ12) -> 0 | ACG13: Tổng | ACK13: =SUM(ACK5,ACK6,ACK12) -> 0 | ACR13: Tổng | ACV13: =SUM(ACV5,ACV6,ACV12) -> 0 | ADC13: Tổng | ADG13: =SUM(ADG5,ADG6,ADG12) -> 0 | ADN13: Tổng | ADR13: =SUM(ADR5,ADR6,ADR12) -> 0 | ADY13: Tổng | AEC13: =SUM(AEC5,AEC6,AEC12) -> 0 | AEJ13: Tổng | AEN13: =SUM(AEN5,AEN6,AEN12) -> 0 | AEU13: Tổng | AEY13: =SUM(AEY5,AEY6,AEY12) -> 0 | AFF13: Tổng | AFJ13: =SUM(AFJ5,AFJ6,AFJ12) -> 0 | AFQ13: Tổng | AFU13: =SUM(AFU5,AFU6,AFU12) -> 0 | AGB13: Tổng | AGF13: =SUM(AGF5,AGF6,AGF12) -> 0 | AGM13: Tổng | AGQ13: =SUM(AGQ5,AGQ6,AGQ12) -> 0 | AGX13: Tổng | AHB13: =SUM(AHB5,AHB6,AHB12) -> 0 | AHI13: Tổng | AHM13: =SUM(AHM5,AHM6,AHM12) -> 0 | AHT13: Tổng | AHX13: =SUM(AHX5,AHX6,AHX12) -> 0 | AIE13: Tổng | AII13: =SUM(AII5,AII6,AII12) -> 0 | AIP13: Tổng | AIT13: =SUM(AIT5,AIT6,AIT12) -> 0 | AJA13: Tổng | AJE13: =SUM(AJE5,AJE6,AJE12) -> 0 | AJL13: Tổng | AJP13: =SUM(AJP5,AJP6,AJP12) -> 0 | AJW13: Tổng | AKA13: =SUM(AKA5,AKA6,AKA12) -> 0 | AKH13: Tổng | AKL13: =SUM(AKL5,AKL6,AKL12) -> 0 | AKS13: Tổng | AKW13: =SUM(AKW5,AKW6,AKW12) -> 0 | ALD13: Tổng | ALH13: =SUM(ALH5,ALH6,ALH12) -> 0 | ALO13: Tổng | ALS13: =SUM(ALS5,ALS6,ALS12) -> 0 | ALZ13: Tổng | AMD13: =SUM(AMD5,AMD6,AMD12) -> 0 | AMK13: Tổng | AMO13: =SUM(AMO5,AMO6,AMO12) -> 0 | AMV13: Tổng | AMZ13: =SUM(AMZ5,AMZ6,AMZ12) -> 0 | ANG13: Tổng | ANK13: =SUM(ANK5,ANK6,ANK12) -> 0 | ANR13: Tổng | ANV13: =SUM(ANV5,ANV6,ANV12) -> 0 | AOC13: Tổng | AOG13: =SUM(AOG5,AOG6,AOG12) -> 0 | AON13: Tổng | AOR13: =SUM(AOR5,AOR6,AOR12) -> 0 | AOY13: Tổng | APC13: =SUM(APC5,APC6,APC12) -> 0 | APJ13: Tổng | APN13: =SUM(APN5,APN6,APN12) -> 0 | APU13: Tổng | APY13: =SUM(APY5,APY6,APY12) -> 0 | AQF13: Tổng | AQJ13: =SUM(AQJ5,AQJ6,AQJ12) -> 0 | AQQ13: Tổng | AQU13: =SUM(AQU5,AQU6,AQU12) -> 0 | ARB13: Tổng | ARF13: =SUM(ARF5,ARF6,ARF12) -> 0 | ARM13: Tổng | ARQ13: =SUM(ARQ5,ARQ6,ARQ12) -> 0 | ARX13: Tổng | ASB13: =SUM(ASB5,ASB6,ASB12) -> 0 | ASI13: Tổng | ASM13: =SUM(ASM5,ASM6,ASM12) -> 0 | AST13: Tổng | ASX13: =SUM(ASX5,ASX6,ASX12) -> 0 | ATE13: Tổng | ATI13: =SUM(ATI5,ATI6,ATI12) -> 0 | ATP13: Tổng | ATT13: =SUM(ATT5,ATT6,ATT12) -> 0 | AUA13: Tổng | AUE13: =SUM(AUE5,AUE6,AUE12) -> 0 | AUL13: Tổng | AUP13: =SUM(AUP5,AUP6,AUP12) -> 0 | AUW13: Tổng | AVA13: =SUM(AVA5,AVA6,AVA12) -> 0 | AVH13: Tổng | AVL13: =SUM(AVL5,AVL6,AVL12) -> 0 | AVS13: Tổng | AVW13: =SUM(AVW5,AVW6,AVW12) -> 0
B16: Đất lúa | C16: Diện tích | D16: Hình thức giao | M16: Đất lúa | N16: Diện tích | O16: Hình thức giao | X16: Đất lúa | Y16: Diện tích | Z16: Hình thức giao | AI16: Đất lúa | AJ16: Diện tích | AK16: Hình thức giao | AT16: Đất lúa | AU16: Diện tích | AV16: Hình thức giao | BE16: Đất lúa | BF16: Diện tích | BG16: Hình thức giao | BP16: Đất lúa | BQ16: Diện tích | BR16: Hình thức giao | CA16: Đất lúa | CB16: Diện tích | CC16: Hình thức giao | CL16: Đất lúa | CM16: Diện tích | CN16: Hình thức giao | CW16: Đất lúa | CX16: Diện tích | CY16: Hình thức giao | DH16: Đất lúa | DI16: Diện tích | DJ16: Hình thức giao | DS16: Đất lúa | DT16: Diện tích | DU16: Hình thức giao | ED16: Đất lúa | EE16: Diện tích | EF16: Hình thức giao | EO16: Đất lúa | EP16: Diện tích | EQ16: Hình thức giao | EZ16: Đất lúa | FA16: Diện tích | FB16: Hình thức giao | FK16: Đất lúa | FL16: Diện tích | FM16: Hình thức giao | FV16: Đất lúa | FW16: Diện tích | FX16: Hình thức giao | GG16: Đất lúa | GH16: Diện tích | GI16: Hình thức giao | GR16: Đất lúa | GS16: Diện tích | GT16: Hình thức giao | HC16: Đất lúa | HD16: Diện tích | HE16: Hình thức giao | HN16: Đất lúa | HO16: Diện tích | HP16: Hình thức giao | HY16: Đất lúa | HZ16: Diện tích | IA16: Hình thức giao | IJ16: Đất lúa | IK16: Diện tích | IL16: Hình thức giao | IU16: Đất lúa | IV16: Diện tích | IW16: Hình thức giao | JF16: Đất lúa | JG16: Diện tích | JH16: Hình thức giao | JQ16: Đất lúa | JR16: Diện tích | JS16: Hình thức giao | KB16: Đất lúa | KC16: Diện tích | KD16: Hình thức giao | KM16: Đất lúa | KN16: Diện tích | KO16: Hình thức giao | KX16: Đất lúa | KY16: Diện tích | KZ16: Hình thức giao | LI16: Đất lúa | LJ16: Diện tích | LK16: Hình thức giao | LT16: Đất lúa | LU16: Diện tích | LV16: Hình thức giao | ME16: Đất lúa | MF16: Diện tích | MG16: Hình thức giao | MP16: Đất lúa | MQ16: Diện tích | MR16: Hình thức giao | NA16: Đất lúa | NB16: Diện tích | NC16: Hình thức giao | NL16: Đất lúa | NM16: Diện tích | NN16: Hình thức giao | NW16: Đất lúa | NX16: Diện tích | NY16: Hình thức giao | OH16: Đất lúa | OI16: Diện tích | OJ16: Hình thức giao | OS16: Đất lúa | OT16: Diện tích | OU16: Hình thức giao | PD16: Đất lúa | PE16: Diện tích | PF16: Hình thức giao | PO16: Đất lúa | PP16: Diện tích | PQ16: Hình thức giao | PZ16: Đất lúa | QA16: Diện tích | QB16: Hình thức giao | QK16: Đất lúa | QL16: Diện tích | QM16: Hình thức giao | QV16: Đất lúa | QW16: Diện tích | QX16: Hình thức giao | RG16: Đất lúa | RH16: Diện tích | RI16: Hình thức giao | RR16: Đất lúa | RS16: Diện tích | RT16: Hình thức giao | SC16: Đất lúa | SD16: Diện tích | SE16: Hình thức giao | SN16: Đất lúa | SO16: Diện tích | SP16: Hình thức giao | SY16: Đất lúa | SZ16: Diện tích | TA16: Hình thức giao | TJ16: Đất lúa | TK16: Diện tích | TL16: Hình thức giao | TU16: Đất lúa | TV16: Diện tích | TW16: Hình thức giao | UF16: Đất lúa | UG16: Diện tích | UH16: Hình thức giao | UQ16: Đất lúa | UR16: Diện tích | US16: Hình thức giao | VB16: Đất lúa | VC16: Diện tích | VD16: Hình thức giao | VM16: Đất lúa | VN16: Diện tích | VO16: Hình thức giao | VX16: Đất lúa | VY16: Diện tích | VZ16: Hình thức giao | WI16: Đất lúa | WJ16: Diện tích | WK16: Hình thức giao | WT16: Đất lúa | WU16: Diện tích | WV16: Hình thức giao | XE16: Đất lúa | XF16: Diện tích | XG16: Hình thức giao | XP16: Đất lúa | XQ16: Diện tích | XR16: Hình thức giao | YA16: Đất lúa | YB16: Diện tích | YC16: Hình thức giao | YL16: Đất lúa | YM16: Diện tích | YN16: Hình thức giao | YW16: Đất lúa | YX16: Diện tích | YY16: Hình thức giao | ZH16: Đất lúa | ZI16: Diện tích | ZJ16: Hình thức giao | ZS16: Đất lúa | ZT16: Diện tích | ZU16: Hình thức giao | AAD16: Đất lúa | AAE16: Diện tích | AAF16: Hình thức giao | AAO16: Đất lúa | AAP16: Diện tích | AAQ16: Hình thức giao | AAZ16: Đất lúa | ABA16: Diện tích | ABB16: Hình thức giao | ABK16: Đất lúa | ABL16: Diện tích | ABM16: Hình thức giao | ABV16: Đất lúa | ABW16: Diện tích | ABX16: Hình thức giao | ACG16: Đất lúa | ACH16: Diện tích | ACI16: Hình thức giao | ACR16: Đất lúa | ACS16: Diện tích | ACT16: Hình thức giao | ADC16: Đất lúa | ADD16: Diện tích | ADE16: Hình thức giao | ADN16: Đất lúa | ADO16: Diện tích | ADP16: Hình thức giao | ADY16: Đất lúa | ADZ16: Diện tích | AEA16: Hình thức giao | AEJ16: Đất lúa | AEK16: Diện tích | AEL16: Hình thức giao | AEU16: Đất lúa | AEV16: Diện tích | AEW16: Hình thức giao | AFF16: Đất lúa | AFG16: Diện tích | AFH16: Hình thức giao | AFQ16: Đất lúa | AFR16: Diện tích | AFS16: Hình thức giao | AGB16: Đất lúa | AGC16: Diện tích | AGD16: Hình thức giao | AGM16: Đất lúa | AGN16: Diện tích | AGO16: Hình thức giao | AGX16: Đất lúa | AGY16: Diện tích | AGZ16: Hình thức giao | AHI16: Đất lúa | AHJ16: Diện tích | AHK16: Hình thức giao | AHT16: Đất lúa | AHU16: Diện tích | AHV16: Hình thức giao | AIE16: Đất lúa | AIF16: Diện tích | AIG16: Hình thức giao | AIP16: Đất lúa | AIQ16: Diện tích | AIR16: Hình thức giao | AJA16: Đất lúa | AJB16: Diện tích | AJC16: Hình thức giao | AJL16: Đất lúa | AJM16: Diện tích | AJN16: Hình thức giao | AJW16: Đất lúa | AJX16: Diện tích | AJY16: Hình thức giao | AKH16: Đất lúa | AKI16: Diện tích | AKJ16: Hình thức giao | AKS16: Đất lúa | AKT16: Diện tích | AKU16: Hình thức giao | ALD16: Đất lúa | ALE16: Diện tích | ALF16: Hình thức giao | ALO16: Đất lúa | ALP16: Diện tích | ALQ16: Hình thức giao | ALZ16: Đất lúa | AMA16: Diện tích | AMB16: Hình thức giao | AMK16: Đất lúa | AML16: Diện tích | AMM16: Hình thức giao | AMV16: Đất lúa | AMW16: Diện tích | AMX16: Hình thức giao | ANG16: Đất lúa | ANH16: Diện tích | ANI16: Hình thức giao | ANR16: Đất lúa | ANS16: Diện tích | ANT16: Hình thức giao | AOC16: Đất lúa | AOD16: Diện tích | AOE16: Hình thức giao | AON16: Đất lúa | AOO16: Diện tích | AOP16: Hình thức giao | AOY16: Đất lúa | AOZ16: Diện tích | APA16: Hình thức giao | APJ16: Đất lúa | APK16: Diện tích | APL16: Hình thức giao | APU16: Đất lúa | APV16: Diện tích | APW16: Hình thức giao | AQF16: Đất lúa | AQG16: Diện tích | AQH16: Hình thức giao | AQQ16: Đất lúa | AQR16: Diện tích | AQS16: Hình thức giao | ARB16: Đất lúa | ARC16: Diện tích | ARD16: Hình thức giao | ARM16: Đất lúa | ARN16: Diện tích | ARO16: Hình thức giao | ARX16: Đất lúa | ARY16: Diện tích | ARZ16: Hình thức giao | ASI16: Đất lúa | ASJ16: Diện tích | ASK16: Hình thức giao | AST16: Đất lúa | ASU16: Diện tích | ASV16: Hình thức giao | ATE16: Đất lúa | ATF16: Diện tích | ATG16: Hình thức giao | ATP16: Đất lúa | ATQ16: Diện tích | ATR16: Hình thức giao | AUA16: Đất lúa | AUB16: Diện tích | AUC16: Hình thức giao | AUL16: Đất lúa | AUM16: Diện tích | AUN16: Hình thức giao | AUW16: Đất lúa | AUX16: Diện tích | AUY16: Hình thức giao | AVH16: Đất lúa | AVI16: Diện tích | AVJ16: Hình thức giao | AVS16: Đất lúa | AVT16: Diện tích | AVU16: Hình thức giao
D17: 2 lúa | E17: Lâu dài | F17: =SUMIFS(E47:E59,I47:I59,D17,J47:J59,E17) -> 593.8 | O17: 2 lúa | P17: Lâu dài | Q17: =SUMIFS(P47:P59,T47:T59,O17,U47:U59,P17) -> 600.9 | Z17: 2 lúa | AA17: Lâu dài | AB17: =SUMIFS(AA47:AA59,AE47:AE59,Z17,AF47:AF59,AA17) -> 654.2 | AK17: 2 lúa | AL17: Lâu dài | AM17: =SUMIFS(AL47:AL59,AP47:AP59,AK17,AQ47:AQ59,AL17) -> 217 | AV17: 2 lúa | AW17: Lâu dài | AX17: =SUMIFS(AW47:AW59,BA47:BA59,AV17,BB47:BB59,AW17) -> 138.5 | BG17: 2 lúa | BH17: Lâu dài | BI17: =SUMIFS(BH47:BH59,BL47:BL59,BG17,BM47:BM59,BH17) -> 547 | BR17: 2 lúa | BS17: Lâu dài | BT17: =SUMIFS(BS47:BS59,BW47:BW59,BR17,BX47:BX59,BS17) -> 452 | CC17: 2 lúa | CD17: Lâu dài | CE17: =SUMIFS(CD47:CD59,CH47:CH59,CC17,CI47:CI59,CD17) -> 274 | CN17: 2 lúa | CO17: Lâu dài | CP17: =SUMIFS(CO47:CO59,CS47:CS59,CN17,CT47:CT59,CO17) -> 194 | CY17: 2 lúa | CZ17: Lâu dài | DA17: =SUMIFS(CZ47:CZ59,DD47:DD59,CY17,DE47:DE59,CZ17) -> 5.5 | DJ17: 2 lúa | DK17: Lâu dài | DL17: =SUMIFS(DK47:DK59,DO47:DO59,DJ17,DP47:DP59,DK17) -> 0 | DU17: 2 lúa | DV17: Lâu dài | DW17: =SUMIFS(DV47:DV59,DZ47:DZ59,DU17,EA47:EA59,DV17) -> 0 | EF17: 2 lúa | EG17: Lâu dài | EH17: =SUMIFS(EG47:EG59,EK47:EK59,EF17,EL47:EL59,EG17) -> 0 | EQ17: 2 lúa | ER17: Lâu dài | ES17: =SUMIFS(ER47:ER59,EV47:EV59,EQ17,EW47:EW59,ER17) -> 0 | FB17: 2 lúa | FC17: Lâu dài | FD17: =SUMIFS(FC47:FC59,FG47:FG59,FB17,FH47:FH59,FC17) -> 0 | FM17: 2 lúa | FN17: Lâu dài | FO17: =SUMIFS(FN47:FN59,FR47:FR59,FM17,FS47:FS59,FN17) -> 0 | FX17: 2 lúa | FY17: Lâu dài | FZ17: =SUMIFS(FY47:FY59,GC47:GC59,FX17,GD47:GD59,FY17) -> 0 | GI17: 2 lúa | GJ17: Lâu dài | GK17: =SUMIFS(GJ47:GJ59,GN47:GN59,GI17,GO47:GO59,GJ17) -> 0 | GT17: 2 lúa | GU17: Lâu dài | GV17: =SUMIFS(GU47:GU59,GY47:GY59,GT17,GZ47:GZ59,GU17) -> 0 | HE17: 2 lúa | HF17: Lâu dài | HG17: =SUMIFS(HF47:HF59,HJ47:HJ59,HE17,HK47:HK59,HF17) -> 0 | HP17: 2 lúa | HQ17: Lâu dài | HR17: =SUMIFS(HQ47:HQ59,HU47:HU59,HP17,HV47:HV59,HQ17) -> 0 | IA17: 2 lúa | IB17: Lâu dài | IC17: =SUMIFS(IB47:IB59,IF47:IF59,IA17,IG47:IG59,IB17) -> 0 | IL17: 2 lúa | IM17: Lâu dài | IN17: =SUMIFS(IM47:IM59,IQ47:IQ59,IL17,IR47:IR59,IM17) -> 0 | IW17: 2 lúa | IX17: Lâu dài | IY17: =SUMIFS(IX47:IX59,JB47:JB59,IW17,JC47:JC59,IX17) -> 0 | JH17: 2 lúa | JI17: Lâu dài | JJ17: =SUMIFS(JI47:JI59,JM47:JM59,JH17,JN47:JN59,JI17) -> 0 | JS17: 2 lúa | JT17: Lâu dài | JU17: =SUMIFS(JT47:JT59,JX47:JX59,JS17,JY47:JY59,JT17) -> 0 | KD17: 2 lúa | KE17: Lâu dài | KF17: =SUMIFS(KE47:KE59,KI47:KI59,KD17,KJ47:KJ59,KE17) -> 0 | KO17: 2 lúa | KP17: Lâu dài | KQ17: =SUMIFS(KP47:KP59,KT47:KT59,KO17,KU47:KU59,KP17) -> 0 | KZ17: 2 lúa | LA17: Lâu dài | LB17: =SUMIFS(LA47:LA59,LE47:LE59,KZ17,LF47:LF59,LA17) -> 0 | LK17: 2 lúa | LL17: Lâu dài | LM17: =SUMIFS(LL47:LL59,LP47:LP59,LK17,LQ47:LQ59,LL17) -> 0 | LV17: 2 lúa | LW17: Lâu dài | LX17: =SUMIFS(LW47:LW59,MA47:MA59,LV17,MB47:MB59,LW17) -> 0 | MG17: 2 lúa | MH17: Lâu dài | MI17: =SUMIFS(MH47:MH59,ML47:ML59,MG17,MM47:MM59,MH17) -> 0 | MR17: 2 lúa | MS17: Lâu dài | MT17: =SUMIFS(MS47:MS59,MW47:MW59,MR17,MX47:MX59,MS17) -> 0 | NC17: 2 lúa | ND17: Lâu dài | NE17: =SUMIFS(ND47:ND59,NH47:NH59,NC17,NI47:NI59,ND17) -> 0 | NN17: 2 lúa | NO17: Lâu dài | NP17: =SUMIFS(NO47:NO59,NS47:NS59,NN17,NT47:NT59,NO17) -> 0 | NY17: 2 lúa | NZ17: Lâu dài | OA17: =SUMIFS(NZ47:NZ59,OD47:OD59,NY17,OE47:OE59,NZ17) -> 0 | OJ17: 2 lúa | OK17: Lâu dài | OL17: =SUMIFS(OK47:OK59,OO47:OO59,OJ17,OP47:OP59,OK17) -> 0 | OU17: 2 lúa | OV17: Lâu dài | OW17: =SUMIFS(OV47:OV59,OZ47:OZ59,OU17,PA47:PA59,OV17) -> 0 | PF17: 2 lúa | PG17: Lâu dài | PH17: =SUMIFS(PG47:PG59,PK47:PK59,PF17,PL47:PL59,PG17) -> 0 | PQ17: 2 lúa | PR17: Lâu dài | PS17: =SUMIFS(PR47:PR59,PV47:PV59,PQ17,PW47:PW59,PR17) -> 0 | QB17: 2 lúa | QC17: Lâu dài | QD17: =SUMIFS(QC47:QC59,QG47:QG59,QB17,QH47:QH59,QC17) -> 0 | QM17: 2 lúa | QN17: Lâu dài | QO17: =SUMIFS(QN47:QN59,QR47:QR59,QM17,QS47:QS59,QN17) -> 0 | QX17: 2 lúa | QY17: Lâu dài | QZ17: =SUMIFS(QY47:QY59,RC47:RC59,QX17,RD47:RD59,QY17) -> 0 | RI17: 2 lúa | RJ17: Lâu dài | RK17: =SUMIFS(RJ47:RJ59,RN47:RN59,RI17,RO47:RO59,RJ17) -> 0 | RT17: 2 lúa | RU17: Lâu dài | RV17: =SUMIFS(RU47:RU59,RY47:RY59,RT17,RZ47:RZ59,RU17) -> 0 | SE17: 2 lúa | SF17: Lâu dài | SG17: =SUMIFS(SF47:SF59,SJ47:SJ59,SE17,SK47:SK59,SF17) -> 0 | SP17: 2 lúa | SQ17: Lâu dài | SR17: =SUMIFS(SQ47:SQ59,SU47:SU59,SP17,SV47:SV59,SQ17) -> 0 | TA17: 2 lúa | TB17: Lâu dài | TC17: =SUMIFS(TB47:TB59,TF47:TF59,TA17,TG47:TG59,TB17) -> 0 | TL17: 2 lúa | TM17: Lâu dài | TN17: =SUMIFS(TM47:TM59,TQ47:TQ59,TL17,TR47:TR59,TM17) -> 0 | TW17: 2 lúa | TX17: Lâu dài | TY17: =SUMIFS(TX47:TX59,UB47:UB59,TW17,UC47:UC59,TX17) -> 0 | UH17: 2 lúa | UI17: Lâu dài | UJ17: =SUMIFS(UI47:UI59,UM47:UM59,UH17,UN47:UN59,UI17) -> 0 | US17: 2 lúa | UT17: Lâu dài | UU17: =SUMIFS(UT47:UT59,UX47:UX59,US17,UY47:UY59,UT17) -> 0 | VD17: 2 lúa | VE17: Lâu dài | VF17: =SUMIFS(VE47:VE59,VI47:VI59,VD17,VJ47:VJ59,VE17) -> 0 | VO17: 2 lúa | VP17: Lâu dài | VQ17: =SUMIFS(VP47:VP59,VT47:VT59,VO17,VU47:VU59,VP17) -> 0 | VZ17: 2 lúa | WA17: Lâu dài | WB17: =SUMIFS(WA47:WA59,WE47:WE59,VZ17,WF47:WF59,WA17) -> 0 | WK17: 2 lúa | WL17: Lâu dài | WM17: =SUMIFS(WL47:WL59,WP47:WP59,WK17,WQ47:WQ59,WL17) -> 0 | WV17: 2 lúa | WW17: Lâu dài | WX17: =SUMIFS(WW47:WW59,XA47:XA59,WV17,XB47:XB59,WW17) -> 0 | XG17: 2 lúa | XH17: Lâu dài | XI17: =SUMIFS(XH47:XH59,XL47:XL59,XG17,XM47:XM59,XH17) -> 0 | XR17: 2 lúa | XS17: Lâu dài | XT17: =SUMIFS(XS47:XS59,XW47:XW59,XR17,XX47:XX59,XS17) -> 0 | YC17: 2 lúa | YD17: Lâu dài | YE17: =SUMIFS(YD47:YD59,YH47:YH59,YC17,YI47:YI59,YD17) -> 0 | YN17: 2 lúa | YO17: Lâu dài | YP17: =SUMIFS(YO47:YO59,YS47:YS59,YN17,YT47:YT59,YO17) -> 0 | YY17: 2 lúa | YZ17: Lâu dài | ZA17: =SUMIFS(YZ47:YZ59,ZD47:ZD59,YY17,ZE47:ZE59,YZ17) -> 0 | ZJ17: 2 lúa | ZK17: Lâu dài | ZL17: =SUMIFS(ZK47:ZK59,ZO47:ZO59,ZJ17,ZP47:ZP59,ZK17) -> 0 | ZU17: 2 lúa | ZV17: Lâu dài | ZW17: =SUMIFS(ZV47:ZV59,ZZ47:ZZ59,ZU17,AAA47:AAA59,ZV17) -> 0 | AAF17: 2 lúa | AAG17: Lâu dài | AAH17: =SUMIFS(AAG47:AAG59,AAK47:AAK59,AAF17,AAL47:AAL59,AAG17) -> 0 | AAQ17: 2 lúa | AAR17: Lâu dài | AAS17: =SUMIFS(AAR47:AAR59,AAV47:AAV59,AAQ17,AAW47:AAW59,AAR17) -> 0 | ABB17: 2 lúa | ABC17: Lâu dài | ABD17: =SUMIFS(ABC47:ABC59,ABG47:ABG59,ABB17,ABH47:ABH59,ABC17) -> 0 | ABM17: 2 lúa | ABN17: Lâu dài | ABO17: =SUMIFS(ABN47:ABN59,ABR47:ABR59,ABM17,ABS47:ABS59,ABN17) -> 0 | ABX17: 2 lúa | ABY17: Lâu dài | ABZ17: =SUMIFS(ABY47:ABY59,ACC47:ACC59,ABX17,ACD47:ACD59,ABY17) -> 0 | ACI17: 2 lúa | ACJ17: Lâu dài | ACK17: =SUMIFS(ACJ47:ACJ59,ACN47:ACN59,ACI17,ACO47:ACO59,ACJ17) -> 0 | ACT17: 2 lúa | ACU17: Lâu dài | ACV17: =SUMIFS(ACU47:ACU59,ACY47:ACY59,ACT17,ACZ47:ACZ59,ACU17) -> 0 | ADE17: 2 lúa | ADF17: Lâu dài | ADG17: =SUMIFS(ADF47:ADF59,ADJ47:ADJ59,ADE17,ADK47:ADK59,ADF17) -> 0 | ADP17: 2 lúa | ADQ17: Lâu dài | ADR17: =SUMIFS(ADQ47:ADQ59,ADU47:ADU59,ADP17,ADV47:ADV59,ADQ17) -> 0 | AEA17: 2 lúa | AEB17: Lâu dài | AEC17: =SUMIFS(AEB47:AEB59,AEF47:AEF59,AEA17,AEG47:AEG59,AEB17) -> 0 | AEL17: 2 lúa | AEM17: Lâu dài | AEN17: =SUMIFS(AEM47:AEM59,AEQ47:AEQ59,AEL17,AER47:AER59,AEM17) -> 0 | AEW17: 2 lúa | AEX17: Lâu dài | AEY17: =SUMIFS(AEX47:AEX59,AFB47:AFB59,AEW17,AFC47:AFC59,AEX17) -> 0 | AFH17: 2 lúa | AFI17: Lâu dài | AFJ17: =SUMIFS(AFI47:AFI59,AFM47:AFM59,AFH17,AFN47:AFN59,AFI17) -> 0 | AFS17: 2 lúa | AFT17: Lâu dài | AFU17: =SUMIFS(AFT47:AFT59,AFX47:AFX59,AFS17,AFY47:AFY59,AFT17) -> 0 | AGD17: 2 lúa | AGE17: Lâu dài | AGF17: =SUMIFS(AGE47:AGE59,AGI47:AGI59,AGD17,AGJ47:AGJ59,AGE17) -> 0 | AGO17: 2 lúa | AGP17: Lâu dài | AGQ17: =SUMIFS(AGP47:AGP59,AGT47:AGT59,AGO17,AGU47:AGU59,AGP17) -> 0 | AGZ17: 2 lúa | AHA17: Lâu dài | AHB17: =SUMIFS(AHA47:AHA59,AHE47:AHE59,AGZ17,AHF47:AHF59,AHA17) -> 0 | AHK17: 2 lúa | AHL17: Lâu dài | AHM17: =SUMIFS(AHL47:AHL59,AHP47:AHP59,AHK17,AHQ47:AHQ59,AHL17) -> 0 | AHV17: 2 lúa | AHW17: Lâu dài | AHX17: =SUMIFS(AHW47:AHW59,AIA47:AIA59,AHV17,AIB47:AIB59,AHW17) -> 0 | AIG17: 2 lúa | AIH17: Lâu dài | AII17: =SUMIFS(AIH47:AIH59,AIL47:AIL59,AIG17,AIM47:AIM59,AIH17) -> 0 | AIR17: 2 lúa | AIS17: Lâu dài | AIT17: =SUMIFS(AIS47:AIS59,AIW47:AIW59,AIR17,AIX47:AIX59,AIS17) -> 0 | AJC17: 2 lúa | AJD17: Lâu dài | AJE17: =SUMIFS(AJD47:AJD59,AJH47:AJH59,AJC17,AJI47:AJI59,AJD17) -> 0 | AJN17: 2 lúa | AJO17: Lâu dài | AJP17: =SUMIFS(AJO47:AJO59,AJS47:AJS59,AJN17,AJT47:AJT59,AJO17) -> 0 | AJY17: 2 lúa | AJZ17: Lâu dài | AKA17: =SUMIFS(AJZ47:AJZ59,AKD47:AKD59,AJY17,AKE47:AKE59,AJZ17) -> 0 | AKJ17: 2 lúa | AKK17: Lâu dài | AKL17: =SUMIFS(AKK47:AKK59,AKO47:AKO59,AKJ17,AKP47:AKP59,AKK17) -> 0 | AKU17: 2 lúa | AKV17: Lâu dài | AKW17: =SUMIFS(AKV47:AKV59,AKZ47:AKZ59,AKU17,ALA47:ALA59,AKV17) -> 0 | ALF17: 2 lúa | ALG17: Lâu dài | ALH17: =SUMIFS(ALG47:ALG59,ALK47:ALK59,ALF17,ALL47:ALL59,ALG17) -> 0 | ALQ17: 2 lúa | ALR17: Lâu dài | ALS17: =SUMIFS(ALR47:ALR59,ALV47:ALV59,ALQ17,ALW47:ALW59,ALR17) -> 0 | AMB17: 2 lúa | AMC17: Lâu dài | AMD17: =SUMIFS(AMC47:AMC59,AMG47:AMG59,AMB17,AMH47:AMH59,AMC17) -> 0 | AMM17: 2 lúa | AMN17: Lâu dài | AMO17: =SUMIFS(AMN47:AMN59,AMR47:AMR59,AMM17,AMS47:AMS59,AMN17) -> 0 | AMX17: 2 lúa | AMY17: Lâu dài | AMZ17: =SUMIFS(AMY47:AMY59,ANC47:ANC59,AMX17,AND47:AND59,AMY17) -> 0 | ANI17: 2 lúa | ANJ17: Lâu dài | ANK17: =SUMIFS(ANJ47:ANJ59,ANN47:ANN59,ANI17,ANO47:ANO59,ANJ17) -> 0 | ANT17: 2 lúa | ANU17: Lâu dài | ANV17: =SUMIFS(ANU47:ANU59,ANY47:ANY59,ANT17,ANZ47:ANZ59,ANU17) -> 0 | AOE17: 2 lúa | AOF17: Lâu dài | AOG17: =SUMIFS(AOF47:AOF59,AOJ47:AOJ59,AOE17,AOK47:AOK59,AOF17) -> 0 | AOP17: 2 lúa | AOQ17: Lâu dài | AOR17: =SUMIFS(AOQ47:AOQ59,AOU47:AOU59,AOP17,AOV47:AOV59,AOQ17) -> 0 | APA17: 2 lúa | APB17: Lâu dài | APC17: =SUMIFS(APB47:APB59,APF47:APF59,APA17,APG47:APG59,APB17) -> 0 | APL17: 2 lúa | APM17: Lâu dài | APN17: =SUMIFS(APM47:APM59,APQ47:APQ59,APL17,APR47:APR59,APM17) -> 0 | APW17: 2 lúa | APX17: Lâu dài | APY17: =SUMIFS(APX47:APX59,AQB47:AQB59,APW17,AQC47:AQC59,APX17) -> 0 | AQH17: 2 lúa | AQI17: Lâu dài | AQJ17: =SUMIFS(AQI47:AQI59,AQM47:AQM59,AQH17,AQN47:AQN59,AQI17) -> 0 | AQS17: 2 lúa | AQT17: Lâu dài | AQU17: =SUMIFS(AQT47:AQT59,AQX47:AQX59,AQS17,AQY47:AQY59,AQT17) -> 0 | ARD17: 2 lúa | ARE17: Lâu dài | ARF17: =SUMIFS(ARE47:ARE59,ARI47:ARI59,ARD17,ARJ47:ARJ59,ARE17) -> 0 | ARO17: 2 lúa | ARP17: Lâu dài | ARQ17: =SUMIFS(ARP47:ARP59,ART47:ART59,ARO17,ARU47:ARU59,ARP17) -> 0 | ARZ17: 2 lúa | ASA17: Lâu dài | ASB17: =SUMIFS(ASA47:ASA59,ASE47:ASE59,ARZ17,ASF47:ASF59,ASA17) -> 0 | ASK17: 2 lúa | ASL17: Lâu dài | ASM17: =SUMIFS(ASL47:ASL59,ASP47:ASP59,ASK17,ASQ47:ASQ59,ASL17) -> 0 | ASV17: 2 lúa | ASW17: Lâu dài | ASX17: =SUMIFS(ASW47:ASW59,ATA47:ATA59,ASV17,ATB47:ATB59,ASW17) -> 0 | ATG17: 2 lúa | ATH17: Lâu dài | ATI17: =SUMIFS(ATH47:ATH59,ATL47:ATL59,ATG17,ATM47:ATM59,ATH17) -> 0 | ATR17: 2 lúa | ATS17: Lâu dài | ATT17: =SUMIFS(ATS47:ATS59,ATW47:ATW59,ATR17,ATX47:ATX59,ATS17) -> 0 | AUC17: 2 lúa | AUD17: Lâu dài | AUE17: =SUMIFS(AUD47:AUD59,AUH47:AUH59,AUC17,AUI47:AUI59,AUD17) -> 0 | AUN17: 2 lúa | AUO17: Lâu dài | AUP17: =SUMIFS(AUO47:AUO59,AUS47:AUS59,AUN17,AUT47:AUT59,AUO17) -> 0 | AUY17: 2 lúa | AUZ17: Lâu dài | AVA17: =SUMIFS(AUZ47:AUZ59,AVD47:AVD59,AUY17,AVE47:AVE59,AUZ17) -> 0 | AVJ17: 2 lúa | AVK17: Lâu dài | AVL17: =SUMIFS(AVK47:AVK59,AVO47:AVO59,AVJ17,AVP47:AVP59,AVK17) -> 0 | AVU17: 2 lúa | AVV17: Lâu dài | AVW17: =SUMIFS(AVV47:AVV59,AVZ47:AVZ59,AVU17,AWA47:AWA59,AVV17) -> 0
D18: 2 lúa | E18: Tạm giao | F18: =SUMIFS(E47:E59,I47:I59,D18,J47:J59,E18) -> 0 | O18: 2 lúa | P18: Tạm giao | Q18: =SUMIFS(P47:P59,T47:T59,O18,U47:U59,P18) -> 0 | Z18: 2 lúa | AA18: Tạm giao | AB18: =SUMIFS(AA47:AA59,AE47:AE59,Z18,AF47:AF59,AA18) -> 0 | AK18: 2 lúa | AL18: Tạm giao | AM18: =SUMIFS(AL47:AL59,AP47:AP59,AK18,AQ47:AQ59,AL18) -> 0 | AV18: 2 lúa | AW18: Tạm giao | AX18: =SUMIFS(AW47:AW59,BA47:BA59,AV18,BB47:BB59,AW18) -> 0 | BG18: 2 lúa | BH18: Tạm giao | BI18: =SUMIFS(BH47:BH59,BL47:BL59,BG18,BM47:BM59,BH18) -> 0 | BR18: 2 lúa | BS18: Tạm giao | BT18: =SUMIFS(BS47:BS59,BW47:BW59,BR18,BX47:BX59,BS18) -> 0 | CC18: 2 lúa | CD18: Tạm giao | CE18: =SUMIFS(CD47:CD59,CH47:CH59,CC18,CI47:CI59,CD18) -> 0 | CN18: 2 lúa | CO18: Tạm giao | CP18: =SUMIFS(CO47:CO59,CS47:CS59,CN18,CT47:CT59,CO18) -> 0 | CY18: 2 lúa | CZ18: Tạm giao | DA18: =SUMIFS(CZ47:CZ59,DD47:DD59,CY18,DE47:DE59,CZ18) -> 0 | DJ18: 2 lúa | DK18: Tạm giao | DL18: =SUMIFS(DK47:DK59,DO47:DO59,DJ18,DP47:DP59,DK18) -> 0 | DU18: 2 lúa | DV18: Tạm giao | DW18: =SUMIFS(DV47:DV59,DZ47:DZ59,DU18,EA47:EA59,DV18) -> 0 | EF18: 2 lúa | EG18: Tạm giao | EH18: =SUMIFS(EG47:EG59,EK47:EK59,EF18,EL47:EL59,EG18) -> 0 | EQ18: 2 lúa | ER18: Tạm giao | ES18: =SUMIFS(ER47:ER59,EV47:EV59,EQ18,EW47:EW59,ER18) -> 0 | FB18: 2 lúa | FC18: Tạm giao | FD18: =SUMIFS(FC47:FC59,FG47:FG59,FB18,FH47:FH59,FC18) -> 0 | FM18: 2 lúa | FN18: Tạm giao | FO18: =SUMIFS(FN47:FN59,FR47:FR59,FM18,FS47:FS59,FN18) -> 0 | FX18: 2 lúa | FY18: Tạm giao | FZ18: =SUMIFS(FY47:FY59,GC47:GC59,FX18,GD47:GD59,FY18) -> 0 | GI18: 2 lúa | GJ18: Tạm giao | GK18: =SUMIFS(GJ47:GJ59,GN47:GN59,GI18,GO47:GO59,GJ18) -> 0 | GT18: 2 lúa | GU18: Tạm giao | GV18: =SUMIFS(GU47:GU59,GY47:GY59,GT18,GZ47:GZ59,GU18) -> 0 | HE18: 2 lúa | HF18: Tạm giao | HG18: =SUMIFS(HF47:HF59,HJ47:HJ59,HE18,HK47:HK59,HF18) -> 0 | HP18: 2 lúa | HQ18: Tạm giao | HR18: =SUMIFS(HQ47:HQ59,HU47:HU59,HP18,HV47:HV59,HQ18) -> 0 | IA18: 2 lúa | IB18: Tạm giao | IC18: =SUMIFS(IB47:IB59,IF47:IF59,IA18,IG47:IG59,IB18) -> 0 | IL18: 2 lúa | IM18: Tạm giao | IN18: =SUMIFS(IM47:IM59,IQ47:IQ59,IL18,IR47:IR59,IM18) -> 0 | IW18: 2 lúa | IX18: Tạm giao | IY18: =SUMIFS(IX47:IX59,JB47:JB59,IW18,JC47:JC59,IX18) -> 0 | JH18: 2 lúa | JI18: Tạm giao | JJ18: =SUMIFS(JI47:JI59,JM47:JM59,JH18,JN47:JN59,JI18) -> 0 | JS18: 2 lúa | JT18: Tạm giao | JU18: =SUMIFS(JT47:JT59,JX47:JX59,JS18,JY47:JY59,JT18) -> 0 | KD18: 2 lúa | KE18: Tạm giao | KF18: =SUMIFS(KE47:KE59,KI47:KI59,KD18,KJ47:KJ59,KE18) -> 0 | KO18: 2 lúa | KP18: Tạm giao | KQ18: =SUMIFS(KP47:KP59,KT47:KT59,KO18,KU47:KU59,KP18) -> 0 | KZ18: 2 lúa | LA18: Tạm giao | LB18: =SUMIFS(LA47:LA59,LE47:LE59,KZ18,LF47:LF59,LA18) -> 0 | LK18: 2 lúa | LL18: Tạm giao | LM18: =SUMIFS(LL47:LL59,LP47:LP59,LK18,LQ47:LQ59,LL18) -> 0 | LV18: 2 lúa | LW18: Tạm giao | LX18: =SUMIFS(LW47:LW59,MA47:MA59,LV18,MB47:MB59,LW18) -> 0 | MG18: 2 lúa | MH18: Tạm giao | MI18: =SUMIFS(MH47:MH59,ML47:ML59,MG18,MM47:MM59,MH18) -> 0 | MR18: 2 lúa | MS18: Tạm giao | MT18: =SUMIFS(MS47:MS59,MW47:MW59,MR18,MX47:MX59,MS18) -> 0 | NC18: 2 lúa | ND18: Tạm giao | NE18: =SUMIFS(ND47:ND59,NH47:NH59,NC18,NI47:NI59,ND18) -> 0 | NN18: 2 lúa | NO18: Tạm giao | NP18: =SUMIFS(NO47:NO59,NS47:NS59,NN18,NT47:NT59,NO18) -> 0 | NY18: 2 lúa | NZ18: Tạm giao | OA18: =SUMIFS(NZ47:NZ59,OD47:OD59,NY18,OE47:OE59,NZ18) -> 0 | OJ18: 2 lúa | OK18: Tạm giao | OL18: =SUMIFS(OK47:OK59,OO47:OO59,OJ18,OP47:OP59,OK18) -> 0 | OU18: 2 lúa | OV18: Tạm giao | OW18: =SUMIFS(OV47:OV59,OZ47:OZ59,OU18,PA47:PA59,OV18) -> 0 | PF18: 2 lúa | PG18: Tạm giao | PH18: =SUMIFS(PG47:PG59,PK47:PK59,PF18,PL47:PL59,PG18) -> 0 | PQ18: 2 lúa | PR18: Tạm giao | PS18: =SUMIFS(PR47:PR59,PV47:PV59,PQ18,PW47:PW59,PR18) -> 0 | QB18: 2 lúa | QC18: Tạm giao | QD18: =SUMIFS(QC47:QC59,QG47:QG59,QB18,QH47:QH59,QC18) -> 0 | QM18: 2 lúa | QN18: Tạm giao | QO18: =SUMIFS(QN47:QN59,QR47:QR59,QM18,QS47:QS59,QN18) -> 0 | QX18: 2 lúa | QY18: Tạm giao | QZ18: =SUMIFS(QY47:QY59,RC47:RC59,QX18,RD47:RD59,QY18) -> 0 | RI18: 2 lúa | RJ18: Tạm giao | RK18: =SUMIFS(RJ47:RJ59,RN47:RN59,RI18,RO47:RO59,RJ18) -> 0 | RT18: 2 lúa | RU18: Tạm giao | RV18: =SUMIFS(RU47:RU59,RY47:RY59,RT18,RZ47:RZ59,RU18) -> 0 | SE18: 2 lúa | SF18: Tạm giao | SG18: =SUMIFS(SF47:SF59,SJ47:SJ59,SE18,SK47:SK59,SF18) -> 0 | SP18: 2 lúa | SQ18: Tạm giao | SR18: =SUMIFS(SQ47:SQ59,SU47:SU59,SP18,SV47:SV59,SQ18) -> 0 | TA18: 2 lúa | TB18: Tạm giao | TC18: =SUMIFS(TB47:TB59,TF47:TF59,TA18,TG47:TG59,TB18) -> 0 | TL18: 2 lúa | TM18: Tạm giao | TN18: =SUMIFS(TM47:TM59,TQ47:TQ59,TL18,TR47:TR59,TM18) -> 0 | TW18: 2 lúa | TX18: Tạm giao | TY18: =SUMIFS(TX47:TX59,UB47:UB59,TW18,UC47:UC59,TX18) -> 0 | UH18: 2 lúa | UI18: Tạm giao | UJ18: =SUMIFS(UI47:UI59,UM47:UM59,UH18,UN47:UN59,UI18) -> 0 | US18: 2 lúa | UT18: Tạm giao | UU18: =SUMIFS(UT47:UT59,UX47:UX59,US18,UY47:UY59,UT18) -> 0 | VD18: 2 lúa | VE18: Tạm giao | VF18: =SUMIFS(VE47:VE59,VI47:VI59,VD18,VJ47:VJ59,VE18) -> 0 | VO18: 2 lúa | VP18: Tạm giao | VQ18: =SUMIFS(VP47:VP59,VT47:VT59,VO18,VU47:VU59,VP18) -> 0 | VZ18: 2 lúa | WA18: Tạm giao | WB18: =SUMIFS(WA47:WA59,WE47:WE59,VZ18,WF47:WF59,WA18) -> 0 | WK18: 2 lúa | WL18: Tạm giao | WM18: =SUMIFS(WL47:WL59,WP47:WP59,WK18,WQ47:WQ59,WL18) -> 0 | WV18: 2 lúa | WW18: Tạm giao | WX18: =SUMIFS(WW47:WW59,XA47:XA59,WV18,XB47:XB59,WW18) -> 0 | XG18: 2 lúa | XH18: Tạm giao | XI18: =SUMIFS(XH47:XH59,XL47:XL59,XG18,XM47:XM59,XH18) -> 0 | XR18: 2 lúa | XS18: Tạm giao | XT18: =SUMIFS(XS47:XS59,XW47:XW59,XR18,XX47:XX59,XS18) -> 0 | YC18: 2 lúa | YD18: Tạm giao | YE18: =SUMIFS(YD47:YD59,YH47:YH59,YC18,YI47:YI59,YD18) -> 0 | YN18: 2 lúa | YO18: Tạm giao | YP18: =SUMIFS(YO47:YO59,YS47:YS59,YN18,YT47:YT59,YO18) -> 0 | YY18: 2 lúa | YZ18: Tạm giao | ZA18: =SUMIFS(YZ47:YZ59,ZD47:ZD59,YY18,ZE47:ZE59,YZ18) -> 0 | ZJ18: 2 lúa | ZK18: Tạm giao | ZL18: =SUMIFS(ZK47:ZK59,ZO47:ZO59,ZJ18,ZP47:ZP59,ZK18) -> 0 | ZU18: 2 lúa | ZV18: Tạm giao | ZW18: =SUMIFS(ZV47:ZV59,ZZ47:ZZ59,ZU18,AAA47:AAA59,ZV18) -> 0 | AAF18: 2 lúa | AAG18: Tạm giao | AAH18: =SUMIFS(AAG47:AAG59,AAK47:AAK59,AAF18,AAL47:AAL59,AAG18) -> 0 | AAQ18: 2 lúa | AAR18: Tạm giao | AAS18: =SUMIFS(AAR47:AAR59,AAV47:AAV59,AAQ18,AAW47:AAW59,AAR18) -> 0 | ABB18: 2 lúa | ABC18: Tạm giao | ABD18: =SUMIFS(ABC47:ABC59,ABG47:ABG59,ABB18,ABH47:ABH59,ABC18) -> 0 | ABM18: 2 lúa | ABN18: Tạm giao | ABO18: =SUMIFS(ABN47:ABN59,ABR47:ABR59,ABM18,ABS47:ABS59,ABN18) -> 0 | ABX18: 2 lúa | ABY18: Tạm giao | ABZ18: =SUMIFS(ABY47:ABY59,ACC47:ACC59,ABX18,ACD47:ACD59,ABY18) -> 0 | ACI18: 2 lúa | ACJ18: Tạm giao | ACK18: =SUMIFS(ACJ47:ACJ59,ACN47:ACN59,ACI18,ACO47:ACO59,ACJ18) -> 0 | ACT18: 2 lúa | ACU18: Tạm giao | ACV18: =SUMIFS(ACU47:ACU59,ACY47:ACY59,ACT18,ACZ47:ACZ59,ACU18) -> 0 | ADE18: 2 lúa | ADF18: Tạm giao | ADG18: =SUMIFS(ADF47:ADF59,ADJ47:ADJ59,ADE18,ADK47:ADK59,ADF18) -> 0 | ADP18: 2 lúa | ADQ18: Tạm giao | ADR18: =SUMIFS(ADQ47:ADQ59,ADU47:ADU59,ADP18,ADV47:ADV59,ADQ18) -> 0 | AEA18: 2 lúa | AEB18: Tạm giao | AEC18: =SUMIFS(AEB47:AEB59,AEF47:AEF59,AEA18,AEG47:AEG59,AEB18) -> 0 | AEL18: 2 lúa | AEM18: Tạm giao | AEN18: =SUMIFS(AEM47:AEM59,AEQ47:AEQ59,AEL18,AER47:AER59,AEM18) -> 0 | AEW18: 2 lúa | AEX18: Tạm giao | AEY18: =SUMIFS(AEX47:AEX59,AFB47:AFB59,AEW18,AFC47:AFC59,AEX18) -> 0 | AFH18: 2 lúa | AFI18: Tạm giao | AFJ18: =SUMIFS(AFI47:AFI59,AFM47:AFM59,AFH18,AFN47:AFN59,AFI18) -> 0 | AFS18: 2 lúa | AFT18: Tạm giao | AFU18: =SUMIFS(AFT47:AFT59,AFX47:AFX59,AFS18,AFY47:AFY59,AFT18) -> 0 | AGD18: 2 lúa | AGE18: Tạm giao | AGF18: =SUMIFS(AGE47:AGE59,AGI47:AGI59,AGD18,AGJ47:AGJ59,AGE18) -> 0 | AGO18: 2 lúa | AGP18: Tạm giao | AGQ18: =SUMIFS(AGP47:AGP59,AGT47:AGT59,AGO18,AGU47:AGU59,AGP18) -> 0 | AGZ18: 2 lúa | AHA18: Tạm giao | AHB18: =SUMIFS(AHA47:AHA59,AHE47:AHE59,AGZ18,AHF47:AHF59,AHA18) -> 0 | AHK18: 2 lúa | AHL18: Tạm giao | AHM18: =SUMIFS(AHL47:AHL59,AHP47:AHP59,AHK18,AHQ47:AHQ59,AHL18) -> 0 | AHV18: 2 lúa | AHW18: Tạm giao | AHX18: =SUMIFS(AHW47:AHW59,AIA47:AIA59,AHV18,AIB47:AIB59,AHW18) -> 0 | AIG18: 2 lúa | AIH18: Tạm giao | AII18: =SUMIFS(AIH47:AIH59,AIL47:AIL59,AIG18,AIM47:AIM59,AIH18) -> 0 | AIR18: 2 lúa | AIS18: Tạm giao | AIT18: =SUMIFS(AIS47:AIS59,AIW47:AIW59,AIR18,AIX47:AIX59,AIS18) -> 0 | AJC18: 2 lúa | AJD18: Tạm giao | AJE18: =SUMIFS(AJD47:AJD59,AJH47:AJH59,AJC18,AJI47:AJI59,AJD18) -> 0 | AJN18: 2 lúa | AJO18: Tạm giao | AJP18: =SUMIFS(AJO47:AJO59,AJS47:AJS59,AJN18,AJT47:AJT59,AJO18) -> 0 | AJY18: 2 lúa | AJZ18: Tạm giao | AKA18: =SUMIFS(AJZ47:AJZ59,AKD47:AKD59,AJY18,AKE47:AKE59,AJZ18) -> 0 | AKJ18: 2 lúa | AKK18: Tạm giao | AKL18: =SUMIFS(AKK47:AKK59,AKO47:AKO59,AKJ18,AKP47:AKP59,AKK18) -> 0 | AKU18: 2 lúa | AKV18: Tạm giao | AKW18: =SUMIFS(AKV47:AKV59,AKZ47:AKZ59,AKU18,ALA47:ALA59,AKV18) -> 0 | ALF18: 2 lúa | ALG18: Tạm giao | ALH18: =SUMIFS(ALG47:ALG59,ALK47:ALK59,ALF18,ALL47:ALL59,ALG18) -> 0 | ALQ18: 2 lúa | ALR18: Tạm giao | ALS18: =SUMIFS(ALR47:ALR59,ALV47:ALV59,ALQ18,ALW47:ALW59,ALR18) -> 0 | AMB18: 2 lúa | AMC18: Tạm giao | AMD18: =SUMIFS(AMC47:AMC59,AMG47:AMG59,AMB18,AMH47:AMH59,AMC18) -> 0 | AMM18: 2 lúa | AMN18: Tạm giao | AMO18: =SUMIFS(AMN47:AMN59,AMR47:AMR59,AMM18,AMS47:AMS59,AMN18) -> 0 | AMX18: 2 lúa | AMY18: Tạm giao | AMZ18: =SUMIFS(AMY47:AMY59,ANC47:ANC59,AMX18,AND47:AND59,AMY18) -> 0 | ANI18: 2 lúa | ANJ18: Tạm giao | ANK18: =SUMIFS(ANJ47:ANJ59,ANN47:ANN59,ANI18,ANO47:ANO59,ANJ18) -> 0 | ANT18: 2 lúa | ANU18: Tạm giao | ANV18: =SUMIFS(ANU47:ANU59,ANY47:ANY59,ANT18,ANZ47:ANZ59,ANU18) -> 0 | AOE18: 2 lúa | AOF18: Tạm giao | AOG18: =SUMIFS(AOF47:AOF59,AOJ47:AOJ59,AOE18,AOK47:AOK59,AOF18) -> 0 | AOP18: 2 lúa | AOQ18: Tạm giao | AOR18: =SUMIFS(AOQ47:AOQ59,AOU47:AOU59,AOP18,AOV47:AOV59,AOQ18) -> 0 | APA18: 2 lúa | APB18: Tạm giao | APC18: =SUMIFS(APB47:APB59,APF47:APF59,APA18,APG47:APG59,APB18) -> 0 | APL18: 2 lúa | APM18: Tạm giao | APN18: =SUMIFS(APM47:APM59,APQ47:APQ59,APL18,APR47:APR59,APM18) -> 0 | APW18: 2 lúa | APX18: Tạm giao | APY18: =SUMIFS(APX47:APX59,AQB47:AQB59,APW18,AQC47:AQC59,APX18) -> 0 | AQH18: 2 lúa | AQI18: Tạm giao | AQJ18: =SUMIFS(AQI47:AQI59,AQM47:AQM59,AQH18,AQN47:AQN59,AQI18) -> 0 | AQS18: 2 lúa | AQT18: Tạm giao | AQU18: =SUMIFS(AQT47:AQT59,AQX47:AQX59,AQS18,AQY47:AQY59,AQT18) -> 0 | ARD18: 2 lúa | ARE18: Tạm giao | ARF18: =SUMIFS(ARE47:ARE59,ARI47:ARI59,ARD18,ARJ47:ARJ59,ARE18) -> 0 | ARO18: 2 lúa | ARP18: Tạm giao | ARQ18: =SUMIFS(ARP47:ARP59,ART47:ART59,ARO18,ARU47:ARU59,ARP18) -> 0 | ARZ18: 2 lúa | ASA18: Tạm giao | ASB18: =SUMIFS(ASA47:ASA59,ASE47:ASE59,ARZ18,ASF47:ASF59,ASA18) -> 0 | ASK18: 2 lúa | ASL18: Tạm giao | ASM18: =SUMIFS(ASL47:ASL59,ASP47:ASP59,ASK18,ASQ47:ASQ59,ASL18) -> 0 | ASV18: 2 lúa | ASW18: Tạm giao | ASX18: =SUMIFS(ASW47:ASW59,ATA47:ATA59,ASV18,ATB47:ATB59,ASW18) -> 0 | ATG18: 2 lúa | ATH18: Tạm giao | ATI18: =SUMIFS(ATH47:ATH59,ATL47:ATL59,ATG18,ATM47:ATM59,ATH18) -> 0 | ATR18: 2 lúa | ATS18: Tạm giao | ATT18: =SUMIFS(ATS47:ATS59,ATW47:ATW59,ATR18,ATX47:ATX59,ATS18) -> 0 | AUC18: 2 lúa | AUD18: Tạm giao | AUE18: =SUMIFS(AUD47:AUD59,AUH47:AUH59,AUC18,AUI47:AUI59,AUD18) -> 0 | AUN18: 2 lúa | AUO18: Tạm giao | AUP18: =SUMIFS(AUO47:AUO59,AUS47:AUS59,AUN18,AUT47:AUT59,AUO18) -> 0 | AUY18: 2 lúa | AUZ18: Tạm giao | AVA18: =SUMIFS(AUZ47:AUZ59,AVD47:AVD59,AUY18,AVE47:AVE59,AUZ18) -> 0 | AVJ18: 2 lúa | AVK18: Tạm giao | AVL18: =SUMIFS(AVK47:AVK59,AVO47:AVO59,AVJ18,AVP47:AVP59,AVK18) -> 0 | AVU18: 2 lúa | AVV18: Tạm giao | AVW18: =SUMIFS(AVV47:AVV59,AVZ47:AVZ59,AVU18,AWA47:AWA59,AVV18) -> 0
D19: 2 lúa | E19: Hợp đồng | F19: =SUMIFS(E47:E59,I47:I59,D19,J47:J59,E19) -> 0 | O19: 2 lúa | P19: Hợp đồng | Q19: =SUMIFS(P47:P59,T47:T59,O19,U47:U59,P19) -> 0 | Z19: 2 lúa | AA19: Hợp đồng | AB19: =SUMIFS(AA47:AA59,AE47:AE59,Z19,AF47:AF59,AA19) -> 0 | AK19: 2 lúa | AL19: Hợp đồng | AM19: =SUMIFS(AL47:AL59,AP47:AP59,AK19,AQ47:AQ59,AL19) -> 0 | AV19: 2 lúa | AW19: Hợp đồng | AX19: =SUMIFS(AW47:AW59,BA47:BA59,AV19,BB47:BB59,AW19) -> 0 | BG19: 2 lúa | BH19: Hợp đồng | BI19: =SUMIFS(BH47:BH59,BL47:BL59,BG19,BM47:BM59,BH19) -> 0 | BR19: 2 lúa | BS19: Hợp đồng | BT19: =SUMIFS(BS47:BS59,BW47:BW59,BR19,BX47:BX59,BS19) -> 0 | CC19: 2 lúa | CD19: Hợp đồng | CE19: =SUMIFS(CD47:CD59,CH47:CH59,CC19,CI47:CI59,CD19) -> 0 | CN19: 2 lúa | CO19: Hợp đồng | CP19: =SUMIFS(CO47:CO59,CS47:CS59,CN19,CT47:CT59,CO19) -> 0 | CY19: 2 lúa | CZ19: Hợp đồng | DA19: =SUMIFS(CZ47:CZ59,DD47:DD59,CY19,DE47:DE59,CZ19) -> 0 | DJ19: 2 lúa | DK19: Hợp đồng | DL19: =SUMIFS(DK47:DK59,DO47:DO59,DJ19,DP47:DP59,DK19) -> 0 | DU19: 2 lúa | DV19: Hợp đồng | DW19: =SUMIFS(DV47:DV59,DZ47:DZ59,DU19,EA47:EA59,DV19) -> 0 | EF19: 2 lúa | EG19: Hợp đồng | EH19: =SUMIFS(EG47:EG59,EK47:EK59,EF19,EL47:EL59,EG19) -> 0 | EQ19: 2 lúa | ER19: Hợp đồng | ES19: =SUMIFS(ER47:ER59,EV47:EV59,EQ19,EW47:EW59,ER19) -> 0 | FB19: 2 lúa | FC19: Hợp đồng | FD19: =SUMIFS(FC47:FC59,FG47:FG59,FB19,FH47:FH59,FC19) -> 0 | FM19: 2 lúa | FN19: Hợp đồng | FO19: =SUMIFS(FN47:FN59,FR47:FR59,FM19,FS47:FS59,FN19) -> 0 | FX19: 2 lúa | FY19: Hợp đồng | FZ19: =SUMIFS(FY47:FY59,GC47:GC59,FX19,GD47:GD59,FY19) -> 0 | GI19: 2 lúa | GJ19: Hợp đồng | GK19: =SUMIFS(GJ47:GJ59,GN47:GN59,GI19,GO47:GO59,GJ19) -> 0 | GT19: 2 lúa | GU19: Hợp đồng | GV19: =SUMIFS(GU47:GU59,GY47:GY59,GT19,GZ47:GZ59,GU19) -> 0 | HE19: 2 lúa | HF19: Hợp đồng | HG19: =SUMIFS(HF47:HF59,HJ47:HJ59,HE19,HK47:HK59,HF19) -> 0 | HP19: 2 lúa | HQ19: Hợp đồng | HR19: =SUMIFS(HQ47:HQ59,HU47:HU59,HP19,HV47:HV59,HQ19) -> 0 | IA19: 2 lúa | IB19: Hợp đồng | IC19: =SUMIFS(IB47:IB59,IF47:IF59,IA19,IG47:IG59,IB19) -> 0 | IL19: 2 lúa | IM19: Hợp đồng | IN19: =SUMIFS(IM47:IM59,IQ47:IQ59,IL19,IR47:IR59,IM19) -> 0 | IW19: 2 lúa | IX19: Hợp đồng | IY19: =SUMIFS(IX47:IX59,JB47:JB59,IW19,JC47:JC59,IX19) -> 0 | JH19: 2 lúa | JI19: Hợp đồng | JJ19: =SUMIFS(JI47:JI59,JM47:JM59,JH19,JN47:JN59,JI19) -> 0 | JS19: 2 lúa | JT19: Hợp đồng | JU19: =SUMIFS(JT47:JT59,JX47:JX59,JS19,JY47:JY59,JT19) -> 0 | KD19: 2 lúa | KE19: Hợp đồng | KF19: =SUMIFS(KE47:KE59,KI47:KI59,KD19,KJ47:KJ59,KE19) -> 0 | KO19: 2 lúa | KP19: Hợp đồng | KQ19: =SUMIFS(KP47:KP59,KT47:KT59,KO19,KU47:KU59,KP19) -> 0 | KZ19: 2 lúa | LA19: Hợp đồng | LB19: =SUMIFS(LA47:LA59,LE47:LE59,KZ19,LF47:LF59,LA19) -> 0 | LK19: 2 lúa | LL19: Hợp đồng | LM19: =SUMIFS(LL47:LL59,LP47:LP59,LK19,LQ47:LQ59,LL19) -> 0 | LV19: 2 lúa | LW19: Hợp đồng | LX19: =SUMIFS(LW47:LW59,MA47:MA59,LV19,MB47:MB59,LW19) -> 0 | MG19: 2 lúa | MH19: Hợp đồng | MI19: =SUMIFS(MH47:MH59,ML47:ML59,MG19,MM47:MM59,MH19) -> 0 | MR19: 2 lúa | MS19: Hợp đồng | MT19: =SUMIFS(MS47:MS59,MW47:MW59,MR19,MX47:MX59,MS19) -> 0 | NC19: 2 lúa | ND19: Hợp đồng | NE19: =SUMIFS(ND47:ND59,NH47:NH59,NC19,NI47:NI59,ND19) -> 0 | NN19: 2 lúa | NO19: Hợp đồng | NP19: =SUMIFS(NO47:NO59,NS47:NS59,NN19,NT47:NT59,NO19) -> 0 | NY19: 2 lúa | NZ19: Hợp đồng | OA19: =SUMIFS(NZ47:NZ59,OD47:OD59,NY19,OE47:OE59,NZ19) -> 0 | OJ19: 2 lúa | OK19: Hợp đồng | OL19: =SUMIFS(OK47:OK59,OO47:OO59,OJ19,OP47:OP59,OK19) -> 0 | OU19: 2 lúa | OV19: Hợp đồng | OW19: =SUMIFS(OV47:OV59,OZ47:OZ59,OU19,PA47:PA59,OV19) -> 0 | PF19: 2 lúa | PG19: Hợp đồng | PH19: =SUMIFS(PG47:PG59,PK47:PK59,PF19,PL47:PL59,PG19) -> 0 | PQ19: 2 lúa | PR19: Hợp đồng | PS19: =SUMIFS(PR47:PR59,PV47:PV59,PQ19,PW47:PW59,PR19) -> 0 | QB19: 2 lúa | QC19: Hợp đồng | QD19: =SUMIFS(QC47:QC59,QG47:QG59,QB19,QH47:QH59,QC19) -> 0 | QM19: 2 lúa | QN19: Hợp đồng | QO19: =SUMIFS(QN47:QN59,QR47:QR59,QM19,QS47:QS59,QN19) -> 0 | QX19: 2 lúa | QY19: Hợp đồng | QZ19: =SUMIFS(QY47:QY59,RC47:RC59,QX19,RD47:RD59,QY19) -> 0 | RI19: 2 lúa | RJ19: Hợp đồng | RK19: =SUMIFS(RJ47:RJ59,RN47:RN59,RI19,RO47:RO59,RJ19) -> 0 | RT19: 2 lúa | RU19: Hợp đồng | RV19: =SUMIFS(RU47:RU59,RY47:RY59,RT19,RZ47:RZ59,RU19) -> 0 | SE19: 2 lúa | SF19: Hợp đồng | SG19: =SUMIFS(SF47:SF59,SJ47:SJ59,SE19,SK47:SK59,SF19) -> 0 | SP19: 2 lúa | SQ19: Hợp đồng | SR19: =SUMIFS(SQ47:SQ59,SU47:SU59,SP19,SV47:SV59,SQ19) -> 0 | TA19: 2 lúa | TB19: Hợp đồng | TC19: =SUMIFS(TB47:TB59,TF47:TF59,TA19,TG47:TG59,TB19) -> 0 | TL19: 2 lúa | TM19: Hợp đồng | TN19: =SUMIFS(TM47:TM59,TQ47:TQ59,TL19,TR47:TR59,TM19) -> 0 | TW19: 2 lúa | TX19: Hợp đồng | TY19: =SUMIFS(TX47:TX59,UB47:UB59,TW19,UC47:UC59,TX19) -> 0 | UH19: 2 lúa | UI19: Hợp đồng | UJ19: =SUMIFS(UI47:UI59,UM47:UM59,UH19,UN47:UN59,UI19) -> 0 | US19: 2 lúa | UT19: Hợp đồng | UU19: =SUMIFS(UT47:UT59,UX47:UX59,US19,UY47:UY59,UT19) -> 0 | VD19: 2 lúa | VE19: Hợp đồng | VF19: =SUMIFS(VE47:VE59,VI47:VI59,VD19,VJ47:VJ59,VE19) -> 0 | VO19: 2 lúa | VP19: Hợp đồng | VQ19: =SUMIFS(VP47:VP59,VT47:VT59,VO19,VU47:VU59,VP19) -> 0 | VZ19: 2 lúa | WA19: Hợp đồng | WB19: =SUMIFS(WA47:WA59,WE47:WE59,VZ19,WF47:WF59,WA19) -> 0 | WK19: 2 lúa | WL19: Hợp đồng | WM19: =SUMIFS(WL47:WL59,WP47:WP59,WK19,WQ47:WQ59,WL19) -> 0 | WV19: 2 lúa | WW19: Hợp đồng | WX19: =SUMIFS(WW47:WW59,XA47:XA59,WV19,XB47:XB59,WW19) -> 0 | XG19: 2 lúa | XH19: Hợp đồng | XI19: =SUMIFS(XH47:XH59,XL47:XL59,XG19,XM47:XM59,XH19) -> 0 | XR19: 2 lúa | XS19: Hợp đồng | XT19: =SUMIFS(XS47:XS59,XW47:XW59,XR19,XX47:XX59,XS19) -> 0 | YC19: 2 lúa | YD19: Hợp đồng | YE19: =SUMIFS(YD47:YD59,YH47:YH59,YC19,YI47:YI59,YD19) -> 0 | YN19: 2 lúa | YO19: Hợp đồng | YP19: =SUMIFS(YO47:YO59,YS47:YS59,YN19,YT47:YT59,YO19) -> 0 | YY19: 2 lúa | YZ19: Hợp đồng | ZA19: =SUMIFS(YZ47:YZ59,ZD47:ZD59,YY19,ZE47:ZE59,YZ19) -> 0 | ZJ19: 2 lúa | ZK19: Hợp đồng | ZL19: =SUMIFS(ZK47:ZK59,ZO47:ZO59,ZJ19,ZP47:ZP59,ZK19) -> 0 | ZU19: 2 lúa | ZV19: Hợp đồng | ZW19: =SUMIFS(ZV47:ZV59,ZZ47:ZZ59,ZU19,AAA47:AAA59,ZV19) -> 0 | AAF19: 2 lúa | AAG19: Hợp đồng | AAH19: =SUMIFS(AAG47:AAG59,AAK47:AAK59,AAF19,AAL47:AAL59,AAG19) -> 0 | AAQ19: 2 lúa | AAR19: Hợp đồng | AAS19: =SUMIFS(AAR47:AAR59,AAV47:AAV59,AAQ19,AAW47:AAW59,AAR19) -> 0 | ABB19: 2 lúa | ABC19: Hợp đồng | ABD19: =SUMIFS(ABC47:ABC59,ABG47:ABG59,ABB19,ABH47:ABH59,ABC19) -> 0 | ABM19: 2 lúa | ABN19: Hợp đồng | ABO19: =SUMIFS(ABN47:ABN59,ABR47:ABR59,ABM19,ABS47:ABS59,ABN19) -> 0 | ABX19: 2 lúa | ABY19: Hợp đồng | ABZ19: =SUMIFS(ABY47:ABY59,ACC47:ACC59,ABX19,ACD47:ACD59,ABY19) -> 0 | ACI19: 2 lúa | ACJ19: Hợp đồng | ACK19: =SUMIFS(ACJ47:ACJ59,ACN47:ACN59,ACI19,ACO47:ACO59,ACJ19) -> 0 | ACT19: 2 lúa | ACU19: Hợp đồng | ACV19: =SUMIFS(ACU47:ACU59,ACY47:ACY59,ACT19,ACZ47:ACZ59,ACU19) -> 0 | ADE19: 2 lúa | ADF19: Hợp đồng | ADG19: =SUMIFS(ADF47:ADF59,ADJ47:ADJ59,ADE19,ADK47:ADK59,ADF19) -> 0 | ADP19: 2 lúa | ADQ19: Hợp đồng | ADR19: =SUMIFS(ADQ47:ADQ59,ADU47:ADU59,ADP19,ADV47:ADV59,ADQ19) -> 0 | AEA19: 2 lúa | AEB19: Hợp đồng | AEC19: =SUMIFS(AEB47:AEB59,AEF47:AEF59,AEA19,AEG47:AEG59,AEB19) -> 0 | AEL19: 2 lúa | AEM19: Hợp đồng | AEN19: =SUMIFS(AEM47:AEM59,AEQ47:AEQ59,AEL19,AER47:AER59,AEM19) -> 0 | AEW19: 2 lúa | AEX19: Hợp đồng | AEY19: =SUMIFS(AEX47:AEX59,AFB47:AFB59,AEW19,AFC47:AFC59,AEX19) -> 0 | AFH19: 2 lúa | AFI19: Hợp đồng | AFJ19: =SUMIFS(AFI47:AFI59,AFM47:AFM59,AFH19,AFN47:AFN59,AFI19) -> 0 | AFS19: 2 lúa | AFT19: Hợp đồng | AFU19: =SUMIFS(AFT47:AFT59,AFX47:AFX59,AFS19,AFY47:AFY59,AFT19) -> 0 | AGD19: 2 lúa | AGE19: Hợp đồng | AGF19: =SUMIFS(AGE47:AGE59,AGI47:AGI59,AGD19,AGJ47:AGJ59,AGE19) -> 0 | AGO19: 2 lúa | AGP19: Hợp đồng | AGQ19: =SUMIFS(AGP47:AGP59,AGT47:AGT59,AGO19,AGU47:AGU59,AGP19) -> 0 | AGZ19: 2 lúa | AHA19: Hợp đồng | AHB19: =SUMIFS(AHA47:AHA59,AHE47:AHE59,AGZ19,AHF47:AHF59,AHA19) -> 0 | AHK19: 2 lúa | AHL19: Hợp đồng | AHM19: =SUMIFS(AHL47:AHL59,AHP47:AHP59,AHK19,AHQ47:AHQ59,AHL19) -> 0 | AHV19: 2 lúa | AHW19: Hợp đồng | AHX19: =SUMIFS(AHW47:AHW59,AIA47:AIA59,AHV19,AIB47:AIB59,AHW19) -> 0 | AIG19: 2 lúa | AIH19: Hợp đồng | AII19: =SUMIFS(AIH47:AIH59,AIL47:AIL59,AIG19,AIM47:AIM59,AIH19) -> 0 | AIR19: 2 lúa | AIS19: Hợp đồng | AIT19: =SUMIFS(AIS47:AIS59,AIW47:AIW59,AIR19,AIX47:AIX59,AIS19) -> 0 | AJC19: 2 lúa | AJD19: Hợp đồng | AJE19: =SUMIFS(AJD47:AJD59,AJH47:AJH59,AJC19,AJI47:AJI59,AJD19) -> 0 | AJN19: 2 lúa | AJO19: Hợp đồng | AJP19: =SUMIFS(AJO47:AJO59,AJS47:AJS59,AJN19,AJT47:AJT59,AJO19) -> 0 | AJY19: 2 lúa | AJZ19: Hợp đồng | AKA19: =SUMIFS(AJZ47:AJZ59,AKD47:AKD59,AJY19,AKE47:AKE59,AJZ19) -> 0 | AKJ19: 2 lúa | AKK19: Hợp đồng | AKL19: =SUMIFS(AKK47:AKK59,AKO47:AKO59,AKJ19,AKP47:AKP59,AKK19) -> 0 | AKU19: 2 lúa | AKV19: Hợp đồng | AKW19: =SUMIFS(AKV47:AKV59,AKZ47:AKZ59,AKU19,ALA47:ALA59,AKV19) -> 0 | ALF19: 2 lúa | ALG19: Hợp đồng | ALH19: =SUMIFS(ALG47:ALG59,ALK47:ALK59,ALF19,ALL47:ALL59,ALG19) -> 0 | ALQ19: 2 lúa | ALR19: Hợp đồng | ALS19: =SUMIFS(ALR47:ALR59,ALV47:ALV59,ALQ19,ALW47:ALW59,ALR19) -> 0 | AMB19: 2 lúa | AMC19: Hợp đồng | AMD19: =SUMIFS(AMC47:AMC59,AMG47:AMG59,AMB19,AMH47:AMH59,AMC19) -> 0 | AMM19: 2 lúa | AMN19: Hợp đồng | AMO19: =SUMIFS(AMN47:AMN59,AMR47:AMR59,AMM19,AMS47:AMS59,AMN19) -> 0 | AMX19: 2 lúa | AMY19: Hợp đồng | AMZ19: =SUMIFS(AMY47:AMY59,ANC47:ANC59,AMX19,AND47:AND59,AMY19) -> 0 | ANI19: 2 lúa | ANJ19: Hợp đồng | ANK19: =SUMIFS(ANJ47:ANJ59,ANN47:ANN59,ANI19,ANO47:ANO59,ANJ19) -> 0 | ANT19: 2 lúa | ANU19: Hợp đồng | ANV19: =SUMIFS(ANU47:ANU59,ANY47:ANY59,ANT19,ANZ47:ANZ59,ANU19) -> 0 | AOE19: 2 lúa | AOF19: Hợp đồng | AOG19: =SUMIFS(AOF47:AOF59,AOJ47:AOJ59,AOE19,AOK47:AOK59,AOF19) -> 0 | AOP19: 2 lúa | AOQ19: Hợp đồng | AOR19: =SUMIFS(AOQ47:AOQ59,AOU47:AOU59,AOP19,AOV47:AOV59,AOQ19) -> 0 | APA19: 2 lúa | APB19: Hợp đồng | APC19: =SUMIFS(APB47:APB59,APF47:APF59,APA19,APG47:APG59,APB19) -> 0 | APL19: 2 lúa | APM19: Hợp đồng | APN19: =SUMIFS(APM47:APM59,APQ47:APQ59,APL19,APR47:APR59,APM19) -> 0 | APW19: 2 lúa | APX19: Hợp đồng | APY19: =SUMIFS(APX47:APX59,AQB47:AQB59,APW19,AQC47:AQC59,APX19) -> 0 | AQH19: 2 lúa | AQI19: Hợp đồng | AQJ19: =SUMIFS(AQI47:AQI59,AQM47:AQM59,AQH19,AQN47:AQN59,AQI19) -> 0 | AQS19: 2 lúa | AQT19: Hợp đồng | AQU19: =SUMIFS(AQT47:AQT59,AQX47:AQX59,AQS19,AQY47:AQY59,AQT19) -> 0 | ARD19: 2 lúa | ARE19: Hợp đồng | ARF19: =SUMIFS(ARE47:ARE59,ARI47:ARI59,ARD19,ARJ47:ARJ59,ARE19) -> 0 | ARO19: 2 lúa | ARP19: Hợp đồng | ARQ19: =SUMIFS(ARP47:ARP59,ART47:ART59,ARO19,ARU47:ARU59,ARP19) -> 0 | ARZ19: 2 lúa | ASA19: Hợp đồng | ASB19: =SUMIFS(ASA47:ASA59,ASE47:ASE59,ARZ19,ASF47:ASF59,ASA19) -> 0 | ASK19: 2 lúa | ASL19: Hợp đồng | ASM19: =SUMIFS(ASL47:ASL59,ASP47:ASP59,ASK19,ASQ47:ASQ59,ASL19) -> 0 | ASV19: 2 lúa | ASW19: Hợp đồng | ASX19: =SUMIFS(ASW47:ASW59,ATA47:ATA59,ASV19,ATB47:ATB59,ASW19) -> 0 | ATG19: 2 lúa | ATH19: Hợp đồng | ATI19: =SUMIFS(ATH47:ATH59,ATL47:ATL59,ATG19,ATM47:ATM59,ATH19) -> 0 | ATR19: 2 lúa | ATS19: Hợp đồng | ATT19: =SUMIFS(ATS47:ATS59,ATW47:ATW59,ATR19,ATX47:ATX59,ATS19) -> 0 | AUC19: 2 lúa | AUD19: Hợp đồng | AUE19: =SUMIFS(AUD47:AUD59,AUH47:AUH59,AUC19,AUI47:AUI59,AUD19) -> 0 | AUN19: 2 lúa | AUO19: Hợp đồng | AUP19: =SUMIFS(AUO47:AUO59,AUS47:AUS59,AUN19,AUT47:AUT59,AUO19) -> 0 | AUY19: 2 lúa | AUZ19: Hợp đồng | AVA19: =SUMIFS(AUZ47:AUZ59,AVD47:AVD59,AUY19,AVE47:AVE59,AUZ19) -> 0 | AVJ19: 2 lúa | AVK19: Hợp đồng | AVL19: =SUMIFS(AVK47:AVK59,AVO47:AVO59,AVJ19,AVP47:AVP59,AVK19) -> 0 | AVU19: 2 lúa | AVV19: Hợp đồng | AVW19: =SUMIFS(AVV47:AVV59,AVZ47:AVZ59,AVU19,AWA47:AWA59,AVV19) -> 0
D20: 2 lúa | E20: Tự sử dụng | F20: =SUMIFS(E47:E59,I47:I59,D20,J47:J59,E20) -> 0 | O20: 2 lúa | P20: Tự sử dụng | Q20: =SUMIFS(P47:P59,T47:T59,O20,U47:U59,P20) -> 0 | Z20: 2 lúa | AA20: Tự sử dụng | AB20: =SUMIFS(AA47:AA59,AE47:AE59,Z20,AF47:AF59,AA20) -> 0 | AK20: 2 lúa | AL20: Tự sử dụng | AM20: =SUMIFS(AL47:AL59,AP47:AP59,AK20,AQ47:AQ59,AL20) -> 0 | AV20: 2 lúa | AW20: Tự sử dụng | AX20: =SUMIFS(AW47:AW59,BA47:BA59,AV20,BB47:BB59,AW20) -> 0 | BG20: 2 lúa | BH20: Tự sử dụng | BI20: =SUMIFS(BH47:BH59,BL47:BL59,BG20,BM47:BM59,BH20) -> 0 | BR20: 2 lúa | BS20: Tự sử dụng | BT20: =SUMIFS(BS47:BS59,BW47:BW59,BR20,BX47:BX59,BS20) -> 0 | CC20: 2 lúa | CD20: Tự sử dụng | CE20: =SUMIFS(CD47:CD59,CH47:CH59,CC20,CI47:CI59,CD20) -> 0 | CN20: 2 lúa | CO20: Tự sử dụng | CP20: =SUMIFS(CO47:CO59,CS47:CS59,CN20,CT47:CT59,CO20) -> 0 | CY20: 2 lúa | CZ20: Tự sử dụng | DA20: =SUMIFS(CZ47:CZ59,DD47:DD59,CY20,DE47:DE59,CZ20) -> 0 | DJ20: 2 lúa | DK20: Tự sử dụng | DL20: =SUMIFS(DK47:DK59,DO47:DO59,DJ20,DP47:DP59,DK20) -> 0 | DU20: 2 lúa | DV20: Tự sử dụng | DW20: =SUMIFS(DV47:DV59,DZ47:DZ59,DU20,EA47:EA59,DV20) -> 0 | EF20: 2 lúa | EG20: Tự sử dụng | EH20: =SUMIFS(EG47:EG59,EK47:EK59,EF20,EL47:EL59,EG20) -> 0 | EQ20: 2 lúa | ER20: Tự sử dụng | ES20: =SUMIFS(ER47:ER59,EV47:EV59,EQ20,EW47:EW59,ER20) -> 0 | FB20: 2 lúa | FC20: Tự sử dụng | FD20: =SUMIFS(FC47:FC59,FG47:FG59,FB20,FH47:FH59,FC20) -> 0 | FM20: 2 lúa | FN20: Tự sử dụng | FO20: =SUMIFS(FN47:FN59,FR47:FR59,FM20,FS47:FS59,FN20) -> 0 | FX20: 2 lúa | FY20: Tự sử dụng | FZ20: =SUMIFS(FY47:FY59,GC47:GC59,FX20,GD47:GD59,FY20) -> 0 | GI20: 2 lúa | GJ20: Tự sử dụng | GK20: =SUMIFS(GJ47:GJ59,GN47:GN59,GI20,GO47:GO59,GJ20) -> 0 | GT20: 2 lúa | GU20: Tự sử dụng | GV20: =SUMIFS(GU47:GU59,GY47:GY59,GT20,GZ47:GZ59,GU20) -> 0 | HE20: 2 lúa | HF20: Tự sử dụng | HG20: =SUMIFS(HF47:HF59,HJ47:HJ59,HE20,HK47:HK59,HF20) -> 0 | HP20: 2 lúa | HQ20: Tự sử dụng | HR20: =SUMIFS(HQ47:HQ59,HU47:HU59,HP20,HV47:HV59,HQ20) -> 0 | IA20: 2 lúa | IB20: Tự sử dụng | IC20: =SUMIFS(IB47:IB59,IF47:IF59,IA20,IG47:IG59,IB20) -> 0 | IL20: 2 lúa | IM20: Tự sử dụng | IN20: =SUMIFS(IM47:IM59,IQ47:IQ59,IL20,IR47:IR59,IM20) -> 0 | IW20: 2 lúa | IX20: Tự sử dụng | IY20: =SUMIFS(IX47:IX59,JB47:JB59,IW20,JC47:JC59,IX20) -> 0 | JH20: 2 lúa | JI20: Tự sử dụng | JJ20: =SUMIFS(JI47:JI59,JM47:JM59,JH20,JN47:JN59,JI20) -> 0 | JS20: 2 lúa | JT20: Tự sử dụng | JU20: =SUMIFS(JT47:JT59,JX47:JX59,JS20,JY47:JY59,JT20) -> 0 | KD20: 2 lúa | KE20: Tự sử dụng | KF20: =SUMIFS(KE47:KE59,KI47:KI59,KD20,KJ47:KJ59,KE20) -> 0 | KO20: 2 lúa | KP20: Tự sử dụng | KQ20: =SUMIFS(KP47:KP59,KT47:KT59,KO20,KU47:KU59,KP20) -> 0 | KZ20: 2 lúa | LA20: Tự sử dụng | LB20: =SUMIFS(LA47:LA59,LE47:LE59,KZ20,LF47:LF59,LA20) -> 0 | LK20: 2 lúa | LL20: Tự sử dụng | LM20: =SUMIFS(LL47:LL59,LP47:LP59,LK20,LQ47:LQ59,LL20) -> 0 | LV20: 2 lúa | LW20: Tự sử dụng | LX20: =SUMIFS(LW47:LW59,MA47:MA59,LV20,MB47:MB59,LW20) -> 0 | MG20: 2 lúa | MH20: Tự sử dụng | MI20: =SUMIFS(MH47:MH59,ML47:ML59,MG20,MM47:MM59,MH20) -> 0 | MR20: 2 lúa | MS20: Tự sử dụng | MT20: =SUMIFS(MS47:MS59,MW47:MW59,MR20,MX47:MX59,MS20) -> 0 | NC20: 2 lúa | ND20: Tự sử dụng | NE20: =SUMIFS(ND47:ND59,NH47:NH59,NC20,NI47:NI59,ND20) -> 0 | NN20: 2 lúa | NO20: Tự sử dụng | NP20: =SUMIFS(NO47:NO59,NS47:NS59,NN20,NT47:NT59,NO20) -> 0 | NY20: 2 lúa | NZ20: Tự sử dụng | OA20: =SUMIFS(NZ47:NZ59,OD47:OD59,NY20,OE47:OE59,NZ20) -> 0 | OJ20: 2 lúa | OK20: Tự sử dụng | OL20: =SUMIFS(OK47:OK59,OO47:OO59,OJ20,OP47:OP59,OK20) -> 0 | OU20: 2 lúa | OV20: Tự sử dụng | OW20: =SUMIFS(OV47:OV59,OZ47:OZ59,OU20,PA47:PA59,OV20) -> 0 | PF20: 2 lúa | PG20: Tự sử dụng | PH20: =SUMIFS(PG47:PG59,PK47:PK59,PF20,PL47:PL59,PG20) -> 0 | PQ20: 2 lúa | PR20: Tự sử dụng | PS20: =SUMIFS(PR47:PR59,PV47:PV59,PQ20,PW47:PW59,PR20) -> 0 | QB20: 2 lúa | QC20: Tự sử dụng | QD20: =SUMIFS(QC47:QC59,QG47:QG59,QB20,QH47:QH59,QC20) -> 0 | QM20: 2 lúa | QN20: Tự sử dụng | QO20: =SUMIFS(QN47:QN59,QR47:QR59,QM20,QS47:QS59,QN20) -> 0 | QX20: 2 lúa | QY20: Tự sử dụng | QZ20: =SUMIFS(QY47:QY59,RC47:RC59,QX20,RD47:RD59,QY20) -> 0 | RI20: 2 lúa | RJ20: Tự sử dụng | RK20: =SUMIFS(RJ47:RJ59,RN47:RN59,RI20,RO47:RO59,RJ20) -> 0 | RT20: 2 lúa | RU20: Tự sử dụng | RV20: =SUMIFS(RU47:RU59,RY47:RY59,RT20,RZ47:RZ59,RU20) -> 0 | SE20: 2 lúa | SF20: Tự sử dụng | SG20: =SUMIFS(SF47:SF59,SJ47:SJ59,SE20,SK47:SK59,SF20) -> 0 | SP20: 2 lúa | SQ20: Tự sử dụng | SR20: =SUMIFS(SQ47:SQ59,SU47:SU59,SP20,SV47:SV59,SQ20) -> 0 | TA20: 2 lúa | TB20: Tự sử dụng | TC20: =SUMIFS(TB47:TB59,TF47:TF59,TA20,TG47:TG59,TB20) -> 0 | TL20: 2 lúa | TM20: Tự sử dụng | TN20: =SUMIFS(TM47:TM59,TQ47:TQ59,TL20,TR47:TR59,TM20) -> 0 | TW20: 2 lúa | TX20: Tự sử dụng | TY20: =SUMIFS(TX47:TX59,UB47:UB59,TW20,UC47:UC59,TX20) -> 0 | UH20: 2 lúa | UI20: Tự sử dụng | UJ20: =SUMIFS(UI47:UI59,UM47:UM59,UH20,UN47:UN59,UI20) -> 0 | US20: 2 lúa | UT20: Tự sử dụng | UU20: =SUMIFS(UT47:UT59,UX47:UX59,US20,UY47:UY59,UT20) -> 0 | VD20: 2 lúa | VE20: Tự sử dụng | VF20: =SUMIFS(VE47:VE59,VI47:VI59,VD20,VJ47:VJ59,VE20) -> 0 | VO20: 2 lúa | VP20: Tự sử dụng | VQ20: =SUMIFS(VP47:VP59,VT47:VT59,VO20,VU47:VU59,VP20) -> 0 | VZ20: 2 lúa | WA20: Tự sử dụng | WB20: =SUMIFS(WA47:WA59,WE47:WE59,VZ20,WF47:WF59,WA20) -> 0 | WK20: 2 lúa | WL20: Tự sử dụng | WM20: =SUMIFS(WL47:WL59,WP47:WP59,WK20,WQ47:WQ59,WL20) -> 0 | WV20: 2 lúa | WW20: Tự sử dụng | WX20: =SUMIFS(WW47:WW59,XA47:XA59,WV20,XB47:XB59,WW20) -> 0 | XG20: 2 lúa | XH20: Tự sử dụng | XI20: =SUMIFS(XH47:XH59,XL47:XL59,XG20,XM47:XM59,XH20) -> 0 | XR20: 2 lúa | XS20: Tự sử dụng | XT20: =SUMIFS(XS47:XS59,XW47:XW59,XR20,XX47:XX59,XS20) -> 0 | YC20: 2 lúa | YD20: Tự sử dụng | YE20: =SUMIFS(YD47:YD59,YH47:YH59,YC20,YI47:YI59,YD20) -> 0 | YN20: 2 lúa | YO20: Tự sử dụng | YP20: =SUMIFS(YO47:YO59,YS47:YS59,YN20,YT47:YT59,YO20) -> 0 | YY20: 2 lúa | YZ20: Tự sử dụng | ZA20: =SUMIFS(YZ47:YZ59,ZD47:ZD59,YY20,ZE47:ZE59,YZ20) -> 0 | ZJ20: 2 lúa | ZK20: Tự sử dụng | ZL20: =SUMIFS(ZK47:ZK59,ZO47:ZO59,ZJ20,ZP47:ZP59,ZK20) -> 0 | ZU20: 2 lúa | ZV20: Tự sử dụng | ZW20: =SUMIFS(ZV47:ZV59,ZZ47:ZZ59,ZU20,AAA47:AAA59,ZV20) -> 0 | AAF20: 2 lúa | AAG20: Tự sử dụng | AAH20: =SUMIFS(AAG47:AAG59,AAK47:AAK59,AAF20,AAL47:AAL59,AAG20) -> 0 | AAQ20: 2 lúa | AAR20: Tự sử dụng | AAS20: =SUMIFS(AAR47:AAR59,AAV47:AAV59,AAQ20,AAW47:AAW59,AAR20) -> 0 | ABB20: 2 lúa | ABC20: Tự sử dụng | ABD20: =SUMIFS(ABC47:ABC59,ABG47:ABG59,ABB20,ABH47:ABH59,ABC20) -> 0 | ABM20: 2 lúa | ABN20: Tự sử dụng | ABO20: =SUMIFS(ABN47:ABN59,ABR47:ABR59,ABM20,ABS47:ABS59,ABN20) -> 0 | ABX20: 2 lúa | ABY20: Tự sử dụng | ABZ20: =SUMIFS(ABY47:ABY59,ACC47:ACC59,ABX20,ACD47:ACD59,ABY20) -> 0 | ACI20: 2 lúa | ACJ20: Tự sử dụng | ACK20: =SUMIFS(ACJ47:ACJ59,ACN47:ACN59,ACI20,ACO47:ACO59,ACJ20) -> 0 | ACT20: 2 lúa | ACU20: Tự sử dụng | ACV20: =SUMIFS(ACU47:ACU59,ACY47:ACY59,ACT20,ACZ47:ACZ59,ACU20) -> 0 | ADE20: 2 lúa | ADF20: Tự sử dụng | ADG20: =SUMIFS(ADF47:ADF59,ADJ47:ADJ59,ADE20,ADK47:ADK59,ADF20) -> 0 | ADP20: 2 lúa | ADQ20: Tự sử dụng | ADR20: =SUMIFS(ADQ47:ADQ59,ADU47:ADU59,ADP20,ADV47:ADV59,ADQ20) -> 0 | AEA20: 2 lúa | AEB20: Tự sử dụng | AEC20: =SUMIFS(AEB47:AEB59,AEF47:AEF59,AEA20,AEG47:AEG59,AEB20) -> 0 | AEL20: 2 lúa | AEM20: Tự sử dụng | AEN20: =SUMIFS(AEM47:AEM59,AEQ47:AEQ59,AEL20,AER47:AER59,AEM20) -> 0 | AEW20: 2 lúa | AEX20: Tự sử dụng | AEY20: =SUMIFS(AEX47:AEX59,AFB47:AFB59,AEW20,AFC47:AFC59,AEX20) -> 0 | AFH20: 2 lúa | AFI20: Tự sử dụng | AFJ20: =SUMIFS(AFI47:AFI59,AFM47:AFM59,AFH20,AFN47:AFN59,AFI20) -> 0 | AFS20: 2 lúa | AFT20: Tự sử dụng | AFU20: =SUMIFS(AFT47:AFT59,AFX47:AFX59,AFS20,AFY47:AFY59,AFT20) -> 0 | AGD20: 2 lúa | AGE20: Tự sử dụng | AGF20: =SUMIFS(AGE47:AGE59,AGI47:AGI59,AGD20,AGJ47:AGJ59,AGE20) -> 0 | AGO20: 2 lúa | AGP20: Tự sử dụng | AGQ20: =SUMIFS(AGP47:AGP59,AGT47:AGT59,AGO20,AGU47:AGU59,AGP20) -> 0 | AGZ20: 2 lúa | AHA20: Tự sử dụng | AHB20: =SUMIFS(AHA47:AHA59,AHE47:AHE59,AGZ20,AHF47:AHF59,AHA20) -> 0 | AHK20: 2 lúa | AHL20: Tự sử dụng | AHM20: =SUMIFS(AHL47:AHL59,AHP47:AHP59,AHK20,AHQ47:AHQ59,AHL20) -> 0 | AHV20: 2 lúa | AHW20: Tự sử dụng | AHX20: =SUMIFS(AHW47:AHW59,AIA47:AIA59,AHV20,AIB47:AIB59,AHW20) -> 0 | AIG20: 2 lúa | AIH20: Tự sử dụng | AII20: =SUMIFS(AIH47:AIH59,AIL47:AIL59,AIG20,AIM47:AIM59,AIH20) -> 0 | AIR20: 2 lúa | AIS20: Tự sử dụng | AIT20: =SUMIFS(AIS47:AIS59,AIW47:AIW59,AIR20,AIX47:AIX59,AIS20) -> 0 | AJC20: 2 lúa | AJD20: Tự sử dụng | AJE20: =SUMIFS(AJD47:AJD59,AJH47:AJH59,AJC20,AJI47:AJI59,AJD20) -> 0 | AJN20: 2 lúa | AJO20: Tự sử dụng | AJP20: =SUMIFS(AJO47:AJO59,AJS47:AJS59,AJN20,AJT47:AJT59,AJO20) -> 0 | AJY20: 2 lúa | AJZ20: Tự sử dụng | AKA20: =SUMIFS(AJZ47:AJZ59,AKD47:AKD59,AJY20,AKE47:AKE59,AJZ20) -> 0 | AKJ20: 2 lúa | AKK20: Tự sử dụng | AKL20: =SUMIFS(AKK47:AKK59,AKO47:AKO59,AKJ20,AKP47:AKP59,AKK20) -> 0 | AKU20: 2 lúa | AKV20: Tự sử dụng | AKW20: =SUMIFS(AKV47:AKV59,AKZ47:AKZ59,AKU20,ALA47:ALA59,AKV20) -> 0 | ALF20: 2 lúa | ALG20: Tự sử dụng | ALH20: =SUMIFS(ALG47:ALG59,ALK47:ALK59,ALF20,ALL47:ALL59,ALG20) -> 0 | ALQ20: 2 lúa | ALR20: Tự sử dụng | ALS20: =SUMIFS(ALR47:ALR59,ALV47:ALV59,ALQ20,ALW47:ALW59,ALR20) -> 0 | AMB20: 2 lúa | AMC20: Tự sử dụng | AMD20: =SUMIFS(AMC47:AMC59,AMG47:AMG59,AMB20,AMH47:AMH59,AMC20) -> 0 | AMM20: 2 lúa | AMN20: Tự sử dụng | AMO20: =SUMIFS(AMN47:AMN59,AMR47:AMR59,AMM20,AMS47:AMS59,AMN20) -> 0 | AMX20: 2 lúa | AMY20: Tự sử dụng | AMZ20: =SUMIFS(AMY47:AMY59,ANC47:ANC59,AMX20,AND47:AND59,AMY20) -> 0 | ANI20: 2 lúa | ANJ20: Tự sử dụng | ANK20: =SUMIFS(ANJ47:ANJ59,ANN47:ANN59,ANI20,ANO47:ANO59,ANJ20) -> 0 | ANT20: 2 lúa | ANU20: Tự sử dụng | ANV20: =SUMIFS(ANU47:ANU59,ANY47:ANY59,ANT20,ANZ47:ANZ59,ANU20) -> 0 | AOE20: 2 lúa | AOF20: Tự sử dụng | AOG20: =SUMIFS(AOF47:AOF59,AOJ47:AOJ59,AOE20,AOK47:AOK59,AOF20) -> 0 | AOP20: 2 lúa | AOQ20: Tự sử dụng | AOR20: =SUMIFS(AOQ47:AOQ59,AOU47:AOU59,AOP20,AOV47:AOV59,AOQ20) -> 0 | APA20: 2 lúa | APB20: Tự sử dụng | APC20: =SUMIFS(APB47:APB59,APF47:APF59,APA20,APG47:APG59,APB20) -> 0 | APL20: 2 lúa | APM20: Tự sử dụng | APN20: =SUMIFS(APM47:APM59,APQ47:APQ59,APL20,APR47:APR59,APM20) -> 0 | APW20: 2 lúa | APX20: Tự sử dụng | APY20: =SUMIFS(APX47:APX59,AQB47:AQB59,APW20,AQC47:AQC59,APX20) -> 0 | AQH20: 2 lúa | AQI20: Tự sử dụng | AQJ20: =SUMIFS(AQI47:AQI59,AQM47:AQM59,AQH20,AQN47:AQN59,AQI20) -> 0 | AQS20: 2 lúa | AQT20: Tự sử dụng | AQU20: =SUMIFS(AQT47:AQT59,AQX47:AQX59,AQS20,AQY47:AQY59,AQT20) -> 0 | ARD20: 2 lúa | ARE20: Tự sử dụng | ARF20: =SUMIFS(ARE47:ARE59,ARI47:ARI59,ARD20,ARJ47:ARJ59,ARE20) -> 0 | ARO20: 2 lúa | ARP20: Tự sử dụng | ARQ20: =SUMIFS(ARP47:ARP59,ART47:ART59,ARO20,ARU47:ARU59,ARP20) -> 0 | ARZ20: 2 lúa | ASA20: Tự sử dụng | ASB20: =SUMIFS(ASA47:ASA59,ASE47:ASE59,ARZ20,ASF47:ASF59,ASA20) -> 0 | ASK20: 2 lúa | ASL20: Tự sử dụng | ASM20: =SUMIFS(ASL47:ASL59,ASP47:ASP59,ASK20,ASQ47:ASQ59,ASL20) -> 0 | ASV20: 2 lúa | ASW20: Tự sử dụng | ASX20: =SUMIFS(ASW47:ASW59,ATA47:ATA59,ASV20,ATB47:ATB59,ASW20) -> 0 | ATG20: 2 lúa | ATH20: Tự sử dụng | ATI20: =SUMIFS(ATH47:ATH59,ATL47:ATL59,ATG20,ATM47:ATM59,ATH20) -> 0 | ATR20: 2 lúa | ATS20: Tự sử dụng | ATT20: =SUMIFS(ATS47:ATS59,ATW47:ATW59,ATR20,ATX47:ATX59,ATS20) -> 0 | AUC20: 2 lúa | AUD20: Tự sử dụng | AUE20: =SUMIFS(AUD47:AUD59,AUH47:AUH59,AUC20,AUI47:AUI59,AUD20) -> 0 | AUN20: 2 lúa | AUO20: Tự sử dụng | AUP20: =SUMIFS(AUO47:AUO59,AUS47:AUS59,AUN20,AUT47:AUT59,AUO20) -> 0 | AUY20: 2 lúa | AUZ20: Tự sử dụng | AVA20: =SUMIFS(AUZ47:AUZ59,AVD47:AVD59,AUY20,AVE47:AVE59,AUZ20) -> 0 | AVJ20: 2 lúa | AVK20: Tự sử dụng | AVL20: =SUMIFS(AVK47:AVK59,AVO47:AVO59,AVJ20,AVP47:AVP59,AVK20) -> 0 | AVU20: 2 lúa | AVV20: Tự sử dụng | AVW20: =SUMIFS(AVV47:AVV59,AVZ47:AVZ59,AVU20,AWA47:AWA59,AVV20) -> 0
