Workbook

Sheet SGV

Sheet TacVu
B3: Số hộ | C3: 7

Sheet TrichLuc
C1: ỦY BAN NHÂN DÂN | N1: CỘNG HOÀ XÃ HỘI CHỦ NGHĨA VIỆT NAM
C2: HUYỆN KIẾN THỤY | N2: Độc lập - Tự do - Hạnh phúc | AC2: 1060.7 | AG2: 1060.7 | AH2: 1060.7
N3: Kiến Thụy, ngày tháng năm 2025 | AB3: =+AC2-#REF! -> #REF!
C6: Stt | D6: Họ và tên chủ hộ | E6: Họ và tên người đại diện hoặc người sử dụng đất | F6: Địa chỉ thửa đất (thôn) | G6: Số khẩu chia ruộng (khẩu) | H6: Tổng DT đất NN giao lâu dài theo QĐ 03 (m2) | I6: Số khẩu chia ruộng (khẩu) | J6: Tổng DT đất NN giao lâu dài sau dồn điền, đổi thửa (m2) | K6: Phần thu hồi cho dự án | W6: Diện tích đất đã bị thu hồi (m2) | X6: Tỷ lệ phần trăm mất đất (%) | Y6: Loại đất | Z6: Hình thức giao, nguồn gốc đất bị thu hồi | AA6: Ghi chú | AC6: Số khẩu thực tế sống bằng NN | AD6: Hiện trạng trông cây | AE6: Địa chỉ thường trú | AF6: Tổng thu hồi cả thửa | AG6: Hỗ trợ đối với Người có công với Cách mạng | AH6: Hỗ trợ đối với hộ nghèo, cận nghèo | AI6: Diện tích thu hồi | AJ6: Dự án
K7: Hồ sơ giao đất nông nghiệp | O7: Trích mảnh trích đo địa chính | T7: Tổng diện tích thu hồi (m2) | U7: Trong đó
K9: Tờ số | L9: Thửa số | M9: Xứ đồng | N9: Diện tích giao (m2) | O9: Diện tích còn lại | Q9: Tờ số | R9: Thửa số | S9: Diện tích (m2) | U9: Diện tích thu hồi trong chỉ giới (m2) | V9: Diện tích MKN SX (m2)
C10: 1 | D10: 2 | E10: 3 | F10: 4 | G10: 5 | H10: 6 | I10: 5 | J10: 6 | K10: 7 | L10: 8 | M10: 9 | N10: 10 | O10: 11 | P10: 12 | Q10: 13 | R10: 14 | S10: 15 | T10: 16 | U10: 17 | V10: 18 | W10: 19 | X10: 20 | Y10: 21 | Z10: 22 | AA10: 23 | AC10: 26 | AD10: 30 | AE10: 31 | AF10: 32 | AG10: 33 | AH10: 34
A11: 1 | C11: 1 | D11: Phạm Văn Tuất (đã chết); Bùi Thị Hương | E11: Bùi Thị Hương | F11: Đội 3, Phong Cầu | I11: 6+1 | J11: 3701 | O11: =J11-W11 -> 2710 | Q11: 3 | R11: 120 | T11: =U11+U12+V11+V12 -> 593.8 | U11: 148.8 | W11: 991 | X11: =T11/O11*100 -> 21.911439 | Y11: 2 lúa | Z11: lâu dài | AC11: 15 | AE11: Đội 3, Phong Cầu, xã Kiến Minh, TP Hải Phòng | AF11: =U11+V11 -> 148.8
A12: 1 | Q12: 3 | R12: 63 | U12: 445 | Y12: 2 lúa | Z12: lâu dài | AE12: Đội 3, Phong Cầu, xã Kiến Minh, TP Hải Phòng | AF12: =U12+V12 -> 445
A13: 2 | C13: 2 | D13: Phạm Thanh Bình; Phạm Bích Ngời | F13: Đội 3, Phong Cầu | I13: 6 | J13: 1519 | O13: =J13-W13 -> 1519 | Q13: 3 | R13: 107 | T13: =U13+V13 -> 600.9 | U13: 600.9 | X13: =T13/O13*100 -> 39.55892 | Y13: 2 lúa | Z13: lâu dài | AC13: 7 | AE13: Đội 3, Phong Cầu, xã Kiến Minh, TP Hải Phòng | AF13: =U13+V13 -> 600.9
A14: 3 | C14: 3 | D14: Phạm Văn Xá; Nguyễn Thị Cần | F14: Đội 3, Phong Cầu | I14: 4 | J14: 3276 | O14: =J14-W14 -> 2691 | Q14: 3 | R14: 109 | T14: =U14+V14 -> 654.2 | U14: 654.2 | W14: =406+179 -> 585 | X14: =T14/O14*100 -> 24.310665 | Y14: 2 lúa | Z14: lâu dài | AC14: 10 | AE14: Đội 3, Phong Cầu, xã Kiến Minh, TP Hải Phòng | AF14: =U14+V14 -> 654.2
A15: 4 | C15: 4 | D15: Lương Văn Nghĩa; Nguyễn Thị Mãn | F15: Đội 3, Phong Cầu | I15: 3+1 | J15: 1620 | O15: =J15-W15 -> 1616.5 | Q15: 3 | R15: 110 | T15: =U15+V15 -> 217 | U15: 217 | W15: 3.5 | X15: =T15/O15*100 -> 13.424064 | Y15: 2 lúa | Z15: lâu dài | AC15: 6 | AE15: Đội 3, Phong Cầu, xã Kiến Minh, TP Hải Phòng | AF15: =U15+V15 -> 217
A16: 5 | C16: 5 | D16: Vũ Thị Cậy | F16: Đội 3, Phong Cầu | I16: 2+1 | J16: 3028 | O16: =J16-W16 -> 3028 | Q16: 3 | R16: 111 | T16: =U16+V16 -> 138.5 | U16: 138.5 | X16: =T16/O16*100 -> 4.5739762 | Y16: 2 lúa | Z16: lâu dài | AC16: 9 | AE16: Đội 3, Phong Cầu, xã Kiến Minh, TP Hải Phòng | AF16: =U16+V16 -> 138.5
A17: 6 | C17: 6 | D17: Phạm Văn Hợi; Nguyễn Thị Thế | F17: Đội 3, Phong Cầu | I17: 5 | J17: 1954 | O17: =J17-W17 -> 1753.22 | Q17: 3 | R17: 62 | T17: =U17+V17 -> 547 | U17: 547 | W17: =114.1+86.68 -> 200.78 | X17: =T17/O17*100 -> 31.199735 | Y17: 2 lúa | Z17: lâu dài | AC17: 8 | AE17: Đội 3, Phong Cầu, xã Kiến Minh, TP Hải Phòng | AF17: =U17+V17 -> 547
A18: =+COUNTA($D$11:D18) -> 7 | C18: 7 | D18: Nguyễn Văn Nam; Hoàng Thị Khuyên | F18: Đội 3, Phong Cầu | I18: 5+1 | J18: =452+57+736+319+198+177 -> 1939 | O18: =J18-W18 -> 1762 | Q18: 3 | R18: 60 | T18: =U18+V18 -> 452 | U18: 452 | W18: 177 | X18: =T18/O18*100 -> 25.652667 | Y18: 2 lúa | Z18: lâu dài | AC18: 7 | AE18: Đội 3, Phong Cầu, xã Kiến Minh, TP Hải Phòng | AF18: =U18+V18 -> 452
A19: =+COUNTA($D$11:D19) -> 8 | C19: 8 | D19: Phạm Đình Phùng (đã chết) | E19: Phạm Đình Phan (con) | F19: Đội 3, Phong Cầu | I19: 5 | J19: 2098 | O19: =J19-W19 -> 1752 | Q19: 3 | R19: 59 | T19: =U19+V19 -> 274 | U19: 274 | W19: =209+137 -> 346 | X19: =T19/O19*100 -> 15.639269 | Y19: 2 lúa | Z19: lâu dài | AC19: 8 | AE19: Đội 3, Phong Cầu, xã Kiến Minh, TP Hải Phòng | AF19: =U19+V19 -> 274
A20: =+COUNTA($D$11:D20) -> 9 | C20: 9 | D20: Vũ Văn Phan; Nguyễn Thị Nguyệt | F20: Đội 3, Phong Cầu | I20: 3 | J20: =222+357+332+194+260+756 -> 2121 | O20: =J20-W20 -> 2121 | Q20: 3 | R20: 122 | T20: =U20+V20 -> 194 | U20: 181.5 | V20: 12.5 | X20: =T20/O20*100 -> 9.1466289 | Y20: 2 lúa | Z20: lâu dài | AC20: 7 | AE20: Đội 3, Phong Cầu, xã Kiến Minh, TP Hải Phòng | AF20: =U20+V20 -> 194
A21: =+COUNTA($D$11:D21) -> 10 | C21: 10 | D21: Vũ Văn Đưởng (đã chết); Phạm Thị Bầu (đã chết) | E21: Vũ Thị Lệ (con) | F21: Đội 3, Phong Cầu | I21: 4+1 | J21: 2657 | O21: =J21-W21 -> 2657 | Q21: 3 | R21: 79 | T21: =U21+V21 -> 5.5 | U21: 5.5 | X21: =T21/O21*100 -> 0.20700038 | Y21: 2 lúa | Z21: lâu dài | AC21: 7 | AE21: Đội 3, Phong Cầu, xã Kiến Minh, TP Hải Phòng | AF21: =U21+V21 -> 5.5
C24: Tổng cộng | J24: =SUM(J11:J23) -> 23913 | T24: =SUM(T11:T23) -> 3676.9 | U24: =SUM(U11:U23) -> 3664.4 | V24: =SUM(V11:V23) -> 12.5 | AF24: =+SUBTOTAL(109,AF11:AF23) -> 3676.9
AF25: =U25+V25 -> 0
D26: ỦY BAN NHÂN DÂN XÃ ĐỒNG PHƯƠNG | M26: PHÒNG NÔNG NGHIỆP VÀ MÔI TRƯỜNG | V26: ỦY BAN NHÂN DÂN HUYỆN
D27: CÔNG CHỨC ĐỊA CHÍNH LÃNH ĐẠO | K27: CHUYÊN VIÊN LÃNH ĐẠO
AF35: =U35+#REF! -> #REF!
AF36: =U36+V36 -> 0
AF37: =U37+V37 -> 0
AF38: =U38+V38 -> 0
AF40: =U40+V40 -> 0
AF41: =U41+V41 -> 0
AF42: =U42+V42 -> 0
AF43: =U43+V43 -> 0
AF44: =U44+V44 -> 0
AF45: =U45+V45 -> 0
AF46: =U46+V46 -> 0
AF47: =U47+V47 -> 0
AF48: =U48+V48 -> 0
... AF299: =U299+V299 -> 0

Sheet BangTinh
B3: Số Phương án | F3: 1 | M3: Số Phương án | Q3: =F3+1 -> 2 | X3: Số Phương án | AB3: =Q3+1 -> 3 | AI3: Số Phương án | AM3: =AB3+1 -> 4 | AT3: Số Phương án | AX3: =AM3+1 -> 5 | BE3: Số Phương án | BI3: =AX3+1 -> 6 | BP3: Số Phương án | BT3: =BI3+1 -> 7 | CA3: Số Phương án | CE3: =BT3+1 -> 8 | CL3: Số Phương án | CP3: =CE3+1 -> 9 | CW3: Số Phương án | DA3: =CP3+1 -> 10 | DH3: Số Phương án | DL3: =DA3+1 -> 11 | DS3: Số Phương án | DW3: =DL3+1 -> 12 | ED3: Số Phương án | EH3: =DW3+1 -> 13 | EO3: Số Phương án | ES3: =EH3+1 -> 14 | EZ3: Số Phương án | FD3: =ES3+1 -> 15 | FK3: Số Phương án | FO3: =FD3+1 -> 16 | FV3: Số Phương án | FZ3: =FO3+1 -> 17 | GG3: Số Phương án | GK3: =FZ3+1 -> 18 | GR3: Số Phương án | GV3: =GK3+1 -> 19 | HC3: Số Phương án | HG3: =GV3+1 -> 20 | HN3: Số Phương án | HR3: =HG3+1 -> 21 | HY3: Số Phương án | IC3: =HR3+1 -> 22 | IJ3: Số Phương án | IN3: =IC3+1 -> 23 | IU3: Số Phương án | IY3: =IN3+1 -> 24 | JF3: Số Phương án | JJ3: =IY3+1 -> 25 | JQ3: Số Phương án | JU3: =JJ3+1 -> 26 | KB3: Số Phương án | KF3: =JU3+1 -> 27 | KM3: Số Phương án | KQ3: =KF3+1 -> 28 | KX3: Số Phương án | LB3: =KQ3+1 -> 29 | LI3: Số Phương án | LM3: =LB3+1 -> 30 | LT3: Số Phương án | LX3: =LM3+1 -> 31 | ME3: Số Phương án | MI3: =LX3+1 -> 32 | MP3: Số Phương án | MT3: =MI3+1 -> 33 | NA3: Số Phương án | NE3: =MT3+1 -> 34 | NL3: Số Phương án | NP3: =NE3+1 -> 35 | NW3: Số Phương án | OA3: =NP3+1 -> 36 | OH3: Số Phương án | OL3: =OA3+1 -> 37 | OS3: Số Phương án | OW3: =OL3+1 -> 38 | PD3: Số Phương án | PH3: =OW3+1 -> 39 | PO3: Số Phương án | PS3: =PH3+1 -> 40 | PZ3: Số Phương án | QD3: =PS3+1 -> 41 | QK3: Số Phương án | QO3: =QD3+1 -> 42 | QV3: Số Phương án | QZ3: =QO3+1 -> 43 | RG3: Số Phương án | RK3: =QZ3+1 -> 44 | RR3: Số Phương án | RV3: =RK3+1 -> 45 | SC3: Số Phương án | SG3: =RV3+1 -> 46 | SN3: Số Phương án | SR3: =SG3+1 -> 47 | SY3: Số Phương án | TC3: =SR3+1 -> 48 | TJ3: Số Phương án | TN3: =TC3+1 -> 49 | TU3: Số Phương án | TY3: =TN3+1 -> 50 | UF3: Số Phương án | UJ3: =TY3+1 -> 51 | UQ3: Số Phương án | UU3: =UJ3+1 -> 52 | VB3: Số Phương án | VF3: =UU3+1 -> 53 | VM3: Số Phương án | VQ3: =VF3+1 -> 54 | VX3: Số Phương án | WB3: =VQ3+1 -> 55 | WI3: Số Phương án | WM3: =WB3+1 -> 56 | WT3: Số Phương án | WX3: =WM3+1 -> 57 | XE3: Số Phương án | XI3: =WX3+1 -> 58 | XP3: Số Phương án | XT3: =XI3+1 -> 59 | YA3: Số Phương án | YE3: =XT3+1 -> 60 | YL3: Số Phương án | YP3: =YE3+1 -> 61 | YW3: Số Phương án | ZA3: =YP3+1 -> 62 | ZH3: Số Phương án | ZL3: =ZA3+1 -> 63 | ZS3: Số Phương án | ZW3: =ZL3+1 -> 64 | AAD3: Số Phương án | AAH3: =ZW3+1 -> 65 | AAO3: Số Phương án | AAS3: =AAH3+1 -> 66 | AAZ3: Số Phương án | ABD3: =AAS3+1 -> 67 | ABK3: Số Phương án | ABO3: =ABD3+1 -> 68 | ABV3: Số Phương án | ABZ3: =ABO3+1 -> 69 | ACG3: Số Phương án | ACK3: =ABZ3+1 -> 70 | ACR3: Số Phương án | ACV3: =ACK3+1 -> 71 | ADC3: Số Phương án | ADG3: =ACV3+1 -> 72 | ADN3: Số Phương án | ADR3: =ADG3+1 -> 73 | ADY3: Số Phương án | AEC3: =ADR3+1 -> 74 | AEJ3: Số Phương án | AEN3: =AEC3+1 -> 75 | AEU3: Số Phương án | AEY3: =AEN3+1 -> 76 | AFF3: Số Phương án | AFJ3: =AEY3+1 -> 77 | AFQ3: Số Phương án | AFU3: =AFJ3+1 -> 78 | AGB3: Số Phương án | AGF3: =AFU3+1 -> 79 | AGM3: Số Phương án | AGQ3: =AGF3+1 -> 80 | AGX3: Số Phương án | AHB3: =AGQ3+1 -> 81 | AHI3: Số Phương án | AHM3: =AHB3+1 -> 82 | AHT3: Số Phương án | AHX3: =AHM3+1 -> 83 | AIE3: Số Phương án | AII3: =AHX3+1 -> 84 | AIP3: Số Phương án | AIT3: =AII3+1 -> 85 | AJA3: Số Phương án | AJE3: =AIT3+1 -> 86 | AJL3: Số Phương án | AJP3: =AJE3+1 -> 87 | AJW3: Số Phương án | AKA3: =AJP3+1 -> 88 | AKH3: Số Phương án | AKL3: =AKA3+1 -> 89 | AKS3: Số Phương án | AKW3: =AKL3+1 -> 90 | ALD3: Số Phương án | ALH3: =AKW3+1 -> 91 | ALO3: Số Phương án | ALS3: =ALH3+1 -> 92 | ALZ3: Số Phương án | AMD3: =ALS3+1 -> 93 | AMK3: Số Phương án | AMO3: =AMD3+1 -> 94 | AMV3: Số Phương án | AMZ3: =AMO3+1 -> 95 | ANG3: Số Phương án | ANK3: =AMZ3+1 -> 96 | ANR3: Số Phương án | ANV3: =ANK3+1 -> 97 | AOC3: Số Phương án | AOG3: =ANV3+1 -> 98 | AON3: Số Phương án | AOR3: =AOG3+1 -> 99 | AOY3: Số Phương án | APC3: =AOR3+1 -> 100 | APJ3: Số Phương án | APN3: =APC3+1 -> 101 | APU3: Số Phương án | APY3: =APN3+1 -> 102 | AQF3: Số Phương án | AQJ3: =APY3+1 -> 103 | AQQ3: Số Phương án | AQU3: =AQJ3+1 -> 104 | ARB3: Số Phương án | ARF3: =AQU3+1 -> 105 | ARM3: Số Phương án | ARQ3: =ARF3+1 -> 106 | ARX3: Số Phương án | ASB3: =ARQ3+1 -> 107 | ASI3: Số Phương án | ASM3: =ASB3+1 -> 108 | AST3: Số Phương án | ASX3: =ASM3+1 -> 109 | ATE3: Số Phương án | ATI3: =ASX3+1 -> 110 | ATP3: Số Phương án | ATT3: =ATI3+1 -> 111 | AUA3: Số Phương án | AUE3: =ATT3+1 -> 112 | AUL3: Số Phương án | AUP3: =AUE3+1 -> 113 | AUW3: Số Phương án | AVA3: =AUP3+1 -> 114 | AVH3: Số Phương án | AVL3: =AVA3+1 -> 115 | AVS3: Số Phương án | AVW3: =AVL3+1 -> 116
B4: Tổng diện tích đất thu hồi: | F4: =F22+F36 -> 593.8 | M4: Tổng diện tích đất thu hồi: | Q4: =Q22+Q36 -> 600.9 | X4: Tổng diện tích đất thu hồi: | AB4: =AB22+AB36 -> 654.2 | AI4: Tổng diện tích đất thu hồi: | AM4: =AM22+AM36 -> 217 | AT4: Tổng diện tích đất thu hồi: | AX4: =AX22+AX36 -> 138.5 | BE4: Tổng diện tích đất thu hồi: | BI4: =BI22+BI36 -> 547 | BP4: Tổng diện tích đất thu hồi: | BT4: =BT22+BT36 -> 452 | CA4: Tổng diện tích đất thu hồi: | CE4: =CE22+CE36 -> 274 | CL4: Tổng diện tích đất thu hồi: | CP4: =CP22+CP36 -> 194 | CW4: Tổng diện tích đất thu hồi: | DA4: =DA22+DA36 -> 5.5 | DH4: Tổng diện tích đất thu hồi: | DL4: =DL22+DL36 -> 0 | DS4: Tổng diện tích đất thu hồi: | DW4: =DW22+DW36 -> 0 | ED4: Tổng diện tích đất thu hồi: | EH4: =EH22+EH36 -> 0 | EO4: Tổng diện tích đất thu hồi: | ES4: =ES22+ES36 -> 0 | EZ4: Tổng diện tích đất thu hồi: | FD4: =FD22+FD36 -> 0 | FK4: Tổng diện tích đất thu hồi: | FO4: =FO22+FO36 -> 0 | FV4: Tổng diện tích đất thu hồi: | FZ4: =FZ22+FZ36 -> 0 | GG4: Tổng diện tích đất thu hồi: | GK4: =GK22+GK36 -> 0 | GR4: Tổng diện tích đất thu hồi: | GV4: =GV22+GV36 -> 0 | HC4: Tổng diện tích đất thu hồi: | HG4: =HG22+HG36 -> 0 | HN4: Tổng diện tích đất thu hồi: | HR4: =HR22+HR36 -> 0 | HY4: Tổng diện tích đất thu hồi: | IC4: =IC22+IC36 -> 0 | IJ4: Tổng diện tích đất thu hồi: | IN4: =IN22+IN36 -> 0 | IU4: Tổng diện tích đất thu hồi: | IY4: =IY22+IY36 -> 0 | JF4: Tổng diện tích đất thu hồi: | JJ4: =JJ22+JJ36 -> 0 | JQ4: Tổng diện tích đất thu hồi: | JU4: =JU22+JU36 -> 0 | KB4: Tổng diện tích đất thu hồi: | KF4: =KF22+KF36 -> 0 | KM4: Tổng diện tích đất thu hồi: | KQ4: =KQ22+KQ36 -> 0 | KX4: Tổng diện tích đất thu hồi: | LB4: =LB22+LB36 -> 0 | LI4: Tổng diện tích đất thu hồi: | LM4: =LM22+LM36 -> 0 | LT4: Tổng diện tích đất thu hồi: | LX4: =LX22+LX36 -> 0 | ME4: Tổng diện tích đất thu hồi: | MI4: =MI22+MI36 -> 0 | MP4: Tổng diện tích đất thu hồi: | MT4: =MT22+MT36 -> 0 | NA4: Tổng diện tích đất thu hồi: | NE4: =NE22+NE36 -> 0 | NL4: Tổng diện tích đất thu hồi: | NP4: =NP22+NP36 -> 0 | NW4: Tổng diện tích đất thu hồi: | OA4: =OA22+OA36 -> 0 | OH4: Tổng diện tích đất thu hồi: | OL4: =OL22+OL36 -> 0 | OS4: Tổng diện tích đất thu hồi: | OW4: =OW22+OW36 -> 0 | PD4: Tổng diện tích đất thu hồi: | PH4: =PH22+PH36 -> 0 | PO4: Tổng diện tích đất thu hồi: | PS4: =PS22+PS36 -> 0 | PZ4: Tổng diện tích đất thu hồi: | QD4: =QD22+QD36 -> 0 | QK4: Tổng diện tích đất thu hồi: | QO4: =QO22+QO36 -> 0 | QV4: Tổng diện tích đất thu hồi: | QZ4: =QZ22+QZ36 -> 0 | RG4: Tổng diện tích đất thu hồi: | RK4: =RK22+RK36 -> 0 | RR4: Tổng diện tích đất thu hồi: | RV4: =RV22+RV36 -> 0 | SC4: Tổng diện tích đất thu hồi: | SG4: =SG22+SG36 -> 0 | SN4: Tổng diện tích đất thu hồi: | SR4: =SR22+SR36 -> 0 | SY4: Tổng diện tích đất thu hồi: | TC4: =TC22+TC36 -> 0 | TJ4: Tổng diện tích đất thu hồi: | TN4: =TN22+TN36 -> 0 | TU4: Tổng diện tích đất thu hồi: | TY4: =TY22+TY36 -> 0 | UF4: Tổng diện tích đất thu hồi: | UJ4: =UJ22+UJ36 -> 0 | UQ4: Tổng diện tích đất thu hồi: | UU4: =UU22+UU36 -> 0 | VB4: Tổng diện tích đất thu hồi: | VF4: =VF22+VF36 -> 0 | VM4: Tổng diện tích đất thu hồi: | VQ4: =VQ22+VQ36 -> 0 | VX4: Tổng diện tích đất thu hồi: | WB4: =WB22+WB36 -> 0 | WI4: Tổng diện tích đất thu hồi: | WM4: =WM22+WM36 -> 0 | WT4: Tổng diện tích đất thu hồi: | WX4: =WX22+WX36 -> 0 | XE4: Tổng diện tích đất thu hồi: | XI4: =XI22+XI36 -> 0 | XP4: Tổng diện tích đất thu hồi: | XT4: =XT22+XT36 -> 0 | YA4: Tổng diện tích đất thu hồi: | YE4: =YE22+YE36 -> 0 | YL4: Tổng diện tích đất thu hồi: | YP4: =YP22+YP36 -> 0 | YW4: Tổng diện tích đất thu hồi: | ZA4: =ZA22+ZA36 -> 0 | ZH4: Tổng diện tích đất thu hồi: | ZL4: =ZL22+ZL36 -> 0 | ZS4: Tổng diện tích đất thu hồi: | ZW4: =ZW22+ZW36 -> 0 | AAD4: Tổng diện tích đất thu hồi: | AAH4: =AAH22+AAH36 -> 0 | AAO4: Tổng diện tích đất thu hồi: | AAS4: =AAS22+AAS36 -> 0 | AAZ4: Tổng diện tích đất thu hồi: | ABD4: =ABD22+ABD36 -> 0 | ABK4: Tổng diện tích đất thu hồi: | ABO4: =ABO22+ABO36 -> 0 | ABV4: Tổng diện tích đất thu hồi: | ABZ4: =ABZ22+ABZ36 -> 0 | ACG4: Tổng diện tích đất thu hồi: | ACK4: =ACK22+ACK36 -> 0 | ACR4: Tổng diện tích đất thu hồi: | ACV4: =ACV22+ACV36 -> 0 | ADC4: Tổng diện tích đất thu hồi: | ADG4: =ADG22+ADG36 -> 0 | ADN4: Tổng diện tích đất thu hồi: | ADR4: =ADR22+ADR36 -> 0 | ADY4: Tổng diện tích đất thu hồi: | AEC4: =AEC22+AEC36 -> 0 | AEJ4: Tổng diện tích đất thu hồi: | AEN4: =AEN22+AEN36 -> 0 | AEU4: Tổng diện tích đất thu hồi: | AEY4: =AEY22+AEY36 -> 0 | AFF4: Tổng diện tích đất thu hồi: | AFJ4: =AFJ22+AFJ36 -> 0 | AFQ4: Tổng diện tích đất thu hồi: | AFU4: =AFU22+AFU36 -> 0 | AGB4: Tổng diện tích đất thu hồi: | AGF4: =AGF22+AGF36 -> 0 | AGM4: Tổng diện tích đất thu hồi: | AGQ4: =AGQ22+AGQ36 -> 0 | AGX4: Tổng diện tích đất thu hồi: | AHB4: =AHB22+AHB36 -> 0 | AHI4: Tổng diện tích đất thu hồi: | AHM4: =AHM22+AHM36 -> 0 | AHT4: Tổng diện tích đất thu hồi: | AHX4: =AHX22+AHX36 -> 0 | AIE4: Tổng diện tích đất thu hồi: | AII4: =AII22+AII36 -> 0 | AIP4: Tổng diện tích đất thu hồi: | AIT4: =AIT22+AIT36 -> 0 | AJA4: Tổng diện tích đất thu hồi: | AJE4: =AJE22+AJE36 -> 0 | AJL4: Tổng diện tích đất thu hồi: | AJP4: =AJP22+AJP36 -> 0 | AJW4: Tổng diện tích đất thu hồi: | AKA4: =AKA22+AKA36 -> 0 | AKH4: Tổng diện tích đất thu hồi: | AKL4: =AKL22+AKL36 -> 0 | AKS4: Tổng diện tích đất thu hồi: | AKW4: =AKW22+AKW36 -> 0 | ALD4: Tổng diện tích đất thu hồi: | ALH4: =ALH22+ALH36 -> 0 | ALO4: Tổng diện tích đất thu hồi: | ALS4: =ALS22+ALS36 -> 0 | ALZ4: Tổng diện tích đất thu hồi: | AMD4: =AMD22+AMD36 -> 0 | AMK4: Tổng diện tích đất thu hồi: | AMO4: =AMO22+AMO36 -> 0 | AMV4: Tổng diện tích đất thu hồi: | AMZ4: =AMZ22+AMZ36 -> 0 | ANG4: Tổng diện tích đất thu hồi: | ANK4: =ANK22+ANK36 -> 0 | ANR4: Tổng diện tích đất thu hồi: | ANV4: =ANV22+ANV36 -> 0 | AOC4: Tổng diện tích đất thu hồi: | AOG4: =AOG22+AOG36 -> 0 | AON4: Tổng diện tích đất thu hồi: | AOR4: =AOR22+AOR36 -> 0 | AOY4: Tổng diện tích đất thu hồi: | APC4: =APC22+APC36 -> 0 | APJ4: Tổng diện tích đất thu hồi: | APN4: =APN22+APN36 -> 0 | APU4: Tổng diện tích đất thu hồi: | APY4: =APY22+APY36 -> 0 | AQF4: Tổng diện tích đất thu hồi: | AQJ4: =AQJ22+AQJ36 -> 0 | AQQ4: Tổng diện tích đất thu hồi: | AQU4: =AQU22+AQU36 -> 0 | ARB4: Tổng diện tích đất thu hồi: | ARF4: =ARF22+ARF36 -> 0 | ARM4: Tổng diện tích đất thu hồi: | ARQ4: =ARQ22+ARQ36 -> 0 | ARX4: Tổng diện tích đất thu hồi: | ASB4: =ASB22+ASB36 -> 0 | ASI4: Tổng diện tích đất thu hồi: | ASM4: =ASM22+ASM36 -> 0 | AST4: Tổng diện tích đất thu hồi: | ASX4: =ASX22+ASX36 -> 0 | ATE4: Tổng diện tích đất thu hồi: | ATI4: =ATI22+ATI36 -> 0 | ATP4: Tổng diện tích đất thu hồi: | ATT4: =ATT22+ATT36 -> 0 | AUA4: Tổng diện tích đất thu hồi: | AUE4: =AUE22+AUE36 -> 0 | AUL4: Tổng diện tích đất thu hồi: | AUP4: =AUP22+AUP36 -> 0 | AUW4: Tổng diện tích đất thu hồi: | AVA4: =AVA22+AVA36 -> 0 | AVH4: Tổng diện tích đất thu hồi: | AVL4: =AVL22+AVL36 -> 0 | AVS4: Tổng diện tích đất thu hồi: | AVW4: =AVW22+AVW36 -> 0
B5: Tổng tiền bồi thường về đất: | F5: =F29+F43 -> 59380000 | M5: Tổng tiền bồi thường về đất: | Q5: =Q29+Q43 -> 60090000 | X5: Tổng tiền bồi thường về đất: | AB5: =AB29+AB43 -> 65420000 | AI5: Tổng tiền bồi thường về đất: | AM5: =AM29+AM43 -> 21700000 | AT5: Tổng tiền bồi thường về đất: | AX5: =AX29+AX43 -> 13850000 | BE5: Tổng tiền bồi thường về đất: | BI5: =BI29+BI43 -> 54700000 | BP5: Tổng tiền bồi thường về đất: | BT5: =BT29+BT43 -> 45200000 | CA5: Tổng tiền bồi thường về đất: | CE5: =CE29+CE43 -> 27400000 | CL5: Tổng tiền bồi thường về đất: | CP5: =CP29+CP43 -> 19400000 | CW5: Tổng tiền bồi thường về đất: | DA5: =DA29+DA43 -> 550000 | DH5: Tổng tiền bồi thường về đất: | DL5: =DL29+DL43 -> 0 | DS5: Tổng tiền bồi thường về đất: | DW5: =DW29+DW43 -> 0 | ED5: Tổng tiền bồi thường về đất: | EH5: =EH29+EH43 -> 0 | EO5: Tổng tiền bồi thường về đất: | ES5: =ES29+ES43 -> 0 | EZ5: Tổng tiền bồi thường về đất: | FD5: =FD29+FD43 -> 0 | FK5: Tổng tiền bồi thường về đất: | FO5: =FO29+FO43 -> 0 | FV5: Tổng tiền bồi thường về đất: | FZ5: =FZ29+FZ43 -> 0 | GG5: Tổng tiền bồi thường về đất: | GK5: =GK29+GK43 -> 0 | GR5: Tổng tiền bồi thường về đất: | GV5: =GV29+GV43 -> 0 | HC5: Tổng tiền bồi thường về đất: | HG5: =HG29+HG43 -> 0 | HN5: Tổng tiền bồi thường về đất: | HR5: =HR29+HR43 -> 0 | HY5: Tổng tiền bồi thường về đất: | IC5: =IC29+IC43 -> 0 | IJ5: Tổng tiền bồi thường về đất: | IN5: =IN29+IN43 -> 0 | IU5: Tổng tiền bồi thường về đất: | IY5: =IY29+IY43 -> 0 | JF5: Tổng tiền bồi thường về đất: | JJ5: =JJ29+JJ43 -> 0 | JQ5: Tổng tiền bồi thường về đất: | JU5: =JU29+JU43 -> 0 | KB5: Tổng tiền bồi thường về đất: | KF5: =KF29+KF43 -> 0 | KM5: Tổng tiền bồi thường về đất: | KQ5: =KQ29+KQ43 -> 0 | KX5: Tổng tiền bồi thường về đất: | LB5: =LB29+LB43 -> 0 | LI5: Tổng tiền bồi thường về đất: | LM5: =LM29+LM43 -> 0 | LT5: Tổng tiền bồi thường về đất: | LX5: =LX29+LX43 -> 0 | ME5: Tổng tiền bồi thường về đất: | MI5: =MI29+MI43 -> 0 | MP5: Tổng tiền bồi thường về đất: | MT5: =MT29+MT43 -> 0 | NA5: Tổng tiền bồi thường về đất: | NE5: =NE29+NE43 -> 0 | NL5: Tổng tiền bồi thường về đất: | NP5: =NP29+NP43 -> 0 | NW5: Tổng tiền bồi thường về đất: | OA5: =OA29+OA43 -> 0 | OH5: Tổng tiền bồi thường về đất: | OL5: =OL29+OL43 -> 0 | OS5: Tổng tiền bồi thường về đất: | OW5: =OW29+OW43 -> 0 | PD5: Tổng tiền bồi thường về đất: | PH5: =PH29+PH43 -> 0 | PO5: Tổng tiền bồi thường về đất: | PS5: =PS29+PS43 -> 0 | PZ5: Tổng tiền bồi thường về đất: | QD5: =QD29+QD43 -> 0 | QK5: Tổng tiền bồi thường về đất: | QO5: =QO29+QO43 -> 0 | QV5: Tổng tiền bồi thường về đất: | QZ5: =QZ29+QZ43 -> 0 | RG5: Tổng tiền bồi thường về đất: | RK5: =RK29+RK43 -> 0 | RR5: Tổng tiền bồi thường về đất: | RV5: =RV29+RV43 -> 0 | SC5: Tổng tiền bồi thường về đất: | SG5: =SG29+SG43 -> 0 | SN5: Tổng tiền bồi thường về đất: | SR5: =SR29+SR43 -> 0 | SY5: Tổng tiền bồi thường về đất: | TC5: =TC29+TC43 -> 0 | TJ5: Tổng tiền bồi thường về đất: | TN5: =TN29+TN43 -> 0 | TU5: Tổng tiền bồi thường về đất: | TY5: =TY29+TY43 -> 0 | UF5: Tổng tiền bồi thường về đất: | UJ5: =UJ29+UJ43 -> 0 | UQ5: Tổng tiền bồi thường về đất: | UU5: =UU29+UU43 -> 0 | VB5: Tổng tiền bồi thường về đất: | VF5: =VF29+VF43 -> 0 | VM5: Tổng tiền bồi thường về đất: | VQ5: =VQ29+VQ43 -> 0 | VX5: Tổng tiền bồi thường về đất: | WB5: =WB29+WB43 -> 0 | WI5: Tổng tiền bồi thường về đất: | WM5: =WM29+WM43 -> 0 | WT5: Tổng tiền bồi thường về đất: | WX5: =WX29+WX43 -> 0 | XE5: Tổng tiền bồi thường về đất: | XI5: =XI29+XI43 -> 0 | XP5: Tổng tiền bồi thường về đất: | XT5: =XT29+XT43 -> 0 | YA5: Tổng tiền bồi thường về đất: | YE5: =YE29+YE43 -> 0 | YL5: Tổng tiền bồi thường về đất: | YP5: =YP29+YP43 -> 0 | YW5: Tổng tiền bồi thường về đất: | ZA5: =ZA29+ZA43 -> 0 | ZH5: Tổng tiền bồi thường về đất: | ZL5: =ZL29+ZL43 -> 0 | ZS5: Tổng tiền bồi thường về đất: | ZW5: =ZW29+ZW43 -> 0 | AAD5: Tổng tiền bồi thường về đất: | AAH5: =AAH29+AAH43 -> 0 | AAO5: Tổng tiền bồi thường về đất: | AAS5: =AAS29+AAS43 -> 0 | AAZ5: Tổng tiền bồi thường về đất: | ABD5: =ABD29+ABD43 -> 0 | ABK5: Tổng tiền bồi thường về đất: | ABO5: =ABO29+ABO43 -> 0 | ABV5: Tổng tiền bồi thường về đất: | ABZ5: =ABZ29+ABZ43 -> 0 | ACG5: Tổng tiền bồi thường về đất: | ACK5: =ACK29+ACK43 -> 0 | ACR5: Tổng tiền bồi thường về đất: | ACV5: =ACV29+ACV43 -> 0 | ADC5: Tổng tiền bồi thường về đất: | ADG5: =ADG29+ADG43 -> 0 | ADN5: Tổng tiền bồi thường về đất: | ADR5: =ADR29+ADR43 -> 0 | ADY5: Tổng tiền bồi thường về đất: | AEC5: =AEC29+AEC43 -> 0 | AEJ5: Tổng tiền bồi thường về đất: | AEN5: =AEN29+AEN43 -> 0 | AEU5: Tổng tiền bồi thường về đất: | AEY5: =AEY29+AEY43 -> 0 | AFF5: Tổng tiền bồi thường về đất: | AFJ5: =AFJ29+AFJ43 -> 0 | AFQ5: Tổng tiền bồi thường về đất: | AFU5: =AFU29+AFU43 -> 0 | AGB5: Tổng tiền bồi thường về đất: | AGF5: =AGF29+AGF43 -> 0 | AGM5: Tổng tiền bồi thường về đất: | AGQ5: =AGQ29+AGQ43 -> 0 | AGX5: Tổng tiền bồi thường về đất: | AHB5: =AHB29+AHB43 -> 0 | AHI5: Tổng tiền bồi thường về đất: | AHM5: =AHM29+AHM43 -> 0 | AHT5: Tổng tiền bồi thường về đất: | AHX5: =AHX29+AHX43 -> 0 | AIE5: Tổng tiền bồi thường về đất: | AII5: =AII29+AII43 -> 0 | AIP5: Tổng tiền bồi thường về đất: | AIT5: =AIT29+AIT43 -> 0 | AJA5: Tổng tiền bồi thường về đất: | AJE5: =AJE29+AJE43 -> 0 | AJL5: Tổng tiền bồi thường về đất: | AJP5: =AJP29+AJP43 -> 0 | AJW5: Tổng tiền bồi thường về đất: | AKA5: =AKA29+AKA43 -> 0 | AKH5: Tổng tiền bồi thường về đất: | AKL5: =AKL29+AKL43 -> 0 | AKS5: Tổng tiền bồi thường về đất: | AKW5: =AKW29+AKW43 -> 0 | ALD5: Tổng tiền bồi thường về đất: | ALH5: =ALH29+ALH43 -> 0 | ALO5: Tổng tiền bồi thường về đất: | ALS5: =ALS29+ALS43 -> 0 | ALZ5: Tổng tiền bồi thường về đất: | AMD5: =AMD29+AMD43 -> 0 | AMK5: Tổng tiền bồi thường về đất: | AMO5: =AMO29+AMO43 -> 0 | AMV5: Tổng tiền bồi thường về đất: | AMZ5: =AMZ29+AMZ43 -> 0 | ANG5: Tổng tiền bồi thường về đất: | ANK5: =ANK29+ANK43 -> 0 | ANR5: Tổng tiền bồi thường về đất: | ANV5: =ANV29+ANV43 -> 0 | AOC5: Tổng tiền bồi thường về đất: | AOG5: =AOG29+AOG43 -> 0 | AON5: Tổng tiền bồi thường về đất: | AOR5: =AOR29+AOR43 -> 0 | AOY5: Tổng tiền bồi thường về đất: | APC5: =APC29+APC43 -> 0 | APJ5: Tổng tiền bồi thường về đất: | APN5: =APN29+APN43 -> 0 | APU5: Tổng tiền bồi thường về đất: | APY5: =APY29+APY43 -> 0 | AQF5: Tổng tiền bồi thường về đất: | AQJ5: =AQJ29+AQJ43 -> 0 | AQQ5: Tổng tiền bồi thường về đất: | AQU5: =AQU29+AQU43 -> 0 | ARB5: Tổng tiền bồi thường về đất: | ARF5: =ARF29+ARF43 -> 0 | ARM5: Tổng tiền bồi thường về đất: | ARQ5: =ARQ29+ARQ43 -> 0 | ARX5: Tổng tiền bồi thường về đất: | ASB5: =ASB29+ASB43 -> 0 | ASI5: Tổng tiền bồi thường về đất: | ASM5: =ASM29+ASM43 -> 0 | AST5: Tổng tiền bồi thường về đất: | ASX5: =ASX29+ASX43 -> 0 | ATE5: Tổng tiền bồi thường về đất: | ATI5: =ATI29+ATI43 -> 0 | ATP5: Tổng tiền bồi thường về đất: | ATT5: =ATT29+ATT43 -> 0 | AUA5: Tổng tiền bồi thường về đất: | AUE5: =AUE29+AUE43 -> 0 | AUL5: Tổng tiền bồi thường về đất: | AUP5: =AUP29+AUP43 -> 0 | AUW5: Tổng tiền bồi thường về đất: | AVA5: =AVA29+AVA43 -> 0 | AVH5: Tổng tiền bồi thường về đất: | AVL5: =AVL29+AVL43 -> 0 | AVS5: Tổng tiền bồi thường về đất: | AVW5: =AVW29+AVW43 -> 0
B6: Các khoản hỗ trợ: | F6: =SUM(F7:F9) -> 3.41714e+08 | M6: Các khoản hỗ trợ: | Q6: =SUM(Q7:Q9) -> 343677000 | X6: Các khoản hỗ trợ: | AB6: =SUM(AB7:AB9) -> 3.64726e+08 | AI6: Các khoản hỗ trợ: | AM6: =SUM(AM7:AM9) -> 125810000 | AT6: Các khoản hỗ trợ: | AX6: =SUM(AX7:AX9) -> 89605000 | BE6: Các khoản hỗ trợ: | BI6: =SUM(BI7:BI9) -> 318710000 | BP6: Các khoản hỗ trợ: | BT6: =SUM(BT7:BT9) -> 252160000 | CA6: Các khoản hỗ trợ: | CE6: =SUM(CE7:CE9) -> 159620000 | CL6: Các khoản hỗ trợ: | CP6: =SUM(CP7:CP9) -> 115420000 | CW6: Các khoản hỗ trợ: | DA6: =SUM(DA7:DA9) -> 15515000 | DH6: Các khoản hỗ trợ: | DL6: =SUM(DL7:DL9) -> 0 | DS6: Các khoản hỗ trợ: | DW6: =SUM(DW7:DW9) -> 0 | ED6: Các khoản hỗ trợ: | EH6: =SUM(EH7:EH9) -> 0 | EO6: Các khoản hỗ trợ: | ES6: =SUM(ES7:ES9) -> 0 | EZ6: Các khoản hỗ trợ: | FD6: =SUM(FD7:FD9) -> 0 | FK6: Các khoản hỗ trợ: | FO6: =SUM(FO7:FO9) -> 0 | FV6: Các khoản hỗ trợ: | FZ6: =SUM(FZ7:FZ9) -> 0 | GG6: Các khoản hỗ trợ: | GK6: =SUM(GK7:GK9) -> 0 | GR6: Các khoản hỗ trợ: | GV6: =SUM(GV7:GV9) -> 0 | HC6: Các khoản hỗ trợ: | HG6: =SUM(HG7:HG9) -> 0 | HN6: Các khoản hỗ trợ: | HR6: =SUM(HR7:HR9) -> 0 | HY6: Các khoản hỗ trợ: | IC6: =SUM(IC7:IC9) -> 0 | IJ6: Các khoản hỗ trợ: | IN6: =SUM(IN7:IN9) -> 0 | IU6: Các khoản hỗ trợ: | IY6: =SUM(IY7:IY9) -> 0 | JF6: Các khoản hỗ trợ: | JJ6: =SUM(JJ7:JJ9) -> 0 | JQ6: Các khoản hỗ trợ: | JU6: =SUM(JU7:JU9) -> 0 | KB6: Các khoản hỗ trợ: | KF6: =SUM(KF7:KF9) -> 0 | KM6: Các khoản hỗ trợ: | KQ6: =SUM(KQ7:KQ9) -> 0 | KX6: Các khoản hỗ trợ: | LB6: =SUM(LB7:LB9) -> 0 | LI6: Các khoản hỗ trợ: | LM6: =SUM(LM7:LM9) -> 0 | LT6: Các khoản hỗ trợ: | LX6: =SUM(LX7:LX9) -> 0 | ME6: Các khoản hỗ trợ: | MI6: =SUM(MI7:MI9) -> 0 | MP6: Các khoản hỗ trợ: | MT6: =SUM(MT7:MT9) -> 0 | NA6: Các khoản hỗ trợ: | NE6: =SUM(NE7:NE9) -> 0 | NL6: Các khoản hỗ trợ: | NP6: =SUM(NP7:NP9) -> 0 | NW6: Các khoản hỗ trợ: | OA6: =SUM(OA7:OA9) -> 0 | OH6: Các khoản hỗ trợ: | OL6: =SUM(OL7:OL9) -> 0 | OS6: Các khoản hỗ trợ: | OW6: =SUM(OW7:OW9) -> 0 | PD6: Các khoản hỗ trợ: | PH6: =SUM(PH7:PH9) -> 0 | PO6: Các khoản hỗ trợ: | PS6: =SUM(PS7:PS9) -> 0 | PZ6: Các khoản hỗ trợ: | QD6: =SUM(QD7:QD9) -> 0 | QK6: Các khoản hỗ trợ: | QO6: =SUM(QO7:QO9) -> 0 | QV6: Các khoản hỗ trợ: | QZ6: =SUM(QZ7:QZ9) -> 0 | RG6: Các khoản hỗ trợ: | RK6: =SUM(RK7:RK9) -> 0 | RR6: Các khoản hỗ trợ: | RV6: =SUM(RV7:RV9) -> 0 | SC6: Các khoản hỗ trợ: | SG6: =SUM(SG7:SG9) -> 0 | SN6: Các khoản hỗ trợ: | SR6: =SUM(SR7:SR9) -> 0 | SY6: Các khoản hỗ trợ: | TC6: =SUM(TC7:TC9) -> 0 | TJ6: Các khoản hỗ trợ: | TN6: =SUM(TN7:TN9) -> 0 | TU6: Các khoản hỗ trợ: | TY6: =SUM(TY7:TY9) -> 0 | UF6: Các khoản hỗ trợ: | UJ6: =SUM(UJ7:UJ9) -> 0 | UQ6: Các khoản hỗ trợ: | UU6: =SUM(UU7:UU9) -> 0 | VB6: Các khoản hỗ trợ: | VF6: =SUM(VF7:VF9) -> 0 | VM6: Các khoản hỗ trợ: | VQ6: =SUM(VQ7:VQ9) -> 0 | VX6: Các khoản hỗ trợ: | WB6: =SUM(WB7:WB9) -> 0 | WI6: Các khoản hỗ trợ: | WM6: =SUM(WM7:WM9) -> 0 | WT6: Các khoản hỗ trợ: | WX6: =SUM(WX7:WX9) -> 0 | XE6: Các khoản hỗ trợ: | XI6: =SUM(XI7:XI9) -> 0 | XP6: Các khoản hỗ trợ: | XT6: =SUM(XT7:XT9) -> 0 | YA6: Các khoản hỗ trợ: | YE6: =SUM(YE7:YE9) -> 0 | YL6: Các khoản hỗ trợ: | YP6: =SUM(YP7:YP9) -> 0 | YW6: Các khoản hỗ trợ: | ZA6: =SUM(ZA7:ZA9) -> 0 | ZH6: Các khoản hỗ trợ: | ZL6: =SUM(ZL7:ZL9) -> 0 | ZS6: Các khoản hỗ trợ: | ZW6: =SUM(ZW7:ZW9) -> 0 | AAD6: Các khoản hỗ trợ: | AAH6: =SUM(AAH7:AAH9) -> 0 | AAO6: Các khoản hỗ trợ: | AAS6: =SUM(AAS7:AAS9) -> 0 | AAZ6: Các khoản hỗ trợ: | ABD6: =SUM(ABD7:ABD9) -> 0 | ABK6: Các khoản hỗ trợ: | ABO6: =SUM(ABO7:ABO9) -> 0 | ABV6: Các khoản hỗ trợ: | ABZ6: =SUM(ABZ7:ABZ9) -> 0 | ACG6: Các khoản hỗ trợ: | ACK6: =SUM(ACK7:ACK9) -> 0 | ACR6: Các khoản hỗ trợ: | ACV6: =SUM(ACV7:ACV9) -> 0 | ADC6: Các khoản hỗ trợ: | ADG6: =SUM(ADG7:ADG9) -> 0 | ADN6: Các khoản hỗ trợ: | ADR6: =SUM(ADR7:ADR9) -> 0 | ADY6: Các khoản hỗ trợ: | AEC6: =SUM(AEC7:AEC9) -> 0 | AEJ6: Các khoản hỗ trợ: | AEN6: =SUM(AEN7:AEN9) -> 0 | AEU6: Các khoản hỗ trợ: | AEY6: =SUM(AEY7:AEY9) -> 0 | AFF6: Các khoản hỗ trợ: | AFJ6: =SUM(AFJ7:AFJ9) -> 0 | AFQ6: Các khoản hỗ trợ: | AFU6: =SUM(AFU7:AFU9) -> 0 | AGB6: Các khoản hỗ trợ: | AGF6: =SUM(AGF7:AGF9) -> 0 | AGM6: Các khoản hỗ trợ: | AGQ6: =SUM(AGQ7:AGQ9) -> 0 | AGX6: Các khoản hỗ trợ: | AHB6: =SUM(AHB7:AHB9) -> 0 | AHI6: Các khoản hỗ trợ: | AHM6: =SUM(AHM7:AHM9) -> 0 | AHT6: Các khoản hỗ trợ: | AHX6: =SUM(AHX7:AHX9) -> 0 | AIE6: Các khoản hỗ trợ: | AII6: =SUM(AII7:AII9) -> 0 | AIP6: Các khoản hỗ trợ: | AIT6: =SUM(AIT7:AIT9) -> 0 | AJA6: Các khoản hỗ trợ: | AJE6: =SUM(AJE7:AJE9) -> 0 | AJL6: Các khoản hỗ trợ: | AJP6: =SUM(AJP7:AJP9) -> 0 | AJW6: Các khoản hỗ trợ: | AKA6: =SUM(AKA7:AKA9) -> 0 | AKH6: Các khoản hỗ trợ: | AKL6: =SUM(AKL7:AKL9) -> 0 | AKS6: Các khoản hỗ trợ: | AKW6: =SUM(AKW7:AKW9) -> 0 | ALD6: Các khoản hỗ trợ: | ALH6: =SUM(ALH7:ALH9) -> 0 | ALO6: Các khoản hỗ trợ: | ALS6: =SUM(ALS7:ALS9) -> 0 | ALZ6: Các khoản hỗ trợ: | AMD6: =SUM(AMD7:AMD9) -> 0 | AMK6: Các khoản hỗ trợ: | AMO6: =SUM(AMO7:AMO9) -> 0 | AMV6: Các khoản hỗ trợ: | AMZ6: =SUM(AMZ7:AMZ9) -> 0 | ANG6: Các khoản hỗ trợ: | ANK6: =SUM(ANK7:ANK9) -> 0 | ANR6: Các khoản hỗ trợ: | ANV6: =SUM(ANV7:ANV9) -> 0 | AOC6: Các khoản hỗ trợ: | AOG6: =SUM(AOG7:AOG9) -> 0 | AON6: Các khoản hỗ trợ: | AOR6: =SUM(AOR7:AOR9) -> 0 | AOY6: Các khoản hỗ trợ: | APC6: =SUM(APC7:APC9) -> 0 | APJ6: Các khoản hỗ trợ: | APN6: =SUM(APN7:APN9) -> 0 | APU6: Các khoản hỗ trợ: | APY6: =SUM(APY7:APY9) -> 0 | AQF6: Các khoản hỗ trợ: | AQJ6: =SUM(AQJ7:AQJ9) -> 0 | AQQ6: Các khoản hỗ trợ: | AQU6: =SUM(AQU7:AQU9) -> 0 | ARB6: Các khoản hỗ trợ: | ARF6: =SUM(ARF7:ARF9) -> 0 | ARM6: Các khoản hỗ trợ: | ARQ6: =SUM(ARQ7:ARQ9) -> 0 | ARX6: Các khoản hỗ trợ: | ASB6: =SUM(ASB7:ASB9) -> 0 | ASI6: Các khoản hỗ trợ: | ASM6: =SUM(ASM7:ASM9) -> 0 | AST6: Các khoản hỗ trợ: | ASX6: =SUM(ASX7:ASX9) -> 0 | ATE6: Các khoản hỗ trợ: | ATI6: =SUM(ATI7:ATI9) -> 0 | ATP6: Các khoản hỗ trợ: | ATT6: =SUM(ATT7:ATT9) -> 0 | AUA6: Các khoản hỗ trợ: | AUE6: =SUM(AUE7:AUE9) -> 0 | AUL6: Các khoản hỗ trợ: | AUP6: =SUM(AUP7:AUP9) -> 0 | AUW6: Các khoản hỗ trợ: | AVA6: =SUM(AVA7:AVA9) -> 0 | AVH6: Các khoản hỗ trợ: | AVL6: =SUM(AVL7:AVL9) -> 0 | AVS6: Các khoản hỗ trợ: | AVW6: =SUM(AVW7:AVW9) -> 0
B7: - Hỗ trợ đào tạo nghề và tìm việc làm: | F7: =IFERROR(Giadatvaheso!$J$4*(F17*Giadatvaheso!$C$7+F31*Giadatvaheso!$C$8),"") -> 2.969e+08 | M7: - Hỗ trợ đào tạo nghề và tìm việc làm: | Q7: =IFERROR(Giadatvaheso!$J$4*(Q17*Giadatvaheso!$C$7+Q31*Giadatvaheso!$C$8),"") -> 300450000 | X7: - Hỗ trợ đào tạo nghề và tìm việc làm: | AB7: =IFERROR(Giadatvaheso!$J$4*(AB17*Giadatvaheso!$C$7+AB31*Giadatvaheso!$C$8),"") -> 3.271e+08 | AI7: - Hỗ trợ đào tạo nghề và tìm việc làm: | AM7: =IFERROR(Giadatvaheso!$J$4*(AM17*Giadatvaheso!$C$7+AM31*Giadatvaheso!$C$8),"") -> 108500000 | AT7: - Hỗ trợ đào tạo nghề và tìm việc làm: | AX7: =IFERROR(Giadatvaheso!$J$4*(AX17*Giadatvaheso!$C$7+AX31*Giadatvaheso!$C$8),"") -> 69250000 | BE7: - Hỗ trợ đào tạo nghề và tìm việc làm: | BI7: =IFERROR(Giadatvaheso!$J$4*(BI17*Giadatvaheso!$C$7+BI31*Giadatvaheso!$C$8),"") -> 273500000 | BP7: - Hỗ trợ đào tạo nghề và tìm việc làm: | BT7: =IFERROR(Giadatvaheso!$J$4*(BT17*Giadatvaheso!$C$7+BT31*Giadatvaheso!$C$8),"") -> 226000000 | CA7: - Hỗ trợ đào tạo nghề và tìm việc làm: | CE7: =IFERROR(Giadatvaheso!$J$4*(CE17*Giadatvaheso!$C$7+CE31*Giadatvaheso!$C$8),"") -> 137000000 | CL7: - Hỗ trợ đào tạo nghề và tìm việc làm: | CP7: =IFERROR(Giadatvaheso!$J$4*(CP17*Giadatvaheso!$C$7+CP31*Giadatvaheso!$C$8),"") -> 97000000 | CW7: - Hỗ trợ đào tạo nghề và tìm việc làm: | DA7: =IFERROR(Giadatvaheso!$J$4*(DA17*Giadatvaheso!$C$7+DA31*Giadatvaheso!$C$8),"") -> 2750000 | DH7: - Hỗ trợ đào tạo nghề và tìm việc làm: | DL7: =IFERROR(Giadatvaheso!$J$4*(DL17*Giadatvaheso!$C$7+DL31*Giadatvaheso!$C$8),"") -> 0 | DS7: - Hỗ trợ đào tạo nghề và tìm việc làm: | DW7: =IFERROR(Giadatvaheso!$J$4*(DW17*Giadatvaheso!$C$7+DW31*Giadatvaheso!$C$8),"") -> 0 | ED7: - Hỗ trợ đào tạo nghề và tìm việc làm: | EH7: =IFERROR(Giadatvaheso!$J$4*(EH17*Giadatvaheso!$C$7+EH31*Giadatvaheso!$C$8),"") -> 0 | EO7: - Hỗ trợ đào tạo nghề và tìm việc làm: | ES7: =IFERROR(Giadatvaheso!$J$4*(ES17*Giadatvaheso!$C$7+ES31*Giadatvaheso!$C$8),"") -> 0 | EZ7: - Hỗ trợ đào tạo nghề và tìm việc làm: | FD7: =IFERROR(Giadatvaheso!$J$4*(FD17*Giadatvaheso!$C$7+FD31*Giadatvaheso!$C$8),"") -> 0 | FK7: - Hỗ trợ đào tạo nghề và tìm việc làm: | FO7: =IFERROR(Giadatvaheso!$J$4*(FO17*Giadatvaheso!$C$7+FO31*Giadatvaheso!$C$8),"") -> 0 | FV7: - Hỗ trợ đào tạo nghề và tìm việc làm: | FZ7: =IFERROR(Giadatvaheso!$J$4*(FZ17*Giadatvaheso!$C$7+FZ31*Giadatvaheso!$C$8),"") -> 0 | GG7: - Hỗ trợ đào tạo nghề và tìm việc làm: | GK7: =IFERROR(Giadatvaheso!$J$4*(GK17*Giadatvaheso!$C$7+GK31*Giadatvaheso!$C$8),"") -> 0 | GR7: - Hỗ trợ đào tạo nghề và tìm việc làm: | GV7: =IFERROR(Giadatvaheso!$J$4*(GV17*Giadatvaheso!$C$7+GV31*Giadatvaheso!$C$8),"") -> 0 | HC7: - Hỗ trợ đào tạo nghề và tìm việc làm: | HG7: =IFERROR(Giadatvaheso!$J$4*(HG17*Giadatvaheso!$C$7+HG31*Giadatvaheso!$C$8),"") -> 0 | HN7: - Hỗ trợ đào tạo nghề và tìm việc làm: | HR7: =IFERROR(Giadatvaheso!$J$4*(HR17*Giadatvaheso!$C$7+HR31*Giadatvaheso!$C$8),"") -> 0 | HY7: - Hỗ trợ đào tạo nghề và tìm việc làm: | IC7: =IFERROR(Giadatvaheso!$J$4*(IC17*Giadatvaheso!$C$7+IC31*Giadatvaheso!$C$8),"") -> 0 | IJ7: - Hỗ trợ đào tạo nghề và tìm việc làm: | IN7: =IFERROR(Giadatvaheso!$J$4*(IN17*Giadatvaheso!$C$7+IN31*Giadatvaheso!$C$8),"") -> 0 | IU7: - Hỗ trợ đào tạo nghề và tìm việc làm: | IY7: =IFERROR(Giadatvaheso!$J$4*(IY17*Giadatvaheso!$C$7+IY31*Giadatvaheso!$C$8),"") -> 0 | JF7: - Hỗ trợ đào tạo nghề và tìm việc làm: | JJ7: =IFERROR(Giadatvaheso!$J$4*(JJ17*Giadatvaheso!$C$7+JJ31*Giadatvaheso!$C$8),"") -> 0 | JQ7: - Hỗ trợ đào tạo nghề và tìm việc làm: | JU7: =IFERROR(Giadatvaheso!$J$4*(JU17*Giadatvaheso!$C$7+JU31*Giadatvaheso!$C$8),"") -> 0 | KB7: - Hỗ trợ đào tạo nghề và tìm việc làm: | KF7: =IFERROR(Giadatvaheso!$J$4*(KF17*Giadatvaheso!$C$7+KF31*Giadatvaheso!$C$8),"") -> 0 | KM7: - Hỗ trợ đào tạo nghề và tìm việc làm: | KQ7: =IFERROR(Giadatvaheso!$J$4*(KQ17*Giadatvaheso!$C$7+KQ31*Giadatvaheso!$C$8),"") -> 0 | KX7: - Hỗ trợ đào tạo nghề và tìm việc làm: | LB7: =IFERROR(Giadatvaheso!$J$4*(LB17*Giadatvaheso!$C$7+LB31*Giadatvaheso!$C$8),"") -> 0 | LI7: - Hỗ trợ đào tạo nghề và tìm việc làm: | LM7: =IFERROR(Giadatvaheso!$J$4*(LM17*Giadatvaheso!$C$7+LM31*Giadatvaheso!$C$8),"") -> 0 | LT7: - Hỗ trợ đào tạo nghề và tìm việc làm: | LX7: =IFERROR(Giadatvaheso!$J$4*(LX17*Giadatvaheso!$C$7+LX31*Giadatvaheso!$C$8),"") -> 0 | ME7: - Hỗ trợ đào tạo nghề và tìm việc làm: | MI7: =IFERROR(Giadatvaheso!$J$4*(MI17*Giadatvaheso!$C$7+MI31*Giadatvaheso!$C$8),"") -> 0 | MP7: - Hỗ trợ đào tạo nghề và tìm việc làm: | MT7: =IFERROR(Giadatvaheso!$J$4*(MT17*Giadatvaheso!$C$7+MT31*Giadatvaheso!$C$8),"") -> 0 | NA7: - Hỗ trợ đào tạo nghề và tìm việc làm: | NE7: =IFERROR(Giadatvaheso!$J$4*(NE17*Giadatvaheso!$C$7+NE31*Giadatvaheso!$C$8),"") -> 0 | NL7: - Hỗ trợ đào tạo nghề và tìm việc làm: | NP7: =IFERROR(Giadatvaheso!$J$4*(NP17*Giadatvaheso!$C$7+NP31*Giadatvaheso!$C$8),"") -> 0 | NW7: - Hỗ trợ đào tạo nghề và tìm việc làm: | OA7: =IFERROR(Giadatvaheso!$J$4*(OA17*Giadatvaheso!$C$7+OA31*Giadatvaheso!$C$8),"") -> 0 | OH7: - Hỗ trợ đào tạo nghề và tìm việc làm: | OL7: =IFERROR(Giadatvaheso!$J$4*(OL17*Giadatvaheso!$C$7+OL31*Giadatvaheso!$C$8),"") -> 0 | OS7: - Hỗ trợ đào tạo nghề và tìm việc làm: | OW7: =IFERROR(Giadatvaheso!$J$4*(OW17*Giadatvaheso!$C$7+OW31*Giadatvaheso!$C$8),"") -> 0 | PD7: - Hỗ trợ đào tạo nghề và tìm việc làm: | PH7: =IFERROR(Giadatvaheso!$J$4*(PH17*Giadatvaheso!$C$7+PH31*Giadatvaheso!$C$8),"") -> 0 | PO7: - Hỗ trợ đào tạo nghề và tìm việc làm: | PS7: =IFERROR(Giadatvaheso!$J$4*(PS17*Giadatvaheso!$C$7+PS31*Giadatvaheso!$C$8),"") -> 0 | PZ7: - Hỗ trợ đào tạo nghề và tìm việc làm: | QD7: =IFERROR(Giadatvaheso!$J$4*(QD17*Giadatvaheso!$C$7+QD31*Giadatvaheso!$C$8),"") -> 0 | QK7: - Hỗ trợ đào tạo nghề và tìm việc làm: | QO7: =IFERROR(Giadatvaheso!$J$4*(QO17*Giadatvaheso!$C$7+QO31*Giadatvaheso!$C$8),"") -> 0 | QV7: - Hỗ trợ đào tạo nghề và tìm việc làm: | QZ7: =IFERROR(Giadatvaheso!$J$4*(QZ17*Giadatvaheso!$C$7+QZ31*Giadatvaheso!$C$8),"") -> 0 | RG7: - Hỗ trợ đào tạo nghề và tìm việc làm: | RK7: =IFERROR(Giadatvaheso!$J$4*(RK17*Giadatvaheso!$C$7+RK31*Giadatvaheso!$C$8),"") -> 0 | RR7: - Hỗ trợ đào tạo nghề và tìm việc làm: | RV7: =IFERROR(Giadatvaheso!$J$4*(RV17*Giadatvaheso!$C$7+RV31*Giadatvaheso!$C$8),"") -> 0 | SC7: - Hỗ trợ đào tạo nghề và tìm việc làm: | SG7: =IFERROR(Giadatvaheso!$J$4*(SG17*Giadatvaheso!$C$7+SG31*Giadatvaheso!$C$8),"") -> 0 | SN7: - Hỗ trợ đào tạo nghề và tìm việc làm: | SR7: =IFERROR(Giadatvaheso!$J$4*(SR17*Giadatvaheso!$C$7+SR31*Giadatvaheso!$C$8),"") -> 0 | SY7: - Hỗ trợ đào tạo nghề và tìm việc làm: | TC7: =IFERROR(Giadatvaheso!$J$4*(TC17*Giadatvaheso!$C$7+TC31*Giadatvaheso!$C$8),"") -> 0 | TJ7: - Hỗ trợ đào tạo nghề và tìm việc làm: | TN7: =IFERROR(Giadatvaheso!$J$4*(TN17*Giadatvaheso!$C$7+TN31*Giadatvaheso!$C$8),"") -> 0 | TU7: - Hỗ trợ đào tạo nghề và tìm việc làm: | TY7: =IFERROR(Giadatvaheso!$J$4*(TY17*Giadatvaheso!$C$7+TY31*Giadatvaheso!$C$8),"") -> 0 | UF7: - Hỗ trợ đào tạo nghề và tìm việc làm: | UJ7: =IFERROR(Giadatvaheso!$J$4*(UJ17*Giadatvaheso!$C$7+UJ31*Giadatvaheso!$C$8),"") -> 0 | UQ7: - Hỗ trợ đào tạo nghề và tìm việc làm: | UU7: =IFERROR(Giadatvaheso!$J$4*(UU17*Giadatvaheso!$C$7+UU31*Giadatvaheso!$C$8),"") -> 0 | VB7: - Hỗ trợ đào tạo nghề và tìm việc làm: | VF7: =IFERROR(Giadatvaheso!$J$4*(VF17*Giadatvaheso!$C$7+VF31*Giadatvaheso!$C$8),"") -> 0 | VM7: - Hỗ trợ đào tạo nghề và tìm việc làm: | VQ7: =IFERROR(Giadatvaheso!$J$4*(VQ17*Giadatvaheso!$C$7+VQ31*Giadatvaheso!$C$8),"") -> 0 | VX7: - Hỗ trợ đào tạo nghề và tìm việc làm: | WB7: =IFERROR(Giadatvaheso!$J$4*(WB17*Giadatvaheso!$C$7+WB31*Giadatvaheso!$C$8),"") -> 0 | WI7: - Hỗ trợ đào tạo nghề và tìm việc làm: | WM7: =IFERROR(Giadatvaheso!$J$4*(WM17*Giadatvaheso!$C$7+WM31*Giadatvaheso!$C$8),"") -> 0 | WT7: - Hỗ trợ đào tạo nghề và tìm việc làm: | WX7: =IFERROR(Giadatvaheso!$J$4*(WX17*Giadatvaheso!$C$7+WX31*Giadatvaheso!$C$8),"") -> 0 | XE7: - Hỗ trợ đào tạo nghề và tìm việc làm: | XI7: =IFERROR(Giadatvaheso!$J$4*(XI17*Giadatvaheso!$C$7+XI31*Giadatvaheso!$C$8),"") -> 0 | XP7: - Hỗ trợ đào tạo nghề và tìm việc làm: | XT7: =IFERROR(Giadatvaheso!$J$4*(XT17*Giadatvaheso!$C$7+XT31*Giadatvaheso!$C$8),"") -> 0 | YA7: - Hỗ trợ đào tạo nghề và tìm việc làm: | YE7: =IFERROR(Giadatvaheso!$J$4*(YE17*Giadatvaheso!$C$7+YE31*Giadatvaheso!$C$8),"") -> 0 | YL7: - Hỗ trợ đào tạo nghề và tìm việc làm: | YP7: =IFERROR(Giadatvaheso!$J$4*(YP17*Giadatvaheso!$C$7+YP31*Giadatvaheso!$C$8),"") -> 0 | YW7: - Hỗ trợ đào tạo nghề và tìm việc làm: | ZA7: =IFERROR(Giadatvaheso!$J$4*(ZA17*Giadatvaheso!$C$7+ZA31*Giadatvaheso!$C$8),"") -> 0 | ZH7: - Hỗ trợ đào tạo nghề và tìm việc làm: | ZL7: =IFERROR(Giadatvaheso!$J$4*(ZL17*Giadatvaheso!$C$7+ZL31*Giadatvaheso!$C$8),"") -> 0 | ZS7: - Hỗ trợ đào tạo nghề và tìm việc làm: | ZW7: =IFERROR(Giadatvaheso!$J$4*(ZW17*Giadatvaheso!$C$7+ZW31*Giadatvaheso!$C$8),"") -> 0 | AAD7: - Hỗ trợ đào tạo nghề và tìm việc làm: | AAH7: =IFERROR(Giadatvaheso!$J$4*(AAH17*Giadatvaheso!$C$7+AAH31*Giadatvaheso!$C$8),"") -> 0 | AAO7: - Hỗ trợ đào tạo nghề và tìm việc làm: | AAS7: =IFERROR(Giadatvaheso!$J$4*(AAS17*Giadatvaheso!$C$7+AAS31*Giadatvaheso!$C$8),"") -> 0 | AAZ7: - Hỗ trợ đào tạo nghề và tìm việc làm: | ABD7: =IFERROR(Giadatvaheso!$J$4*(ABD17*Giadatvaheso!$C$7+ABD31*Giadatvaheso!$C$8),"") -> 0 | ABK7: - Hỗ trợ đào tạo nghề và tìm việc làm: | ABO7: =IFERROR(Giadatvaheso!$J$4*(ABO17*Giadatvaheso!$C$7+ABO31*Giadatvaheso!$C$8),"") -> 0 | ABV7: - Hỗ trợ đào tạo nghề và tìm việc làm: | ABZ7: =IFERROR(Giadatvaheso!$J$4*(ABZ17*Giadatvaheso!$C$7+ABZ31*Giadatvaheso!$C$8),"") -> 0 | ACG7: - Hỗ trợ đào tạo nghề và tìm việc làm: | ACK7: =IFERROR(Giadatvaheso!$J$4*(ACK17*Giadatvaheso!$C$7+ACK31*Giadatvaheso!$C$8),"") -> 0 | ACR7: - Hỗ trợ đào tạo nghề và tìm việc làm: | ACV7: =IFERROR(Giadatvaheso!$J$4*(ACV17*Giadatvaheso!$C$7+ACV31*Giadatvaheso!$C$8),"") -> 0 | ADC7: - Hỗ trợ đào tạo nghề và tìm việc làm: | ADG7: =IFERROR(Giadatvaheso!$J$4*(ADG17*Giadatvaheso!$C$7+ADG31*Giadatvaheso!$C$8),"") -> 0 | ADN7: - Hỗ trợ đào tạo nghề và tìm việc làm: | ADR7: =IFERROR(Giadatvaheso!$J$4*(ADR17*Giadatvaheso!$C$7+ADR31*Giadatvaheso!$C$8),"") -> 0 | ADY7: - Hỗ trợ đào tạo nghề và tìm việc làm: | AEC7: =IFERROR(Giadatvaheso!$J$4*(AEC17*Giadatvaheso!$C$7+AEC31*Giadatvaheso!$C$8),"") -> 0 | AEJ7: - Hỗ trợ đào tạo nghề và tìm việc làm: | AEN7: =IFERROR(Giadatvaheso!$J$4*(AEN17*Giadatvaheso!$C$7+AEN31*Giadatvaheso!$C$8),"") -> 0 | AEU7: - Hỗ trợ đào tạo nghề và tìm việc làm: | AEY7: =IFERROR(Giadatvaheso!$J$4*(AEY17*Giadatvaheso!$C$7+AEY31*Giadatvaheso!$C$8),"") -> 0 | AFF7: - Hỗ trợ đào tạo nghề và tìm việc làm: | AFJ7: =IFERROR(Giadatvaheso!$J$4*(AFJ17*Giadatvaheso!$C$7+AFJ31*Giadatvaheso!$C$8),"") -> 0 | AFQ7: - Hỗ trợ đào tạo nghề và tìm việc làm: | AFU7: =IFERROR(Giadatvaheso!$J$4*(AFU17*Giadatvaheso!$C$7+AFU31*Giadatvaheso!$C$8),"") -> 0 | AGB7: - Hỗ trợ đào tạo nghề và tìm việc làm: | AGF7: =IFERROR(Giadatvaheso!$J$4*(AGF17*Giadatvaheso!$C$7+AGF31*Giadatvaheso!$C$8),"") -> 0 | AGM7: - Hỗ trợ đào tạo nghề và tìm việc làm: | AGQ7: =IFERROR(Giadatvaheso!$J$4*(AGQ17*Giadatvaheso!$C$7+AGQ31*Giadatvaheso!$C$8),"") -> 0 | AGX7: - Hỗ trợ đào tạo nghề và tìm việc làm: | AHB7: =IFERROR(Giadatvaheso!$J$4*(AHB17*Giadatvaheso!$C$7+AHB31*Giadatvaheso!$C$8),"") -> 0 | AHI7: - Hỗ trợ đào tạo nghề và tìm việc làm: | AHM7: =IFERROR(Giadatvaheso!$J$4*(AHM17*Giadatvaheso!$C$7+AHM31*Giadatvaheso!$C$8),"") -> 0 | AHT7: - Hỗ trợ đào tạo nghề và tìm việc làm: | AHX7: =IFERROR(Giadatvaheso!$J$4*(AHX17*Giadatvaheso!$C$7+AHX31*Giadatvaheso!$C$8),"") -> 0 | AIE7: - Hỗ trợ đào tạo nghề và tìm việc làm: | AII7: =IFERROR(Giadatvaheso!$J$4*(AII17*Giadatvaheso!$C$7+AII31*Giadatvaheso!$C$8),"") -> 0 | AIP7: - Hỗ trợ đào tạo nghề và tìm việc làm: | AIT7: =IFERROR(Giadatvaheso!$J$4*(AIT17*Giadatvaheso!$C$7+AIT31*Giadatvaheso!$C$8),"") -> 0 | AJA7: - Hỗ trợ đào tạo nghề và tìm việc làm: | AJE7: =IFERROR(Giadatvaheso!$J$4*(AJE17*Giadatvaheso!$C$7+AJE31*Giadatvaheso!$C$8),"") -> 0 | AJL7: - Hỗ trợ đào tạo nghề và tìm việc làm: | AJP7: =IFERROR(Giadatvaheso!$J$4*(AJP17*Giadatvaheso!$C$7+AJP31*Giadatvaheso!$C$8),"") -> 0 | AJW7: - Hỗ trợ đào tạo nghề và tìm việc làm: | AKA7: =IFERROR(Giadatvaheso!$J$4*(AKA17*Giadatvaheso!$C$7+AKA31*Giadatvaheso!$C$8),"") -> 0 | AKH7: - Hỗ trợ đào tạo nghề và tìm việc làm: | AKL7: =IFERROR(Giadatvaheso!$J$4*(AKL17*Giadatvaheso!$C$7+AKL31*Giadatvaheso!$C$8),"") -> 0 | AKS7: - Hỗ trợ đào tạo nghề và tìm việc làm: | AKW7: =IFERROR(Giadatvaheso!$J$4*(AKW17*Giadatvaheso!$C$7+AKW31*Giadatvaheso!$C$8),"") -> 0 | ALD7: - Hỗ trợ đào tạo nghề và tìm việc làm: | ALH7: =IFERROR(Giadatvaheso!$J$4*(ALH17*Giadatvaheso!$C$7+ALH31*Giadatvaheso!$C$8),"") -> 0 | ALO7: - Hỗ trợ đào tạo nghề và tìm việc làm: | ALS7: =IFERROR(Giadatvaheso!$J$4*(ALS17*Giadatvaheso!$C$7+ALS31*Giadatvaheso!$C$8),"") -> 0 | ALZ7: - Hỗ trợ đào tạo nghề và tìm việc làm: | AMD7: =IFERROR(Giadatvaheso!$J$4*(AMD17*Giadatvaheso!$C$7+AMD31*Giadatvaheso!$C$8),"") -> 0 | AMK7: - Hỗ trợ đào tạo nghề và tìm việc làm: | AMO7: =IFERROR(Giadatvaheso!$J$4*(AMO17*Giadatvaheso!$C$7+AMO31*Giadatvaheso!$C$8),"") -> 0 | AMV7: - Hỗ trợ đào tạo nghề và tìm việc làm: | AMZ7: =IFERROR(Giadatvaheso!$J$4*(AMZ17*Giadatvaheso!$C$7+AMZ31*Giadatvaheso!$C$8),"") -> 0 | ANG7: - Hỗ trợ đào tạo nghề và tìm việc làm: | ANK7: =IFERROR(Giadatvaheso!$J$4*(ANK17*Giadatvaheso!$C$7+ANK31*Giadatvaheso!$C$8),"") -> 0 | ANR7: - Hỗ trợ đào tạo nghề và tìm việc làm: | ANV7: =IFERROR(Giadatvaheso!$J$4*(ANV17*Giadatvaheso!$C$7+ANV31*Giadatvaheso!$C$8),"") -> 0 | AOC7: - Hỗ trợ đào tạo nghề và tìm việc làm: | AOG7: =IFERROR(Giadatvaheso!$J$4*(AOG17*Giadatvaheso!$C$7+AOG31*Giadatvaheso!$C$8),"") -> 0 | AON7: - Hỗ trợ đào tạo nghề và tìm việc làm: | AOR7: =IFERROR(Giadatvaheso!$J$4*(AOR17*Giadatvaheso!$C$7+AOR31*Giadatvaheso!$C$8),"") -> 0 | AOY7: - Hỗ trợ đào tạo nghề và tìm việc làm: | APC7: =IFERROR(Giadatvaheso!$J$4*(APC17*Giadatvaheso!$C$7+APC31*Giadatvaheso!$C$8),"") -> 0 | APJ7: - Hỗ trợ đào tạo nghề và tìm việc làm: | APN7: =IFERROR(Giadatvaheso!$J$4*(APN17*Giadatvaheso!$C$7+APN31*Giadatvaheso!$C$8),"") -> 0 | APU7: - Hỗ trợ đào tạo nghề và tìm việc làm: | APY7: =IFERROR(Giadatvaheso!$J$4*(APY17*Giadatvaheso!$C$7+APY31*Giadatvaheso!$C$8),"") -> 0 | AQF7: - Hỗ trợ đào tạo nghề và tìm việc làm: | AQJ7: =IFERROR(Giadatvaheso!$J$4*(AQJ17*Giadatvaheso!$C$7+AQJ31*Giadatvaheso!$C$8),"") -> 0 | AQQ7: - Hỗ trợ đào tạo nghề và tìm việc làm: | AQU7: =IFERROR(Giadatvaheso!$J$4*(AQU17*Giadatvaheso!$C$7+AQU31*Giadatvaheso!$C$8),"") -> 0 | ARB7: - Hỗ trợ đào tạo nghề và tìm việc làm: | ARF7: =IFERROR(Giadatvaheso!$J$4*(ARF17*Giadatvaheso!$C$7+ARF31*Giadatvaheso!$C$8),"") -> 0 | ARM7: - Hỗ trợ đào tạo nghề và tìm việc làm: | ARQ7: =IFERROR(Giadatvaheso!$J$4*(ARQ17*Giadatvaheso!$C$7+ARQ31*Giadatvaheso!$C$8),"") -> 0 | ARX7: - Hỗ trợ đào tạo nghề và tìm việc làm: | ASB7: =IFERROR(Giadatvaheso!$J$4*(ASB17*Giadatvaheso!$C$7+ASB31*Giadatvaheso!$C$8),"") -> 0 | ASI7: - Hỗ trợ đào tạo nghề và tìm việc làm: | ASM7: =IFERROR(Giadatvaheso!$J$4*(ASM17*Giadatvaheso!$C$7+ASM31*Giadatvaheso!$C$8),"") -> 0 | AST7: - Hỗ trợ đào tạo nghề và tìm việc làm: | ASX7: =IFERROR(Giadatvaheso!$J$4*(ASX17*Giadatvaheso!$C$7+ASX31*Giadatvaheso!$C$8),"") -> 0 | ATE7: - Hỗ trợ đào tạo nghề và tìm việc làm: | ATI7: =IFERROR(Giadatvaheso!$J$4*(ATI17*Giadatvaheso!$C$7+ATI31*Giadatvaheso!$C$8),"") -> 0 | ATP7: - Hỗ trợ đào tạo nghề và tìm việc làm: | ATT7: =IFERROR(Giadatvaheso!$J$4*(ATT17*Giadatvaheso!$C$7+ATT31*Giadatvaheso!$C$8),"") -> 0 | AUA7: - Hỗ trợ đào tạo nghề và tìm việc làm: | AUE7: =IFERROR(Giadatvaheso!$J$4*(AUE17*Giadatvaheso!$C$7+AUE31*Giadatvaheso!$C$8),"") -> 0 | AUL7: - Hỗ trợ đào tạo nghề và tìm việc làm: | AUP7: =IFERROR(Giadatvaheso!$J$4*(AUP17*Giadatvaheso!$C$7+AUP31*Giadatvaheso!$C$8),"") -> 0 | AUW7: - Hỗ trợ đào tạo nghề và tìm việc làm: | AVA7: =IFERROR(Giadatvaheso!$J$4*(AVA17*Giadatvaheso!$C$7+AVA31*Giadatvaheso!$C$8),"") -> 0 | AVH7: - Hỗ trợ đào tạo nghề và tìm việc làm: | AVL7: =IFERROR(Giadatvaheso!$J$4*(AVL17*Giadatvaheso!$C$7+AVL31*Giadatvaheso!$C$8),"") -> 0 | AVS7: - Hỗ trợ đào tạo nghề và tìm việc làm: | AVW7: =IFERROR(Giadatvaheso!$J$4*(AVW17*Giadatvaheso!$C$7+AVW31*Giadatvaheso!$C$8),"") -> 0
