Workbook

Sheet Doc so
A1: Số cần đọc là: | B1: ='PL 4'!C18*1000000 -> 73888837500
A2: Bằng chữ: | B2: =B13 -> Bảy mươi ba tỷ tám trăm tám mươi tám triệu tám trăm ba mươi bảy nghìn năm trăm
A3: Đọc thành tiền: | B3: =B13&" đồng./." -> Bảy mươi ba tỷ tám trăm tám mươi tám triệu tám trăm ba mươi bảy nghìn năm trăm đồng./.
A8: =B1 -> 73888837500 | B8: =RIGHT("000000000000"&ROUND(A8,0),12) -> 073888837500 | C8: 1 | D8: 2 | E8: 3 | F8: 4 | G8: 5 | H8: 6 | I8: 7 | J8: 8 | K8: 9 | L8: 10 | M8: 11 | N8: 12
C9: =VALUE(MID(B8,C8,1)) -> 0 | D9: =VALUE(MID(B8,D8,1)) -> 7 | E9: =VALUE(MID(B8,E8,1)) -> 3 | F9: =VALUE(MID(B8,F8,1)) -> 8 | G9: =VALUE(MID(B8,G8,1)) -> 8 | H9: =VALUE(MID(B8,H8,1)) -> 8 | I9: =VALUE(MID(B8,I8,1)) -> 8 | J9: =VALUE(MID(B8,J8,1)) -> 3 | K9: =VALUE(MID(B8,K8,1)) -> 7 | L9: =VALUE(MID(B8,L8,1)) -> 5 | M9: =VALUE(MID(B8,M8,1)) -> 0 | N9: =VALUE(MID(B8,N8,1)) -> 0
C10: =SUM(C9) -> 0 | D10: =SUM(C9:D9) -> 7 | E10: =SUM(C9:E9) -> 10 | F10: =SUM(C9:F9) -> 18 | G10: =SUM(F9:G9) -> 16 | H10: =SUM(F9:H9) -> 24 | I10: =SUM(C9:I9) -> 42 | J10: =SUM(I9:J9) -> 11 | K10: =SUM(I9:K9) -> 18 | L10: =SUM(C9:L9) -> 57 | M10: =SUM(L9:M9) -> 5 | N10: =SUM(L9:N9) -> 5
C11: =IF(C9=0,"",CHOOSE(C9,"một","hai","ba","bốn","năm","sáu","bảy","tám","chín")) | D11: =IF(D9=0,IF(AND(C9<>0,E9<>0),"lẻ",""),CHOOSE(D9,"mười","hai","ba","bốn","năm","sáu","bảy","tám","chín")) -> bảy | E11: =IF(E9=0,"",CHOOSE(E9,IF(D9>1,"mốt","một"),"hai","ba","bốn",IF(D9=0,"năm","lăm"),"sáu","bảy","tám","chín")) -> ba | F11: =IF(F9=0,IF(F10=0,"",IF(SUM(G9:H9)=0,"","không")),CHOOSE(F9,"một","hai","ba","bốn","năm","sáu","bảy","tám","chín")) -> tám | G11: =IF(G9=0,IF(AND(F11<>"",H9<>0),"lẻ",""),CHOOSE(G9,"mười","hai","ba","bốn","năm","sáu","bảy","tám","chín")) -> tám | H11: =IF(H9=0,"",CHOOSE(H9,IF(G9>1,"mốt","một"),"hai","ba","bốn",IF(G9=0,"năm","lăm"),"sáu","bảy","tám","chín")) -> tám | I11: =IF(I9=0,IF(I10=0,"",IF(SUM(J9:K9)=0,"","không")),CHOOSE(I9,"một","hai","ba","bốn","năm","sáu","bảy","tám","chín")) -> tám | J11: =IF(J9=0,IF(AND(I11<>"",K9<>0),"lẻ",""),CHOOSE(J9,"mười","hai","ba","bốn","năm","sáu","bảy","tám","chín")) -> ba | K11: =IF(K9=0,"",CHOOSE(K9,IF(J9>1,"mốt","một"),"hai","ba","bốn",IF(J9=0,"năm","lăm"),"sáu","bảy","tám","chín")) -> bảy | L11: =IF(L9=0,IF(L10=0,"",IF(SUM(M9:N9)=0,"","không")),CHOOSE(L9,"một","hai","ba","bốn","năm","sáu","bảy","tám","chín")) -> năm | M11: =IF(M9=0,IF(AND(L11<>"",N9<>0),"lẻ",""),CHOOSE(M9,"mười","hai","ba","bốn","năm","sáu","bảy","tám","chín")) | N11: =IF(N9=0,"",CHOOSE(N9,IF(M9>1,"mốt","một"),"hai","ba","bốn",IF(M9=0,"năm","lăm"),"sáu","bảy","tám","chín"))
C12: =IF(C9=0,"","trăm") | D12: =IF(D9=0,"",IF(D9=1,"","mươi")) -> mươi | E12: =IF(AND(E9=0,E10=0),"","tỷ") -> tỷ | F12: =IF(F9=0,IF(F10=0,"",IF(SUM(G9:H9)=0,"","trăm")),"trăm") -> trăm | G12: =IF(G9=0,"",IF(G9=1,"","mươi")) -> mươi | H12: =IF(AND(H9=0,H10=0),"","triệu") -> triệu | I12: =IF(I9=0,IF(I10=0,"",IF(SUM(J9:K9)=0,"","trăm")),"trăm") -> trăm | J12: =IF(J9=0,"",IF(J9=1,"","mươi")) -> mươi | K12: =IF(AND(K9=0,K10=0),"","nghìn") -> nghìn | L12: =IF(L9=0,IF(L10=0,"",IF(SUM(M9:N9)=0,"","trăm")),"trăm") -> trăm | M12: =IF(M9=0,"",IF(M9=1,"","mươi"))
B13: =UPPER(LEFT(TRIM(IF(A8=0,"không",C11&" "&C12&" "&D11&" "&D12&" "&E11&" "&E12&" "&F11&" "&F12&" "&G11&" "&G12&" "&H11&" "&H12&" "&I11&" "&I12&" "&J11&" "&J12&" "&K11&" "&K12&" "&L11&" "&L12&" "&M11&" "&M12&" "&N11&" "&N12)),1))&RIGHT(TRIM(IF(A8=0,"không",C11&" "&C12&" "&D11&" "&D12&" "&E11&" "&E12&" "&F11&" "&F12&" "&G11&" "&G12&" "&H11&" "&H12&" "&I11&" "&I12&" "&J11&" "&J12&" "&K11&" "&K12&" "&L11&" "&L12&" "&M11&" "&M12&" "&N11&" "&N12)),LEN(TRIM(IF(A8=0,"không",C11&" "&C12&" "&D11&" "&D12&" "&E11&" "&E12&" "&F11&" "&F12&" "&G11&" "&G12&" "&H11&" "&H12&" "&I11&" "&I12&" "&J11&" "&J12&" "&K11&" "&K12&" "&L11&" "&L12&" "&M11&" "&M12&" "&N11&" "&N12)))-1) -> Bảy mươi ba tỷ tám trăm tám mươi tám triệu tám trăm ba mươi bảy nghìn năm trăm
A16: Số cần đọc là: | B16: ='PL 4'!C35*1000000 -> 76305775000
A17: Bằng chữ: | B17: =B28 -> Bảy mươi sáu tỷ ba trăm lẻ năm triệu bảy trăm bảy mươi lăm nghìn
A18: Đọc thành tiền: | B18: =B28&" đồng./." -> Bảy mươi sáu tỷ ba trăm lẻ năm triệu bảy trăm bảy mươi lăm nghìn đồng./.
A23: =B16 -> 76305775000 | B23: =RIGHT("000000000000"&ROUND(A23,0),12) -> 076305775000 | C23: 1 | D23: 2 | E23: 3 | F23: 4 | G23: 5 | H23: 6 | I23: 7 | J23: 8 | K23: 9 | L23: 10 | M23: 11 | N23: 12
C24: =VALUE(MID(B23,C23,1)) -> 0 | D24: =VALUE(MID(B23,D23,1)) -> 7 | E24: =VALUE(MID(B23,E23,1)) -> 6 | F24: =VALUE(MID(B23,F23,1)) -> 3 | G24: =VALUE(MID(B23,G23,1)) -> 0 | H24: =VALUE(MID(B23,H23,1)) -> 5 | I24: =VALUE(MID(B23,I23,1)) -> 7 | J24: =VALUE(MID(B23,J23,1)) -> 7 | K24: =VALUE(MID(B23,K23,1)) -> 5 | L24: =VALUE(MID(B23,L23,1)) -> 0 | M24: =VALUE(MID(B23,M23,1)) -> 0 | N24: =VALUE(MID(B23,N23,1)) -> 0
C25: =SUM(C24) -> 0 | D25: =SUM(C24:D24) -> 7 | E25: =SUM(C24:E24) -> 13 | F25: =SUM(C24:F24) -> 16 | G25: =SUM(F24:G24) -> 3 | H25: =SUM(F24:H24) -> 8 | I25: =SUM(C24:I24) -> 28 | J25: =SUM(I24:J24) -> 14 | K25: =SUM(I24:K24) -> 19 | L25: =SUM(C24:L24) -> 40 | M25: =SUM(L24:M24) -> 0 | N25: =SUM(L24:N24) -> 0
C26: =IF(C24=0,"",CHOOSE(C24,"một","hai","ba","bốn","năm","sáu","bảy","tám","chín")) | D26: =IF(D24=0,IF(AND(C24<>0,E24<>0),"lẻ",""),CHOOSE(D24,"mười","hai","ba","bốn","năm","sáu","bảy","tám","chín")) -> bảy | E26: =IF(E24=0,"",CHOOSE(E24,IF(D24>1,"mốt","một"),"hai","ba","bốn",IF(D24=0,"năm","lăm"),"sáu","bảy","tám","chín")) -> sáu | F26: =IF(F24=0,IF(F25=0,"",IF(SUM(G24:H24)=0,"","không")),CHOOSE(F24,"một","hai","ba","bốn","năm","sáu","bảy","tám","chín")) -> ba | G26: =IF(G24=0,IF(AND(F26<>"",H24<>0),"lẻ",""),CHOOSE(G24,"mười","hai","ba","bốn","năm","sáu","bảy","tám","chín")) -> lẻ | H26: =IF(H24=0,"",CHOOSE(H24,IF(G24>1,"mốt","một"),"hai","ba","bốn",IF(G24=0,"năm","lăm"),"sáu","bảy","tám","chín")) -> năm | I26: =IF(I24=0,IF(I25=0,"",IF(SUM(J24:K24)=0,"","không")),CHOOSE(I24,"một","hai","ba","bốn","năm","sáu","bảy","tám","chín")) -> bảy | J26: =IF(J24=0,IF(AND(I26<>"",K24<>0),"lẻ",""),CHOOSE(J24,"mười","hai","ba","bốn","năm","sáu","bảy","tám","chín")) -> bảy | K26: =IF(K24=0,"",CHOOSE(K24,IF(J24>1,"mốt","một"),"hai","ba","bốn",IF(J24=0,"năm","lăm"),"sáu","bảy","tám","chín")) -> lăm | L26: =IF(L24=0,IF(L25=0,"",IF(SUM(M24:N24)=0,"","không")),CHOOSE(L24,"một","hai","ba","bốn","năm","sáu","bảy","tám","chín")) | M26: =IF(M24=0,IF(AND(L26<>"",N24<>0),"lẻ",""),CHOOSE(M24,"mười","hai","ba","bốn","năm","sáu","bảy","tám","chín")) | N26: =IF(N24=0,"",CHOOSE(N24,IF(M24>1,"mốt","một"),"hai","ba","bốn",IF(M24=0,"năm","lăm"),"sáu","bảy","tám","chín"))
C27: =IF(C24=0,"","trăm") | D27: =IF(D24=0,"",IF(D24=1,"","mươi")) -> mươi | E27: =IF(AND(E24=0,E25=0),"","tỷ") -> tỷ | F27: =IF(F24=0,IF(F25=0,"",IF(SUM(G24:H24)=0,"","trăm")),"trăm") -> trăm | G27: =IF(G24=0,"",IF(G24=1,"","mươi")) | H27: =IF(AND(H24=0,H25=0),"","triệu") -> triệu | I27: =IF(I24=0,IF(I25=0,"",IF(SUM(J24:K24)=0,"","trăm")),"trăm") -> trăm | J27: =IF(J24=0,"",IF(J24=1,"","mươi")) -> mươi | K27: =IF(AND(K24=0,K25=0),"","nghìn") -> nghìn | L27: =IF(L24=0,IF(L25=0,"",IF(SUM(M24:N24)=0,"","trăm")),"trăm") | M27: =IF(M24=0,"",IF(M24=1,"","mươi"))
B28: =UPPER(LEFT(TRIM(IF(A23=0,"không",C26&" "&C27&" "&D26&" "&D27&" "&E26&" "&E27&" "&F26&" "&F27&" "&G26&" "&G27&" "&H26&" "&H27&" "&I26&" "&I27&" "&J26&" "&J27&" "&K26&" "&K27&" "&L26&" "&L27&" "&M26&" "&M27&" "&N26&" "&N27)),1))&RIGHT(TRIM(IF(A23=0,"không",C26&" "&C27&" "&D26&" "&D27&" "&E26&" "&E27&" "&F26&" "&F27&" "&G26&" "&G27&" "&H26&" "&H27&" "&I26&" "&I27&" "&J26&" "&J27&" "&K26&" "&K27&" "&L26&" "&L27&" "&M26&" "&M27&" "&N26&" "&N27)),LEN(TRIM(IF(A23=0,"không",C26&" "&C27&" "&D26&" "&D27&" "&E26&" "&E27&" "&F26&" "&F27&" "&G26&" "&G27&" "&H26&" "&H27&" "&I26&" "&I27&" "&J26&" "&J27&" "&K26&" "&K27&" "&L26&" "&L27&" "&M26&" "&M27&" "&N26&" "&N27)))-1) -> Bảy mươi sáu tỷ ba trăm lẻ năm triệu bảy trăm bảy mươi lăm nghìn
A32: Số cần đọc là: | B32: ='PL 4'!C54*1000000 -> 88902087500
A33: Bằng chữ: | B33: =B44 -> Tám mươi tám tỷ chín trăm lẻ hai triệu không trăm tám mươi bảy nghìn năm trăm
A34: Đọc thành tiền: | B34: =B44&" đồng./." -> Tám mươi tám tỷ chín trăm lẻ hai triệu không trăm tám mươi bảy nghìn năm trăm đồng./.
A39: =B32 -> 88902087500 | B39: =RIGHT("000000000000"&ROUND(A39,0),12) -> 088902087500 | C39: 1 | D39: 2 | E39: 3 | F39: 4 | G39: 5 | H39: 6 | I39: 7 | J39: 8 | K39: 9 | L39: 10 | M39: 11 | N39: 12
C40: =VALUE(MID(B39,C39,1)) -> 0 | D40: =VALUE(MID(B39,D39,1)) -> 8 | E40: =VALUE(MID(B39,E39,1)) -> 8 | F40: =VALUE(MID(B39,F39,1)) -> 9 | G40: =VALUE(MID(B39,G39,1)) -> 0 | H40: =VALUE(MID(B39,H39,1)) -> 2 | I40: =VALUE(MID(B39,I39,1)) -> 0 | J40: =VALUE(MID(B39,J39,1)) -> 8 | K40: =VALUE(MID(B39,K39,1)) -> 7 | L40: =VALUE(MID(B39,L39,1)) -> 5 | M40: =VALUE(MID(B39,M39,1)) -> 0 | N40: =VALUE(MID(B39,N39,1)) -> 0
C41: =SUM(C40) -> 0 | D41: =SUM(C40:D40) -> 8 | E41: =SUM(C40:E40) -> 16 | F41: =SUM(C40:F40) -> 25 | G41: =SUM(F40:G40) -> 9 | H41: =SUM(F40:H40) -> 11 | I41: =SUM(C40:I40) -> 27 | J41: =SUM(I40:J40) -> 8 | K41: =SUM(I40:K40) -> 15 | L41: =SUM(C40:L40) -> 47 | M41: =SUM(L40:M40) -> 5 | N41: =SUM(L40:N40) -> 5
C42: =IF(C40=0,"",CHOOSE(C40,"một","hai","ba","bốn","năm","sáu","bảy","tám","chín")) | D42: =IF(D40=0,IF(AND(C40<>0,E40<>0),"lẻ",""),CHOOSE(D40,"mười","hai","ba","bốn","năm","sáu","bảy","tám","chín")) -> tám | E42: =IF(E40=0,"",CHOOSE(E40,IF(D40>1,"mốt","một"),"hai","ba","bốn",IF(D40=0,"năm","lăm"),"sáu","bảy","tám","chín")) -> tám | F42: =IF(F40=0,IF(F41=0,"",IF(SUM(G40:H40)=0,"","không")),CHOOSE(F40,"một","hai","ba","bốn","năm","sáu","bảy","tám","chín")) -> chín | G42: =IF(G40=0,IF(AND(F42<>"",H40<>0),"lẻ",""),CHOOSE(G40,"mười","hai","ba","bốn","năm","sáu","bảy","tám","chín")) -> lẻ | H42: =IF(H40=0,"",CHOOSE(H40,IF(G40>1,"mốt","một"),"hai","ba","bốn",IF(G40=0,"năm","lăm"),"sáu","bảy","tám","chín")) -> hai | I42: =IF(I40=0,IF(I41=0,"",IF(SUM(J40:K40)=0,"","không")),CHOOSE(I40,"một","hai","ba","bốn","năm","sáu","bảy","tám","chín")) -> không | J42: =IF(J40=0,IF(AND(I42<>"",K40<>0),"lẻ",""),CHOOSE(J40,"mười","hai","ba","bốn","năm","sáu","bảy","tám","chín")) -> tám | K42: =IF(K40=0,"",CHOOSE(K40,IF(J40>1,"mốt","một"),"hai","ba","bốn",IF(J40=0,"năm","lăm"),"sáu","bảy","tám","chín")) -> bảy | L42: =IF(L40=0,IF(L41=0,"",IF(SUM(M40:N40)=0,"","không")),CHOOSE(L40,"một","hai","ba","bốn","năm","sáu","bảy","tám","chín")) -> năm | M42: =IF(M40=0,IF(AND(L42<>"",N40<>0),"lẻ",""),CHOOSE(M40,"mười","hai","ba","bốn","năm","sáu","bảy","tám","chín")) | N42: =IF(N40=0,"",CHOOSE(N40,IF(M40>1,"mốt","một"),"hai","ba","bốn",IF(M40=0,"năm","lăm"),"sáu","bảy","tám","chín"))
C43: =IF(C40=0,"","trăm") | D43: =IF(D40=0,"",IF(D40=1,"","mươi")) -> mươi | E43: =IF(AND(E40=0,E41=0),"","tỷ") -> tỷ | F43: =IF(F40=0,IF(F41=0,"",IF(SUM(G40:H40)=0,"","trăm")),"trăm") -> trăm | G43: =IF(G40=0,"",IF(G40=1,"","mươi")) | H43: =IF(AND(H40=0,H41=0),"","triệu") -> triệu | I43: =IF(I40=0,IF(I41=0,"",IF(SUM(J40:K40)=0,"","trăm")),"trăm") -> trăm | J43: =IF(J40=0,"",IF(J40=1,"","mươi")) -> mươi | K43: =IF(AND(K40=0,K41=0),"","nghìn") -> nghìn | L43: =IF(L40=0,IF(L41=0,"",IF(SUM(M40:N40)=0,"","trăm")),"trăm") -> trăm | M43: =IF(M40=0,"",IF(M40=1,"","mươi"))
B44: =UPPER(LEFT(TRIM(IF(A39=0,"không",C42&" "&C43&" "&D42&" "&D43&" "&E42&" "&E43&" "&F42&" "&F43&" "&G42&" "&G43&" "&H42&" "&H43&" "&I42&" "&I43&" "&J42&" "&J43&" "&K42&" "&K43&" "&L42&" "&L43&" "&M42&" "&M43&" "&N42&" "&N43)),1))&RIGHT(TRIM(IF(A39=0,"không",C42&" "&C43&" "&D42&" "&D43&" "&E42&" "&E43&" "&F42&" "&F43&" "&G42&" "&G43&" "&H42&" "&H43&" "&I42&" "&I43&" "&J42&" "&J43&" "&K42&" "&K43&" "&L42&" "&L43&" "&M42&" "&M43&" "&N42&" "&N43)),LEN(TRIM(IF(A39=0,"không",C42&" "&C43&" "&D42&" "&D43&" "&E42&" "&E43&" "&F42&" "&F43&" "&G42&" "&G43&" "&H42&" "&H43&" "&I42&" "&I43&" "&J42&" "&J43&" "&K42&" "&K43&" "&L42&" "&L43&" "&M42&" "&M43&" "&N42&" "&N43)))-1) -> Tám mươi tám tỷ chín trăm lẻ hai triệu không trăm tám mươi bảy nghìn năm trăm

Sheet PL 4
A1: PHỤ LỤC 4
A2: DỰ KIẾN TỔNG KINH PHÍ THÀNH PHỐ CHI KHEN THƯỞNG QUỐC GIA, QUỐC TẾ, CHẾ ĐỘ CHÍNH SÁCH ĐẶC THÙ VÀ KHEN THƯỞNG TẠI CHỖ TRONG 01 NĂM
B3: (Có các phụ lục chi tiết kèm theo)
A4: A. Năm không có Đại hội Thể thao toàn quốc, Đại hội Thể thao thành phố và có Olympic:
A5: TT | B5: Nội dung chi | C5: Dự kiến kinh phí (Đvt: triệu đồng) | D5: Ghi chú
A6: I | B6: Lĩnh vực TDTT quần chúng, Người khuyết tật, khen thưởng cấp thành phố | C6: =SUM(C7+C10+C12) -> 2767.9
A7: 1 | B7: Lĩnh vực thể thao quần chúng | C7: =SUM(C8:C9) -> 864.1
A8: 1.1 | B8: Dinh dưỡng đội tuyển thể thao quần chúng | C8: ='PL 4.1'!H13/1000000 -> 436.1 | D8: Phụ lục 4.1, 4.1.1
A9: 1.1. | B9: Thưởng đội tuyển thể thao quần chúng | C9: ='PL 4.2'!Q11/1000000 -> 428 | D9: Phụ lục 4.2, 4.2.1
A10: 2 | B10: Người khuyết tật | C10: =C11 -> 960 | D10: Phụ lục 4.3, 4.3.1
A11: 2.1. | B11: Khen thưởng VĐV khuyết tật tại giải Quốc gia | C11: ='PL4.3'!Q7/1000000 -> 960
A12: 3 | B12: Khen thưởng cấp thành phố | C12: =C13 -> 943.8 | D12: Phụ lục 4.4
A13: 3.1 | B13: Khen thưởng giải thi đấu thể thao cấp thành phố | C13: ='PL 4.4'!Q11/1000000 -> 943.8
A14: II | B14: Lĩnh vực thể thao thành tích cao | C14: =SUM(C15:C17) -> 71120.938 | D14: Phụ lục 4.5
A15: 1 | B15: Tổng khen thưởng quốc gia: | C15: ='PL 4.5'!C5 -> 55170.5 | D15: Phụ lục 4.5.1
A16: 2 | B16: Tổng khen thưởng quốc tế: | C16: ='PL 4.5'!C6 -> 8210.4375 | D16: Phụ lục 4.5.2
A17: 3 | B17: Chi chính sách đặc thù: | C17: ='PL 4.6'!$F$12 -> 7740 | D17: Phụ lục 4.6 (Chi hàng năm)
A18: Tổng kinh phí I + II | C18: =SUM(C6+C14) -> 73888.837
A19: Bằng chữ: Bảy mươi ba tỷ, tám trăm tám mưới chín triệu đồng.
A20: B. Năm không có Đại hội Thể thao toàn quốc, Đại hội thể thao thành phố và có SEA Games, Para Games
A21: TT | B21: Nội dung chi | C21: Dự kiến kinh phí (Đvt: triệu đồng) | D21: Ghi chú
A22: I | B22: Lĩnh vực TDTT quần chúng, Người khuyết tật, khen thưởng cấp thành phố | C22: =SUM(C23+C26+C29) -> 3037.9
A23: 1 | B23: Lĩnh vực thể thao quần chúng | C23: =SUM(C24:C25) -> 864.1
A24: 1.1 | B24: Dinh dưỡng đội tuyển thể thao quần chúng | C24: ='PL 4.1'!$H$13/1000000 -> 436.1
A25: 1.2 | B25: Thưởng đội tuyển thể thao quần chúng | C25: ='PL 4.2'!$Q$11/1000000 -> 428
A26: 2 | B26: Người khuyết tật | C26: =SUM(C27:C28) -> 1230
A27: 2.1 | B27: Khen thưởng VĐV khuyết tật tại Para Games | C27: ='PL4.3'!$Q$11/1000000 -> 270
A28: 2.2. | B28: Khen thưởng VĐV khuyết tật tại giải Quốc gia | C28: ='PL4.3'!$Q$7/1000000 -> 960
A29: 3 | B29: Khen thưởng cấp thành phố | C29: =C30 -> 943.8
A30: 3.1 | B30: Khen thưởng giải thi đấu thể thao cấp thành phố | C30: ='PL 4.4'!$Q$11/1000000 -> 943.8
A31: II | B31: Lĩnh vực thể thao thành tích cao | C31: =SUM(C32:C34) -> 73267.875
A32: 1 | B32: Tổng khen thưởng quốc gia: | C32: ='PL 4.5'!$C$11 -> 55170.5
A33: 2 | B33: Tổng khen thưởng quốc tế: | C33: ='PL 4.5'!$C$12 -> 10357.375
A34: 3 | B34: Chi chính sách đặc thù | C34: ='PL 4.6'!$F$12 -> 7740 | D34: Chi hàng năm
B35: Tổng kinh phí I +II | C35: =SUM(C22+C31) -> 76305.775
A36: Bằng chữ: Bảy mươi sáu tỷ, ba trăm linh sáu triệu đồng.
A38: C. Năm có Đại hội Thể thao toàn quốc, Đại hội thể thao thành phố và có Asiad, Asian ParaGames
A39: TT | B39: Nội dung chi | C39: Dự kiến kinh phí (Đvt: triệu đồng) | D39: Ghi chú
A40: I | B40: Lĩnh vực TDTT quần chúng, Người khuyết tật, khen thưởng cấp thành phố | C40: =SUM(C41+C44+C47) -> 8701.4
A41: 1 | B41: Lĩnh vực thể thao quần chúng | C41: =SUM(C42:C43) -> 864.1
...

Sheet PL 4.1
A1: PHỤ LỤC 4.1
A2: Dự kiến kinh phí để thực hiện mức chi cho đội tuyển thể thao quần chúng cấp thành phố trong thời gian tập trung tập huấn, thi đấu
A3: Đơn vị tính: VNĐ
A5: TT | B5: Đội tuyển thể thao quần chúng | C5: Số người | D5: Chế độ hiện tại đang thực hiện theo quy định | E5: Số ngày đề nghị thực hiện | F5: Định mức theo Nghị định số 349/2025/NĐ-CP ngày 30/12/2025 của Chính phủ | G5: Kinh phí đề nghị áp dụng theo tỷ lệ % định mức tại Nghị định số 349/2025/NĐ-CP ngày 30/12/2025 của Chính phủ (tỷ lệ 70%) | H5: Kinh phí thực hiện (nghìn đồng/ người/ngày) | I5: Ghi chú
A6: I | B6: Chế độ dinh dưỡng | H6: =SUM(H7+H10) -> 311500000
A7: 1 | B7: Chế độ dinh dưỡng trong thời gian tập trung tập huấn | H7: =SUM(H8:H9) -> 186900000
A8: 1.1 | B8: Vận động viên | C8: 79 | D8: Không quy định | E8: 10 | F8: =300000 -> 300000 | G8: =210000 -> 210000 | H8: =SUM(C8*E8*G8) -> 165900000
A9: 1.2 | B9: Huấn luyện viên | C9: 10 | D9: Không quy định | E9: 10 | F9: =300000 -> 300000 | G9: =210000 -> 210000 | H9: =SUM(C9*E9*G9) -> 21000000
A10: 2 | B10: Chế độ dinh dưỡng trong thời gian thi đấu | H10: =SUM(H11:H12) -> 124600000
A11: 2.1 | B11: Vận động viên | C11: 79 | D11: Không quy định | E11: 5 | F11: =400000 -> 400000 | G11: =280000 -> 280000 | H11: =SUM(C11*E11*G11) -> 110600000
A12: 2.2 | B12: Huấn luyện viên | C12: 10 | D12: Không quy định | E12: 5 | F12: =400000 -> 400000 | G12: =280000 -> 280000 | H12: =SUM(C12*E12*G12) -> 14000000
B13: Tổng cộng I+II | H13: =SUM(H6+H10) -> 436100000

Sheet PL 4.1.1
A1: PHỤ LỤC 4.1.1
A2: BẢNG DỰ KIẾN SỐ LƯỢNG MÔN THỂ THAO QUẦN CHÚNG THAM DỰ GIẢI TOÀN QUỐC
A4: TT | B4: Môn thi | C4: Số lượng tham dự | D4: Số lượng HLV, VĐV | F4: Ghi chú
D5: HLV | E5: VĐV
A6: 1 | B6: Giải Cờ tướng trung cao tuổi toàn quốc | C6: 16 | D6: 2 | E6: 14
A7: 2 | B7: Giải Khiêu vũ giải trí và dân vũ toàn quốc | C7: 16 | D7: 2 | E7: 14
A8: 3 | B8: Giải Gia đình thể thao toàn quốc | C8: 14 | D8: 2 | E8: 12
A9: 4 | B9: Giải Cầu lông trung cao tuổi toàn quốc | C9: 16 | D9: 2 | E9: 14
A10: 5 | B10: Giải Bơi trung cao tuổi toàn quốc | C10: 27 | D10: 2 | E10: 25
A11: Tổng cộng | C11: =SUM(C6:C10) -> 89 | D11: =SUM(D6:D10) -> 10 | E11: =SUM(E6:E10) -> 79

Sheet PL 4.2
A1: PHỤ LỤC 4.2
A2: Dự kiến kinh phí để thực hiện mức thưởng cho huấn luyện viên, vận động viên đội tuyển thể thao quần chúng thành phố lập thành tích tại các giải thi đấu Quốc gia
A4: Đơn vị tính: VNĐ
A6: TT | B6: MÔN THI, GIẢI THI ĐẤU | D6: Tổng số huy chương | G6: Chế độ khen thưởng đang thực hiện theo quy định | H6: Định mức dự thảo Nghị quyết đang xây dựng | N6: Kinh phí thực hiện (nghìn đồng/ người/ngày) | Q6: Tổng cộng
D7: HCV | E7: HCB | F7: HCĐ | H7: HCV | I7: HCB | J7: HCĐ | N7: HCV | O7: HCB | P7: HCĐ
A8: I | B8: Các giải thi đấu thể thao quần chúng Quốc gia
A9: 1 | B9: Vận động viên | D9: 9 | E9: 11 | F9: 32 | G9: Chưa quy định | H9: 7000000 | I9: =5000000 -> 5000000 | J9: =3000000 -> 3000000 | N9: =SUM(D9*H9) -> 63000000 | O9: =SUM(E9*I9) -> 55000000 | P9: =SUM(F9*J9) -> 96000000
A10: 2 | B10: Huấn luyện viên | H10: 7000000 | I10: =5000000 -> 5000000 | J10: =3000000 -> 3000000 | N10: =SUM(D9*H10) -> 63000000 | O10: =SUM(E9*I10) -> 55000000 | P10: =SUM(F9*J10) -> 96000000
B11: Tổng cộng | N11: =SUM(N9:N10) -> 126000000 | O11: =SUM(O9:O10) -> 110000000 | P11: =SUM(P9:P10) -> 192000000 | Q11: =SUM(N11:P11) -> 428000000

Sheet PL 4.2.1
A1: PHỤ LỤC 4.2.1
A2: BẢNG DỰ KIẾN SỐ LƯỢNG HUY CHƯƠNG ĐẠT ĐƯỢC TẠI CÁC GIẢI THỂ THAO QUẦN CHÚNG TOÀN QUỐC
A4: TT | B4: Môn thi | C4: Số lượng huy chương | F4: Tổng cộng | G4: Ghi chú
C5: HCV | D5: HCB | E5: HCĐ
A6: 1 | B6: Giải Cờ tướng trung cao tuổi toàn quốc | C6: 2 | D6: 3 | E6: 10 | F6: =SUM(C6:E6) -> 15
A7: 2 | B7: Giải Khiêu vũ giải trí và dân vũ toàn quốc | C7: 2 | D7: 2 | E7: 6 | F7: =SUM(C7:E7) -> 10
A8: 3 | B8: Giải Gia đình thể thao toàn quốc | C8: 1 | D8: 1 | E8: 1 | F8: =SUM(C8:E8) -> 3
A9: 4 | B9: Giải Cầu lông trung cao tuổi toàn quốc | C9: 1 | D9: 2 | E9: 5 | F9: =SUM(C9:E9) -> 8
A10: 5 | B10: Giải Bơi trung cao tuổi toàn quốc | C10: 3 | D10: 3 | E10: 10 | F10: =SUM(C10:E10) -> 16
A11: Tổng cộng | C11: =SUM(C6:C10) -> 9 | D11: =SUM(D6:D10) -> 11 | E11: =SUM(E6:E10) -> 32 | F11: =SUM(F6:F10) -> 52

Sheet PL 4.4
A1: PHỤ LỤC 4.4
A2: Dự kiến kinh phí để thực hiện mức thưởng cho huấn luyện viên, vận động viên lập thành tích tại Đại hội thể dục thể thao, các giải thi đấu thể thao thành phố
A4: Đơn vị tính: VNĐ
A6: TT | B6: MÔN THI, GIẢI THI ĐẤU | D6: Tổng số huy chương/giải | G6: Chế độ khen thưởng đang thực hiện theo quy định | H6: Định mức dự thảo Nghị quyết đang xây dựng | N6: Kinh phí thực hiện (nghìn đồng/ người/ngày) | Q6: Tổng cộng
D7: HCV | E7: HCB | F7: HCĐ | H7: HCV | I7: HCB | J7: HCĐ | N7: HCV | O7: HCB | P7: HCĐ
A8: I | B8: Đại hội TDTT cấp thành phố | N8: =SUM(N9:N10) -> 2177000000 | O8: =SUM(O9:O10) -> 1631500000 | P8: =SUM(P9:P10) -> 2045000000 | Q8: =SUM(Q9:Q10) -> 5853500000
A9: 1 | B9: Vận động viên | D9: 1081 | E9: 1081 | F9: 2038 | G9: Chưa quy định | H9: 2000000 | I9: =1500000 -> 1500000 | J9: 1000000 | N9: =SUM(D9*H9) -> 2162000000 | O9: =SUM(E9*I9) -> 1621500000 | P9: =SUM(F9*J9) -> 2038000000 | Q9: =SUM(N9:P9) -> 5821500000
A10: 2 | B10: Toàn đoàn | D10: 1 | E10: 1 | F10: 1 | G10: Chưa quy định | H10: =15000000 -> 15000000 | I10: =10000000 -> 10000000 | J10: =7000000 -> 7000000 | N10: =15000000 -> 15000000 | O10: =10000000 -> 10000000 | P10: =7000000 -> 7000000 | Q10: =SUM(N10:P10) -> 32000000
A11: II | B11: Giải thi đấu thể thao cấp thành phố | N11: =SUM(N12+N15) -> 387800000 | O11: =SUM(O12+O15) -> 259500000 | P11: =SUM(P12+P15) -> 296500000 | Q11: =SUM(Q12+Q15) -> 943800000
A12: 1 | B12: Giải thi đấu thể thao từng môn, Giải thể thao người khuyết tậi, Hội thi thể thao quần chúng cấp thành phố | N12: =SUM(N13:N14) -> 262800000 | O12: =SUM(O13:O14) -> 184000000 | P12: =SUM(P13:P14) -> 209000000 | Q12: =SUM(Q13:Q14) -> 655800000
A13: 1.1 | B13: Vận động viên | D13: 344 | E13: 335 | F13: 660 | G13: Chưa quy định | H13: 700000 | I13: =500000 -> 500000 | J13: =300000 -> 300000 | N13: =SUM(D13*H13) -> 240800000 | O13: =SUM(E13*I13) -> 167500000 | P13: =SUM(F13*J13) -> 198000000 | Q13: =SUM(N13:P13) -> 606300000
A14: 1.2 | B14: Toàn đoàn | D14: 11 | E14: 11 | F14: 11 | G14: Chưa quy định | H14: =2000000 -> 2000000 | I14: =1500000 -> 1500000 | J14: =1000000 -> 1000000 | N14: =SUM(D14*H14) -> 22000000 | O14: =SUM(E14*I14) -> 16500000 | P14: =SUM(F14*J14) -> 11000000 | Q14: =SUM(N14:P14) -> 49500000
A15: 2 | B15: Giải thi đấu thể thao hệ thống trẻ cấp thành phố | N15: =SUM(N16:N17) -> 125000000 | O15: =SUM(O16:O17) -> 75500000 | P15: =SUM(P16:P17) -> 87500000 | Q15: =SUM(Q16:Q17) -> 288000000
A16: 2.1 | B16: Vận động viên | D16: 235 | E16: 235 | F16: =420 -> 420 | G16: Chưa quy định | H16: 500000 | I16: =300000 -> 300000 | J16: =200000 -> 200000 | N16: =SUM(D16*H16) -> 117500000 | O16: =SUM(E16*I16) -> 70500000 | P16: =SUM(F16*J16) -> 84000000 | Q16: =SUM(N16:P16) -> 272000000
A17: 2.2 | B17: Toàn đoàn | D17: 5 | E17: 5 | F17: 5 | G17: Chưa quy định | H17: =1500000 -> 1500000 | I17: =1000000 -> 1000000 | J17: =700000 -> 700000 | N17: =SUM(D17*H17) -> 7500000 | O17: =SUM(E17*I17) -> 5000000 | P17: =SUM(F17*J17) -> 3500000 | Q17: =SUM(N17:P17) -> 16000000
B18: Tổng cộng I + II +III | N18: =SUM(N8+N11) -> 2564800000 | O18: =SUM(O8+O11) -> 1891000000 | P18: =SUM(P8+P11) -> 2341500000 | Q18: =SUM(Q8+Q11) -> 6797300000

Sheet PL 4.4.1
A1: PHỤ LỤC 4.4.1
A2: BẢNG DỰ KIẾN SỐ LƯỢNG HUY CHƯƠNG KHEN THƯỞNG
A3: CÁC GIẢI THỂ THAO CẤP THÀNH PHỐ
A5: TT | B5: TÊN CÁC GIẢI ĐẤU | C5: Số lượng | F5: Tổng cộng
C6: HCV | D6: HCB | E6: HCĐ
A7: I | B7: ĐẠI HỘI TDTT THÀNH PHỐ
A8: 1 | B8: Bóng đá | C8: 25 | D8: 25 | E8: 50 | F8: 100
A9: 2 | B9: Cầu lông | C9: 16 | D9: 16 | E9: 32 | F9: 64
A10: 3 | B10: Bóng bàn | C10: 18 | D10: 18 | E10: 18 | F10: 54
A11: 4 | B11: Võ Cổ truyền | C11: 38 | D11: 38 | E11: 76 | F11: 152
A12: 5 | B12: Pencaksila | C12: 14 | D12: 14 | E12: 28 | F12: 56
A13: 6 | B13: Việt Dã | C13: 4 | D13: 4 | E13: 4 | F13: 12
A14: 7 | B14: Điền kinh trong sân | C14: 60 | D14: 60 | E14: 120 | F14: 240
A15: 8 | B15: Taekwondo | C15: 42 | D15: 42 | E15: 84 | F15: 168
A16: 9 | B16: Cờ vua | C16: 18 | D16: 18 | E16: 36 | F16: 72
A17: 10 | B17: Cờ tướng | C17: 9 | D17: 9 | E17: 18 | F17: 36
A18: 11 | B18: Dân vũ | C18: 180 | D18: 180 | E18: 360 | F18: 720
A19: 12 | B19: Karate | C19: 44 | D19: 44 | E19: 88 | F19: 176
... A33: 26 | B33: Dự phòng | C33: 100 | D33: 100 | E33: 160 | F33: 360
A34: Cộng | C34: =SUM(C8:C33) -> 1081 | D34: =SUM(D8:D33) -> 1081 | E34: =SUM(E8:E33) -> 2038 | F34: =SUM(F8:F33) -> 4200
A35: II | B35: HỆ THỐNG GIẢI TRẺ
A36: 1 | B36: Giải Bóng bàn trẻ thiếu niên, nhi đồng | C36: 40 | D36: 40 | E36: 80 | F36: =SUM(C36:E36) -> 160
A37: 2 | B37: Giải Bóng đá Hoa phượng | C37: 15 | D37: 15 | E37: 30 | F37: =SUM(C37:E37) -> 60
A38: 3 | B38: Giải Bơi thiếu niên nhi đồng, Bơi cứu đuối phòng chống tai nạn thương tích cho trẻ em | C38: 100 | D38: 100 | E38: 150 | F38: =SUM(C38:E38) -> 350
A39: 4 | B39: Giải Cờ vua trẻ | C39: 60 | D39: 60 | E39: 120 | F39: =SUM(C39:E39) -> 240
A40: 5 | B40: Bóng chuyền trẻ | C40: 20 | D40: 20 | E40: 40 | F40: =SUM(C40:E40) -> 80
A41: Cộng | C41: =SUM(C36:C40) -> 235 | D41: =SUM(D36:D40) -> 235 | E41: =SUM(E36:E40) -> 420 | F41: =SUM(C41:E41) -> 890
A42: II | B42: HỆ THỐNG GIẢI THÀNH PHỐ
A43: 1 | B43: Giải Vô địch Bóng đá các CLB Hải Phòng | C43: 25 | D43: 25 | E43: 50 | F43: =SUM(C43:E43) -> 100
A44: 2 | B44: Giải quần vợt CLB Hải Phòng | C44: 40 | D44: 40 | E44: 80 | F44: =SUM(C44:E44) -> 160
A45: 3 | B45: Giải Ngày Thể thao Việt Nam 27/3 | C45: 30 | D45: 30 | E45: 60 | F45: =SUM(C45:E45) -> 120
A46: 4 | B46: Giải Vô địch Cầu lông các CLB Hải Phòng | C46: 40 | D46: 40 | E46: 80 | F46: =SUM(C46:E46) -> 160
A47: 5 | B47: Thể thao người khuyết tật | C47: 50 | D47: 50 | E47: 100 | F47: =SUM(C47:E47) -> 200
A48: 6 | B48: Giải Bóng chuyền hơi | C48: 30 | D48: 30 | E48: 60 | F48: =SUM(C48:E48) -> 120
A49: 7 | B49: Giải thể hình | C49: 20 | D49: 20 | E49: 40 | F49: =SUM(C49:E49) -> 80
A50: 8 | B50: Giải Vật tự do | C50: 40 | D50: 40 | E50: 80 | F50: =SUM(C50:E50) -> 160
A51: 9 | B51: Giải Pickleball các Câu lạc bộ thành phố | C51: 29 | D51: 20 | E51: 40 | F51: =SUM(C51:E51) -> 89
A52: 10 | B52: Giải Vô địch Bóng chuyền hơi | C52: 30 | D52: 30 | E52: 60 | F52: =SUM(C52:E52) -> 120
A53: 11 | B53: Giải Marathon thành phố | C53: 10 | D53: 10 | E53: 10 | F53: =SUM(C53:E53) -> 30
B54: Cộng | C54: =SUM(C43:C53) -> 344 | D54: =SUM(D43:D53) -> 335 | E54: =SUM(E43:E53) -> 660 | F54: =SUM(F43:F53) -> 1339

Sheet PL4.3
A1: PHỤ LỤC 4.3
A2: Dự kiến kinh phí mức thưởng cho huấn luyện viên, vận động viên lập thành tích tại các giải thể thao Quốc gia, Quốc tế dành cho Người khuyết tật
A4: Đơn vị tính: VNĐ
A5: TT | B5: MÔN THI, GIẢI THI ĐẤU | D5: Tổng số huy chương | G5: Chế độ đang thực hiện (Nghị quyết số 12/2023/NQ-HĐND, NQ số 24/2024/NQ-HĐND) | H5: Định mức dự thảo Nghị quyết đang xây dựng (Kế thừa NQ số 12/2023/NQ-HĐND, NQ số 24/2024/NQ-HĐND | N5: Kinh phí thực hiện (nghìn đồng/ người/ngày) | Q5: Tổng cộng
D6: HCV | E6: HCB | F6: HCĐ | H6: HCV | I6: HCB | J6: HCĐ | N6: HCV | O6: HCB | P6: HCĐ
A7: I | B7: Các giải thi đấu thể thao Quốc gia dành cho Người khuyết tật | N7: =SUM(N8:N9) -> 280000000 | O7: =SUM(O8:O9) -> 200000000 | P7: =SUM(P8:P9) -> 480000000 | Q7: =SUM(N7:P7) -> 960000000
A8: 1 | B8: Vận động viên | D8: 4 | E8: 5 | F8: 16 | G8: HCV: 35.000.000 HCB: 20.000.000 HCĐ: 15.000.000 | H8: 35000000 | I8: 20000000 | J8: 15000000 | N8: =SUM(D8*H8) -> 140000000 | O8: =SUM(E8*I8) -> 100000000 | P8: =SUM(F8*J8) -> 240000000
A9: 2 | B9: Huấn luyện viên | N9: =SUM(D8*H8) -> 140000000 | O9: =SUM(E8*I8) -> 100000000 | P9: =SUM(F8*J8) -> 240000000
A10: II | B10: Giải thi đấu thể thao Quốc tế dành cho Người khuyết tật | Q10: =SUM(Q11+Q14) -> 350000000
A11: 1 | B11: Đại hội thể thao Người Khuyết tật Đông Nam Á | N11: =SUM(N12:N13) -> 150000000 | O11: =SUM(O12:O13) -> 70000000 | P11: =SUM(P12:P13) -> 50000000 | Q11: =SUM(N11:P11) -> 270000000
A12: 1.1 | B12: Vận động viên | D12: 1 | E12: 1 | F12: 1 | G12: HCV: 75.000.000 HCB: 35.000.000 HCĐ: 25.000.000 | H12: =75000000 -> 75000000 | I12: =35000000 -> 35000000 | J12: =25000000 -> 25000000 | N12: =SUM(D12*H12) -> 75000000 | O12: =SUM(E12*I12) -> 35000000 | P12: =SUM(F12*J12) -> 25000000
A13: 1.2 | B13: Huấn luyện viên | N13: =SUM(D12*H12) -> 75000000 | O13: =SUM(E12*I12) -> 35000000 | P13: =SUM(F12*J12) -> 25000000
A14: 2 | B14: Đại hội thể thao Người Khuyết tật Châu Á | N14: 0 | O14: 0 | P14: =SUM(P15:P16) -> 80000000 | Q14: =SUM(N14:P14) -> 80000000
A15: 2.1 | B15: Vận động viên | F15: 1 | G15: HCV: 100.000.000 HCB: 70.000.000 HCĐ: 40.000.000 | H15: =100000000 -> 100000000 | I15: =70000000 -> 70000000 | J15: =40000000 -> 40000000 | P15: =SUM(F15*J15) -> 40000000
A16: 2.2 | B16: Huấn luyện viên | P16: =SUM(F15*J15) -> 40000000
B17: Tổng cộng I + II | N17: =SUM(N7+N11+N14) -> 430000000 | O17: =SUM(O7+O11+O14) -> 270000000 | P17: =SUM(P7+P11+P14) -> 610000000 | Q17: =SUM(Q7+Q10) -> 1310000000

Sheet PL 4.3.1
A1: PHỤ LỤC 4.3.1
A2: BẢNG DỰ KIẾN SỐ LƯỢNG HUY CHƯƠNG ĐẠT ĐƯỢC TẠI CÁC GIẢI THỂ THAO QUỐC GIA, QUỐC TẾ GIÀNH CHO NGƯỜI KHUYẾT TẬT
A4: TT | B4: Môn thi | C4: Số lượng huy chương | F4: Tổng cộng | G4: Ghi chú
C5: HCV | D5: HCB | E5: HCĐ
A6: I | B6: Giải Thể thao Quốc gia | C6: 4 | D6: 5 | E6: 16 | F6: =SUM(C6:E6) -> 25
A7: 1 | B7: Giải Vô địch quốc gia các môn Cầu lông, bóng bàn người khuyết tật | C7: 2 | D7: 3 | E7: 10 | F7: =SUM(C7:E7) -> 15
A8: 2 | B8: Giải Vô địch quốc gia các môn Điền kinh, Bơi, Pickleball người khuyết tật | C8: 2 | D8: 2 | E8: 6 | F8: =SUM(C8:E8) -> 10
A9: II | B9: Giải thể thao Quốc tế | C9: 1 | D9: 1 | E9: 2 | F9: =SUM(C9:E9) -> 4
A10: 1 | B10: Đại hội Thể thao khuyết tật Đông Nam Á | C10: 1 | D10: 1 | E10: 1 | F10: =SUM(C10:E10) -> 3
A11: 2 | B11: Đại hội Thể thao Người khuyết tật Châu Á | E11: 1 | F11: =SUM(C11:E11) -> 1
A12: Tổng cộng | C12: =C9+C6 -> 5 | D12: =D9+D6 -> 6 | E12: =E9+E6 -> 18 | F12: =F9+F6 -> 29

Sheet PL 4.5
B1: PHỤ LỤC 4.5
A2: DỰ KIẾN TỔNG KINH PHÍ KHEN THƯỞNG QUỐC GIA, QUỐC TẾ TRONG 01 NĂM
A3: I. Đối với những năm không có Đại hội Thể thao toàn quốc và có Olympic:
A4: STT | B4: Nội dung chi | C4: Dự kiến kinh phí (Đvt: triệu đồng) | D4: Ghi chú
A5: 1 | B5: Tổng khen thưởng quốc gia: | C5: ='PL 4.5.1'!$C$13 -> 55170.5 | D5: Năm không có Đại hội Thể thao toàn quốc
A6: 2 | B6: Tổng khen thưởng quốc tế: | C6: ='PL 4.5.2'!L254 -> 8210.4375 | D6: Năm có Olympic
B7: Tổng kinh phí khen thưởng trong 01 năm: | C7: =SUM(C5:C6) -> 63380.938
A9: II. Đối với những năm không có Đại hội Thể thao toàn quốc và có SEA Games:
A10: STT | B10: Nội dung chi | C10: Dự kiến kinh phí (Đvt: triệu đồng) | D10: Ghi chú
A11: 1 | B11: Tổng khen thưởng quốc gia: | C11: ='PL 4.5.1'!$C$13 -> 55170.5 | D11: Năm không có Đại hội Thể thao toàn quốc
A12: 2 | B12: Tổng khen thưởng quốc tế: | C12: ='PL 4.5.2'!L85 -> 10357.375 | D12: Năm có SEA Games
B13: Tổng kinh phí khen thưởng trong 01 năm: | C13: =SUM(C11:C12) -> 65527.875
A15: III. Đối với những năm có Đại hội Thể thao toàn quốc và có Asiad:
A16: STT | B16: Nội dung chi | C16: Dự kiến kinh phí (Đvt: triệu đồng) | D16: Ghi chú
A17: 1 | B17: Tổng khen thưởng quốc gia: | C17: ='PL 4.5.1'!$C$24 -> 61887.75 | D17: Năm có Đại hội Thể thao toàn quốc
A18: 2 | B18: Tổng khen thưởng quốc tế: | C18: ='PL 4.5.2'!L170 -> 10572.938 | D18: Năm có Asiad
B19: Tổng kinh phí khen thưởng trong 01 năm: | C19: =SUM(C17:C18) -> 72460.688

Sheet PL 4.5.1
B1: PHỤ LỤC 4.5.1
A2: BẢNG DỰ KIẾN THÀNH TÍCH VÀ KHEN THƯỞNG CHO VẬN ĐỘNG VIÊN, HUẤN LUYỆN VIÊN GIÀNH THÀNH TÍCH TẠI CÁC GIẢI QUỐC GIA
A4: Năm | B4: HỆ THỐNG GIẢI | C4: THÀNH TÍCH | H4: MỨC THƯỞNG (Đvt: triệu đồng) | L4: SỐ LƯỢT VĐV ĐẠT THÀNH TÍCH | M4: CHI THƯỞNG (Đvt: triệu đồng)
C5: V | D5: B | E5: Đ | F5: PKL | G5: Cộng HC | H5: V | I5: B | J5: Đ | K5: PKL | M5: VĐV | N5: HLV
A6: Năm không tổ chức Đại hội Thể thao | B6: Vô địch các môn Thể thao | C6: ='Chi tiết 4.5.1 (1)'!C7+'Chi tiết 4.5.1 (1)'!C13 -> 60 | D6: ='Chi tiết 4.5.1 (1)'!D7+'Chi tiết 4.5.1 (1)'!D13 -> 80 | E6: ='Chi tiết 4.5.1 (1)'!E7+'Chi tiết 4.5.1 (1)'!E13 -> 110 | F6: ='Chi tiết 4.5.1 (1)'!F7+'Chi tiết 4.5.1 (1)'!F13 -> 2 | G6: =SUM(C6:E6) -> 250 | H6: 35 | I6: 20 | J6: 15 | K6: 30 | L6: ='Chi tiết 4.5.1 (1)'!H7+'Chi tiết 4.5.1 (1)'!H13 -> 522 | M6: ='Chi tiết 4.5.1 (1)'!I7+'Chi tiết 4.5.1 (1)'!I13 -> 13010 | N6: ='Chi tiết 4.5.1 (1)'!J7+'Chi tiết 4.5.1 (1)'!J13 -> 5767.5
B7: Cúp, đội mạnh, câu lạc bộ, nhóm vận động viên xuất sắc | C7: ='Chi tiết 4.5.1 (1)'!C8+'Chi tiết 4.5.1 (1)'!C14 -> 90 | D7: ='Chi tiết 4.5.1 (1)'!D8+'Chi tiết 4.5.1 (1)'!D14 -> 120 | E7: ='Chi tiết 4.5.1 (1)'!E8+'Chi tiết 4.5.1 (1)'!E14 -> 170 | F7: ='Chi tiết 4.5.1 (1)'!F8+'Chi tiết 4.5.1 (1)'!F14 -> 1 | G7: =SUM(C7:E7) -> 380 | H7: 20 | I7: 14 | J7: 8 | K7: 30 | L7: ='Chi tiết 4.5.1 (1)'!H8+'Chi tiết 4.5.1 (1)'!H14 -> 861 | M7: ='Chi tiết 4.5.1 (1)'!I8+'Chi tiết 4.5.1 (1)'!I14 -> 11110 | N7: ='Chi tiết 4.5.1 (1)'!J8+'Chi tiết 4.5.1 (1)'!J14 -> 5056.5
B8: Vô địch trẻ, Trẻ (từ 18 - dưới 21 tuổi) | C8: ='Chi tiết 4.5.1 (1)'!C9+'Chi tiết 4.5.1 (1)'!C15 -> 70 | D8: ='Chi tiết 4.5.1 (1)'!D9+'Chi tiết 4.5.1 (1)'!D15 -> 80 | E8: ='Chi tiết 4.5.1 (1)'!E9+'Chi tiết 4.5.1 (1)'!E15 -> 100 | F8: ='Chi tiết 4.5.1 (1)'!F9+'Chi tiết 4.5.1 (1)'!F15 -> 2 | G8: =SUM(C8:E8) -> 250 | H8: 20 | I8: 14 | J8: 8 | K8: 13 | L8: ='Chi tiết 4.5.1 (1)'!H9+'Chi tiết 4.5.1 (1)'!H15 -> 612 | M8: ='Chi tiết 4.5.1 (1)'!I9+'Chi tiết 4.5.1 (1)'!I15 -> 7906 | N8: ='Chi tiết 4.5.1 (1)'!J9+'Chi tiết 4.5.1 (1)'!J15 -> 3535.5
B9: Trẻ (từ 16 - dưới 18 tuổi) | C9: ='Chi tiết 4.5.1 (1)'!C10+'Chi tiết 4.5.1 (1)'!C16 -> 35 | D9: ='Chi tiết 4.5.1 (1)'!D10+'Chi tiết 4.5.1 (1)'!D16 -> 40 | E9: ='Chi tiết 4.5.1 (1)'!E10+'Chi tiết 4.5.1 (1)'!E16 -> 55 | F9: ='Chi tiết 4.5.1 (1)'!F10+'Chi tiết 4.5.1 (1)'!F16 -> 0 | G9: =SUM(C9:E9) -> 130 | H9: 13 | I9: 10 | J9: 7 | K9: 13 | L9: ='Chi tiết 4.5.1 (1)'!H10+'Chi tiết 4.5.1 (1)'!H16 -> 370 | M9: ='Chi tiết 4.5.1 (1)'!I10+'Chi tiết 4.5.1 (1)'!I16 -> 3520 | N9: ='Chi tiết 4.5.1 (1)'!J10+'Chi tiết 4.5.1 (1)'!J16 -> 1443
B10: Thiếu niên (từ 12 - dưới 16 tuổi) | C10: ='Chi tiết 4.5.1 (1)'!C11+'Chi tiết 4.5.1 (1)'!C17 -> 30 | D10: ='Chi tiết 4.5.1 (1)'!D11+'Chi tiết 4.5.1 (1)'!D17 -> 30 | E10: ='Chi tiết 4.5.1 (1)'!E11+'Chi tiết 4.5.1 (1)'!E17 -> 40 | F10: ='Chi tiết 4.5.1 (1)'!F11+'Chi tiết 4.5.1 (1)'!F17 -> 0 | G10: =SUM(C10:E10) -> 100 | H10: 10 | I10: 8 | J10: 6 | L10: ='Chi tiết 4.5.1 (1)'!H11+'Chi tiết 4.5.1 (1)'!H17 -> 220 | M10: ='Chi tiết 4.5.1 (1)'!I11+'Chi tiết 4.5.1 (1)'!I17 -> 1740 | N10: ='Chi tiết 4.5.1 (1)'!J11+'Chi tiết 4.5.1 (1)'!J17 -> 801
B11: Thiếu nhi (dưới 12 tuổi) | C11: ='Chi tiết 4.5.1 (1)'!C12+'Chi tiết 4.5.1 (1)'!C18 -> 20 | D11: ='Chi tiết 4.5.1 (1)'!D12+'Chi tiết 4.5.1 (1)'!D18 -> 30 | E11: ='Chi tiết 4.5.1 (1)'!E12+'Chi tiết 4.5.1 (1)'!E18 -> 40 | F11: ='Chi tiết 4.5.1 (1)'!F12+'Chi tiết 4.5.1 (1)'!F18 -> 0 | G11: =SUM(C11:E11) -> 90 | H11: 7 | I11: 5 | J11: 3 | L11: ='Chi tiết 4.5.1 (1)'!H12+'Chi tiết 4.5.1 (1)'!H18 -> 190 | M11: ='Chi tiết 4.5.1 (1)'!I12+'Chi tiết 4.5.1 (1)'!I18 -> 870 | N11: ='Chi tiết 4.5.1 (1)'!J12+'Chi tiết 4.5.1 (1)'!J18 -> 411
B12: Cộng: | C12: =SUM(C6:C11) -> 305 | D12: =SUM(D6:D11) -> 380 | E12: =SUM(E6:E11) -> 515 | F12: =SUM(F6:F11) -> 5 | G12: =SUM(G6:G11) -> 1200 | L12: =SUM(L6:L11) -> 2775 | M12: =SUM(M6:M11) -> 38156 | N12: =SUM(N6:N11) -> 17014.5
B13: Tổng tiền thưởng năm: | C13: =M12+N12 -> 55170.5 | F13: ='Chi tiết 4.5.1 (1)'!F20 -> Bằng chữ: Năm mươi lăm tỷ, một trăm bảy mươi mốt triệu đồng./.
A15: Năm | B15: HỆ THỐNG GIẢI | C15: THÀNH TÍCH | H15: MỨC THƯỞNG (Đvt: triệu đồng) | L15: SỐ LƯỢT VĐV ĐẠT THÀNH TÍCH | M15: CHI THƯỞNG (Đvt: triệu đồng)
C16: V | D16: B | E16: Đ | F16: PKL | G16: Cộng HC | H16: V | I16: B | J16: Đ | K16: PKL | M16: VĐV | N16: HLV
A17: Năm tổ chức Đại hội Thể thao | B17: Đại hội Thể thao toàn quốc | C17: ='Chi tiết 4.5.1 (2)'!C7+'Chi tiết 4.5.1 (2)'!C13 -> 55 | D17: ='Chi tiết 4.5.1 (2)'!D7+'Chi tiết 4.5.1 (2)'!D13 -> 70 | E17: ='Chi tiết 4.5.1 (2)'!E7+'Chi tiết 4.5.1 (2)'!E13 -> 95 | F17: ='Chi tiết 4.5.1 (2)'!F7+'Chi tiết 4.5.1 (2)'!F13 -> 2 | G17: =SUM(C17:E17) -> 220 | H17: 50 | I17: 30 | J17: 20 | K17: 30 | L17: ='Chi tiết 4.5.1 (2)'!H7+'Chi tiết 4.5.1 (2)'!H13 -> 582 | M17: ='Chi tiết 4.5.1 (2)'!I7+'Chi tiết 4.5.1 (2)'!I13 -> 17610 | N17: ='Chi tiết 4.5.1 (2)'!J7+'Chi tiết 4.5.1 (2)'!J13 -> 8565
B18: Cúp, đội mạnh, câu lạc bộ, nhóm vận động viên xuất sắc | C18: ='Chi tiết 4.5.1 (2)'!C8+'Chi tiết 4.5.1 (2)'!C14 -> 90 | D18: ='Chi tiết 4.5.1 (2)'!D8+'Chi tiết 4.5.1 (2)'!D14 -> 120 | E18: ='Chi tiết 4.5.1 (2)'!E8+'Chi tiết 4.5.1 (2)'!E14 -> 170 | F18: ='Chi tiết 4.5.1 (2)'!F8+'Chi tiết 4.5.1 (2)'!F14 -> 1 | G18: =SUM(C18:E18) -> 380 | H18: 20 | I18: 14 | J18: 8 | K18: 30 | L18: ='Chi tiết 4.5.1 (2)'!H8+'Chi tiết 4.5.1 (2)'!H14 -> 861 | M18: ='Chi tiết 4.5.1 (2)'!I8+'Chi tiết 4.5.1 (2)'!I14 -> 9160 | N18: ='Chi tiết 4.5.1 (2)'!J8+'Chi tiết 4.5.1 (2)'!J14 -> 5240.5
B19: Vô địch trẻ, Trẻ (từ 18 - dưới 21 tuổi) | C19: ='Chi tiết 4.5.1 (2)'!C9+'Chi tiết 4.5.1 (2)'!C15 -> 70 | D19: ='Chi tiết 4.5.1 (2)'!D9+'Chi tiết 4.5.1 (2)'!D15 -> 80 | E19: ='Chi tiết 4.5.1 (2)'!E9+'Chi tiết 4.5.1 (2)'!E15 -> 100 | F19: ='Chi tiết 4.5.1 (2)'!F9+'Chi tiết 4.5.1 (2)'!F15 -> 2 | G19: =SUM(C19:E19) -> 250 | H19: 20 | I19: 14 | J19: 8 | K19: 13 | L19: ='Chi tiết 4.5.1 (2)'!H9+'Chi tiết 4.5.1 (2)'!H15 -> 612 | M19: ='Chi tiết 4.5.1 (2)'!I9+'Chi tiết 4.5.1 (2)'!I15 -> 7906 | N19: ='Chi tiết 4.5.1 (2)'!J9+'Chi tiết 4.5.1 (2)'!J15 -> 4087
B20: Trẻ (từ 16 - dưới 18 tuổi) | C20: ='Chi tiết 4.5.1 (2)'!C10+'Chi tiết 4.5.1 (2)'!C16 -> 35 | D20: ='Chi tiết 4.5.1 (2)'!D10+'Chi tiết 4.5.1 (2)'!D16 -> 40 | E20: ='Chi tiết 4.5.1 (2)'!E10+'Chi tiết 4.5.1 (2)'!E16 -> 55 | F20: ='Chi tiết 4.5.1 (2)'!F10+'Chi tiết 4.5.1 (2)'!F16 -> 0 | G20: =SUM(C20:E20) -> 130 | H20: 13 | I20: 10 | J20: 7 | K20: 13 | L20: ='Chi tiết 4.5.1 (2)'!H10+'Chi tiết 4.5.1 (2)'!H16 -> 370 | M20: ='Chi tiết 4.5.1 (2)'!I10+'Chi tiết 4.5.1 (2)'!I16 -> 3520 | N20: ='Chi tiết 4.5.1 (2)'!J10+'Chi tiết 4.5.1 (2)'!J16 -> 1610.5
B21: Thiếu niên (từ 12 - dưới 16 tuổi) | C21: ='Chi tiết 4.5.1 (2)'!C11+'Chi tiết 4.5.1 (2)'!C17 -> 30 | D21: ='Chi tiết 4.5.1 (2)'!D11+'Chi tiết 4.5.1 (2)'!D17 -> 30 | E21: ='Chi tiết 4.5.1 (2)'!E11+'Chi tiết 4.5.1 (2)'!E17 -> 40 | F21: ='Chi tiết 4.5.1 (2)'!F11+'Chi tiết 4.5.1 (2)'!F17 -> 0 | G21: =SUM(C21:E21) -> 100 | H21: 10 | I21: 8 | J21: 6 | L21: ='Chi tiết 4.5.1 (2)'!H11+'Chi tiết 4.5.1 (2)'!H17 -> 220 | M21: ='Chi tiết 4.5.1 (2)'!I11+'Chi tiết 4.5.1 (2)'!I17 -> 1740 | N21: ='Chi tiết 4.5.1 (2)'!J11+'Chi tiết 4.5.1 (2)'!J17 -> 1140
B22: Thiếu nhi (dưới 12 tuổi) | C22: ='Chi tiết 4.5.1 (2)'!C12+'Chi tiết 4.5.1 (2)'!C18 -> 20 | D22: ='Chi tiết 4.5.1 (2)'!D12+'Chi tiết 4.5.1 (2)'!D18 -> 30 | E22: ='Chi tiết 4.5.1 (2)'!E12+'Chi tiết 4.5.1 (2)'!E18 -> 40 | F22: ='Chi tiết 4.5.1 (2)'!F12+'Chi tiết 4.5.1 (2)'!F18 -> 0 | G22: =SUM(C22:E22) -> 90 | H22: 7 | I22: 5 | J22: 3 | L22: ='Chi tiết 4.5.1 (2)'!H12+'Chi tiết 4.5.1 (2)'!H18 -> 190 | M22: ='Chi tiết 4.5.1 (2)'!I12+'Chi tiết 4.5.1 (2)'!I18 -> 870 | N22: ='Chi tiết 4.5.1 (2)'!J12+'Chi tiết 4.5.1 (2)'!J18 -> 438.75
B23: Cộng: | C23: =SUM(C17:C22) -> 300 | D23: =SUM(D17:D22) -> 370 | E23: =SUM(E17:E22) -> 500 | F23: =SUM(F17:F22) -> 5 | G23: =SUM(G17:G22) -> 1170 | L23: =SUM(L17:L22) -> 2835 | M23: =SUM(M17:M22) -> 40806 | N23: =SUM(N17:N22) -> 21081.75
B24: Tổng tiền thưởng năm: | C24: =M23+N23 -> 61887.75 | F24: ='Chi tiết 4.5.1 (2)'!F20 -> Bằng chữ: Sáu mươi mốt tỷ, tám trăm tám mươi tám triệu đồng./.
A25: Ghi chú: Ngoài số lượng HC dự kiến trong bảng, hàng năm Thể thao thành tích cao thành phố dự kiến giành được thêm từ 50 - 60 huy chương các loại tại các giải mở rộng và khu vực (không thuộc diện được khen thưởng theo Đề án)

Sheet Chi tiết 4.5.1 (1)
B1: PHỤ LỤC 4.5.1.1
A2: BẢNG DỰ KIẾN THÀNH TÍCH VÀ KHEN THƯỞNG CHO VẬN ĐỘNG VIÊN, HUẤN LUYỆN VIÊN GIÀNH THÀNH TÍCH TẠI CÁC GIẢI QUỐC GIA
A3: NHỮNG NĂM KHÔNG TỔ CHỨC ĐẠI HỘI THỂ THAO TOÀN QUỐC
A5: Giải | B5: HỆ THỐNG GIẢI | C5: THÀNH TÍCH | H5: SỐ LƯỢNG VĐV ĐẠT THÀNH TÍCH | I5: CHI THƯỞNG (Đvt: triệu đồng)
C6: V | D6: B | E6: Đ | F6: PKL | G6: Cộng HC | I6: VĐV | J6: HLV
A7: Cá nhân | B7: Vô địch các môn Thể thao | C7: 40 | D7: 50 | E7: 70 | F7: 2 | G7: =SUM(C7:E7) -> 160 | H7: =C7+D7+E7+F7 -> 162 | I7: =C7*35+D7*20+E7*15+F7*30 -> 3510 | J7: =I7*0.75 -> 2632.5
B8: Cúp, đội mạnh, câu lạc bộ, nhóm vận động viên xuất sắc | C8: 60 | D8: 80 | E8: 120 | F8: 1 | G8: =SUM(C8:E8) -> 260 | H8: =C8+D8+E8+F8 -> 261 | I8: =C8*20+D8*14+E8*8+F8*30 -> 3310 | J8: =I8*0.75 -> 2482.5
B9: Vô địch trẻ, Trẻ (từ 18 - dưới 21 tuổi) | C9: 50 | D9: 50 | E9: 60 | F9: 2 | G9: =SUM(C9:E9) -> 160 | H9: =C9+D9+E9+F9 -> 162 | I9: =C9*20+D9*14+E9*8+F9*13 -> 2206 | J9: =I9*0.75 -> 1654.5
B10: Trẻ (từ 16 - dưới 18 tuổi) | C10: 20 | D10: 20 | E10: 30 | G10: =SUM(C10:E10) -> 70 | H10: =C10+D10+E10+F10 -> 70 | I10: =C10*13+D10*10+E10*7+F10*13 -> 670 | J10: =I10*0.75 -> 502.5
B11: Thiếu niên (từ 12 - dưới 16 tuổi) | C11: 20 | D11: 20 | E11: 30 | G11: =SUM(C11:E11) -> 70 | H11: =C11+D11+E11+F11 -> 70 | I11: =C11*10+D11*8+E11*6 -> 540 | J11: =I11*0.75 -> 405
B12: Thiếu nhi (dưới 12 tuổi) | C12: 15 | D12: 20 | E12: 30 | G12: =SUM(C12:E12) -> 65 | H12: =C12+D12+E12+F12 -> 65 | I12: =C12*7+D12*5+E12*3 -> 295 | J12: =I12*0.75 -> 221.25
A13: Tập thể | B13: Vô địch các môn Thể thao | C13: 20 | D13: 30 | E13: 40 | G13: =SUM(C13:E13) -> 90 | H13: =(C13+D13+E13)*4 -> 360 | I13: =(C13*35*5)+(D13*20*5)+(E13*15*5) -> 9500 | J13: =I13*0.33 -> 3135
B14: Cúp, đội mạnh, câu lạc bộ, nhóm vận động viên xuất sắc | C14: 30 | D14: 40 | E14: 50 | G14: =SUM(C14:E14) -> 120 | H14: =(C14+D14+E14)*5 -> 600 | I14: =(C14*20*5)+(D14*14*5)+(E14*8*5) -> 7800 | J14: =I14*0.33 -> 2574
B15: Vô địch trẻ, Trẻ (từ 18 - dưới 21 tuổi) | C15: 20 | D15: 30 | E15: 40 | G15: =SUM(C15:E15) -> 90 | H15: =(C15+D15+E15)*5 -> 450 | I15: =(C15*20*5)+(D15*14*5)+(E15*8*5) -> 5700 | J15: =I15*0.33 -> 1881
B16: Trẻ (từ 16 - dưới 18 tuổi) | C16: 15 | D16: 20 | E16: 25 | G16: =SUM(C16:E16) -> 60 | H16: =(C16+D16+E16)*5 -> 300 | I16: =(C16*13*5)+(D16*10*5)+(E16*7*5) -> 2850 | J16: =I16*0.33 -> 940.5
B17: Thiếu niên (từ 12 - dưới 16 tuổi) | C17: 10 | D17: 10 | E17: 10 | G17: =SUM(C17:E17) -> 30 | H17: =(C17+D17+E17)*5 -> 150 | I17: =(C17*10*5)+(D17*8*5)+(E17*6*5) -> 1200 | J17: =I17*0.33 -> 396
B18: Thiếu nhi (dưới 12 tuổi) | C18: 5 | D18: 10 | E18: 10 | G18: =SUM(C18:E18) -> 25 | H18: =(C18+D18+E18)*5 -> 125 | I18: =(C18*7*5)+(D18*5*5)+(E18*3*5) -> 575 | J18: =I18*0.33 -> 189.75
B19: Tổng: | C19: =SUM(C7:C18) -> 305 | D19: =SUM(D7:D18) -> 380 | E19: =SUM(E7:E18) -> 515 | F19: =SUM(F7:F18) -> 5 | G19: =SUM(G7:G18) -> 1200 | H19: =SUM(H7:H18) -> 2775 | I19: =SUM(I7:I18) -> 38156 | J19: =SUM(J7:J18) -> 17014.5
B20: Tổng tiền thưởng năm: | C20: =(I19+J19) -> 55170.5 | F20: Bằng chữ: Năm mươi lăm tỷ, một trăm bảy mươi mốt triệu đồng./.
A21: Ghi chú: Ngoài số lượng HC dự kiến trong bảng, hàng năm Thể thao thành tích cao của Trung tâm dự kiến giành được thêm từ 60 - 70 huy chương các loại tại các giải mở rộng và khu vực (không thuộc diện được khen thưởng theo Đề án)

Sheet Chi tiết 4.5.1 (2)
B1: PHỤ LỤC 4.5.1.2
A2: BẢNG DỰ KIẾN THÀNH TÍCH VÀ KHEN THƯỞNG CHO VẬN ĐỘNG VIÊN, HUẤN LUYỆN VIÊN GIÀNH THÀNH TÍCH TẠI CÁC GIẢI QUỐC GIA
A3: NHỮNG NĂM TỔ CHỨC ĐẠI HỘI THỂ THAO TOÀN QUỐC
A5: Giải | B5: HỆ THỐNG GIẢI | C5: THÀNH TÍCH | H5: SỐ LƯỢNG VĐV ĐẠT THÀNH TÍCH | I5: CHI THƯỞNG (Đvt: triệu đồng)
C6: V | D6: B | E6: Đ | F6: PKL | G6: Cộng HC | I6: VĐV | J6: HLV
A7: Cá nhân | B7: Đại hội Thể thao toàn quốc | C7: 35 | D7: 40 | E7: 55 | F7: 2 | G7: =SUM(C7:E7) -> 130 | H7: =C7+D7+E7+F7 -> 132 | I7: =C7*50+D7*30+E7*20+F7*30 -> 4110 | J7: =I7 -> 4110
B8: Cúp, đội mạnh, câu lạc bộ, nhóm vận động viên xuất sắc | C8: 60 | D8: 80 | E8: 120 | F8: 1 | G8: =SUM(C8:E8) -> 260 | H8: =C8+D8+E8+F8 -> 261 | I8: =C8*20+D8*14+E8*8+F8*30 -> 3310 | J8: =I8 -> 3310
B9: Vô địch trẻ, Trẻ (từ 18 - dưới 21 tuổi) | C9: 50 | D9: 50 | E9: 60 | F9: 2 | G9: =SUM(C9:E9) -> 160 | H9: =C9+D9+E9+F9 -> 162 | I9: =C9*20+D9*14+E9*8+F9*13 -> 2206 | J9: =I9 -> 2206
B10: Trẻ (từ 16 - dưới 18 tuổi) | C10: 20 | D10: 20 | E10: 30 | G10: =SUM(C10:E10) -> 70 | H10: =C10+D10+E10+F10 -> 70 | I10: =C10*13+D10*10+E10*7+F10*13 -> 670 | J10: =I10 -> 670
B11: Thiếu niên (từ 12 - dưới 16 tuổi) | C11: 20 | D11: 20 | E11: 30 | G11: =SUM(C11:E11) -> 70 | H11: =C11+D11+E11+F11 -> 70 | I11: =C11*10+D11*8+E11*6 -> 540 | J11: =I11 -> 540
B12: Thiếu nhi (dưới 12 tuổi) | C12: 15 | D12: 20 | E12: 30 | G12: =SUM(C12:E12) -> 65 | H12: =C12+D12+E12+F12 -> 65 | I12: =C12*7+D12*5+E12*3 -> 295 | J12: =I12 -> 295
A13: Tập thể | B13: Đại hội Thể thao toàn quốc | C13: 20 | D13: 30 | E13: 40 | G13: =SUM(C13:E13) -> 90 | H13: =(C13+D13+E13)*5 -> 450 | I13: =(C13*50*5)+(D13*30*5)+(E13*20*5) -> 13500 | J13: =I13*0.33 -> 4455
B14: Cúp, đội mạnh, câu lạc bộ, nhóm vận động viên xuất sắc | C14: 30 | D14: 40 | E14: 50 | G14: =SUM(C14:E14) -> 120 | H14: =(C14+D14+E14)*5 -> 600 | I14: =(C15*20*5)+(D15*15*5)+(E15*8*5) -> 5850 | J14: =I14*0.33 -> 1930.5
B15: Vô địch trẻ, Trẻ (từ 18 - dưới 21 tuổi) | C15: 20 | D15: 30 | E15: 40 | G15: =SUM(C15:E15) -> 90 | H15: =(C15+D15+E15)*5 -> 450 | I15: =(C15*20*5)+(D15*14*5)+(E15*8*5) -> 5700 | J15: =I15*0.33 -> 1881
B16: Trẻ (từ 16 - dưới 18 tuổi) | C16: 15 | D16: 20 | E16: 25 | G16: =SUM(C16:E16) -> 60 | H16: =(C16+D16+E16)*5 -> 300 | I16: =(C16*13*5)+(D16*10*5)+(E16*7*5) -> 2850 | J16: =I16*0.33 -> 940.5
B17: Thiếu niên (từ 12 - dưới 16 tuổi) | C17: 10 | D17: 10 | E17: 10 | G17: =SUM(C17:E17) -> 30 | H17: =(C17+D17+E17)*5 -> 150 | I17: =(C17*10*5)+(D17*8*5)+(E17*6*5) -> 1200 | J17: =I17*0.5 -> 600
B18: Thiếu nhi (dưới 12 tuổi) | C18: 5 | D18: 10 | E18: 10 | G18: =SUM(C18:E18) -> 25 | H18: =(C18+D18+E18)*5 -> 125 | I18: =(C18*7*5)+(D18*5*5)+(E18*3*5) -> 575 | J18: =I18*0.25 -> 143.75
B19: Tổng: | C19: =SUM(C7:C18) -> 300 | D19: =SUM(D7:D18) -> 370 | E19: =SUM(E7:E18) -> 500 | F19: =SUM(F7:F18) -> 5 | G19: =SUM(G7:G18) -> 1170 | H19: =SUM(H7:H18) -> 2835 | I19: =SUM(I7:I18) -> 40806 | J19: =SUM(J7:J18) -> 21081.75
B20: Tổng tiền thưởng năm: | C20: =(I19+J19) -> 61887.75 | F20: Bằng chữ: Sáu mươi mốt tỷ, tám trăm tám mươi tám triệu đồng./.
A21: Ghi chú: Ngoài số lượng HC dự kiến trong bảng, hàng năm Thể thao thành tích cao của Trung tâm dự kiến giành được thêm từ 60 - 70 huy chương các loại tại các giải mở rộng và khu vực (không thuộc diện được khen thưởng theo Đề án)

Sheet PL 4.5.2
A1: PHỤ LỤC 4.5.2
A2: (Dự kiến chi thưởng cho vận động viên, huấn luyện viên đạt thành tích tại các giải thể thao khu vực và quốc tế)
A3: I. Những năm Đại hội Thể thao Đông Nam Á - SEA Games (diễn ra tại các năm 2027, 2029…)
A5: STT | B5: Hệ thống giải đấu | C5: Ước lượng số giải | D5: Ước số lượng thành tích/Mức thưởng | L5: Ước lượng số tiền thưởng (Triệu đồng)
D6: HCV | E6: Mức thưởng (triệu đồng) | F6: HCB | G6: Mức thưởng (triệu đồng) | H6: HCĐ | I6: Mức thưởng (triệu đồng) | J6: Phá Kỷ lục | K6: Mức thưởng (triệu đồng)
A7: I. Thưởng cho vận động viên:
A8: 1 | B8: SEA Games | C8: 1 | D8: 8 | E8: 100 | F8: 5 | G8: 70 | H8: 5 | I8: 55 | K8: =I8 -> 55 | L8: =(D8*E8)+(F8*G8)+(H8*I8)+(J8*K8) -> 1425
A9: 2 | B9: Vô địch Thế giới | L9: =(D9*E9)+(F9*G9)+(H9*I9)+(J9*K9) -> 0
B10: Nhóm 1: | C10: 1 | E10: 250 | F10: 1 | G10: 150 | H10: 1 | I10: 100 | K10: =I10 -> 100 | L10: =(D10*E10)+(F10*G10)+(H10*I10)+(J10*K10) -> 250
B11: Nhóm 2: | C11: 2 | D11: 2 | E11: 100 | F11: 1 | G11: 60 | H11: 1 | I11: 40 | K11: =I11 -> 40 | L11: =(D11*E11)+(F11*G11)+(H11*I11)+(J11*K11) -> 300
B12: Nhóm 3: | C12: 2 | D12: 2 | E12: 60 | F12: 1 | G12: 40 | H12: 1 | I12: 30 | K12: =I12 -> 30 | L12: =(D12*E12)+(F12*G12)+(H12*I12)+(J12*K12) -> 190
A13: 3 | B13: Vô địch trẻ Thế giới | L13: =(D13*E13)+(F13*G13)+(H13*I13)+(J13*K13) -> 0
A14: 3.1 | B14: Lứa tuổi 18 - dưới 21
B15: Nhóm 1: | C15: 1 | E15: =E10*0.75 -> 187.5 | F15: 1 | G15: =G10*0.75 -> 112.5 | H15: 1 | I15: =I10*0.75 -> 75 | K15: =K10*0.75 -> 75 | L15: =(D15*E15)+(F15*G15)+(H15*I15)+(J15*K15) -> 187.5
B16: Nhóm 2: | C16: 2 | D16: 1 | E16: =E11*0.75 -> 75 | F16: 1 | G16: =G11*0.75 -> 45 | H16: 1 | I16: =I11*0.75 -> 30 | K16: =K11*0.75 -> 30 | L16: =(D16*E16)+(F16*G16)+(H16*I16)+(J16*K16) -> 150
B17: Nhóm 3: | C17: 3 | D17: 2 | E17: =E12*0.75 -> 45 | F17: 2 | G17: =G12*0.75 -> 30 | H17: 2 | I17: =I12*0.75 -> 22.5 | K17: =K12*0.75 -> 22.5 | L17: =(D17*E17)+(F17*G17)+(H17*I17)+(J17*K17) -> 195
A18: 3.2 | B18: Lứa tuổi 16 - dưới 18
B19: Nhóm 1: | C19: 1 | E19: =E10*0.4 -> 100 | F19: 1 | G19: =G10*0.4 -> 60 | H19: 1 | I19: =I10*0.4 -> 40 | K19: =K10*0.4 -> 40 | L19: =(D19*E19)+(F19*G19)+(H19*I19)+(J19*K19) -> 100
B20: Nhóm 2: | C20: 1 | D20: 2 | E20: =E11*0.4 -> 40 | F20: 1 | G20: =G11*0.4 -> 24 | H20: 1 | I20: =I11*0.4 -> 16 | K20: =K11*0.4 -> 16 | L20: =(D20*E20)+(F20*G20)+(H20*I20)+(J20*K20) -> 120
B21: Nhóm 3: | C21: 1 | D21: 1 | E21: =E12*0.4 -> 24 | F21: 1 | G21: =G12*0.4 -> 16 | H21: 1 | I21: =I12*0.4 -> 12 | K21: =K12*0.4 -> 12 | L21: =(D21*E21)+(F21*G21)+(H21*I21)+(J21*K21) -> 52
A22: 3.3 | B22: Lứa tuổi 12 - dưới 16
B23: Nhóm 1: | C23: 1 | D23: 1 | E23: =E10*0.3 -> 75 | F23: 1 | G23: =G10*0.3 -> 45 | H23: 1 | I23: =I10*0.3 -> 30 | K23: =K10*0.3 -> 30 | L23: =(D23*E23)+(F23*G23)+(H23*I23)+(J23*K23) -> 150
B24: Nhóm 2: | C24: 1 | D24: 1 | E24: =E11*0.3 -> 30 | F24: 1 | G24: =G11*0.3 -> 18 | H24: 1 | I24: =I11*0.3 -> 12 | K24: =K11*0.3 -> 12 | L24: =(D24*E24)+(F24*G24)+(H24*I24)+(J24*K24) -> 60
B25: Nhóm 3: | C25: 3 | D25: 2 | E25: =E12*0.3 -> 18 | F25: 3 | G25: =G12*0.3 -> 12 | H25: 5 | I25: =I12*0.3 -> 9 | K25: =K12*0.3 -> 9 | L25: =(D25*E25)+(F25*G25)+(H25*I25)+(J25*K25) -> 117
A26: 3.4 | B26: Lứa tuổi dưới 12
B27: Nhóm 1: | C27: 1 | D27: 1 | E27: =E10*0.2 -> 50 | F27: 1 | G27: =G10*0.2 -> 30 | H27: 1 | I27: =I10*0.2 -> 20 | K27: =K10*0.2 -> 20 | L27: =(D27*E27)+(F27*G27)+(H27*I27)+(J27*K27) -> 100
B28: Nhóm 2: | C28: 1 | D28: 1 | E28: =E11*0.2 -> 20 | F28: 1 | G28: =G11*0.2 -> 12 | H28: 1 | I28: =I11*0.2 -> 8 | K28: =K11*0.2 -> 8 | L28: =(D28*E28)+(F28*G28)+(H28*I28)+(J28*K28) -> 40
B29: Nhóm 3: | C29: 3 | D29: 5 | E29: =E12*0.2 -> 12 | F29: 5 | G29: =G12*0.2 -> 8 | H29: 10 | I29: =I12*0.2 -> 6 | K29: =K12*0.2 -> 6 | L29: =(D29*E29)+(F29*G29)+(H29*I29)+(J29*K29) -> 160
A30: 4 | B30: Cúp Thế giới | L30: =(D30*E30)+(F30*G30)+(H30*I30)+(J30*K30) -> 0
B31: Nhóm 1: | C31: 2 | D31: 1 | E31: =E10/2 -> 125 | F31: 1 | G31: =G10/2 -> 75 | H31: 1 | I31: =I10/2 -> 50 | K31: =K10/2 -> 50 | L31: =(D31*E31)+(F31*G31)+(H31*I31)+(J31*K31) -> 250
B32: Nhóm 2: | C32: 4 | D32: 2 | E32: =E11/2 -> 50 | F32: 3 | G32: =G11/2 -> 30 | H32: 4 | I32: =I11/2 -> 20 | K32: =K11/2 -> 20 | L32: =(D32*E32)+(F32*G32)+(H32*I32)+(J32*K32) -> 270
B33: Nhóm 3: | C33: 5 | D33: 6 | E33: =E12/2 -> 30 | F33: 6 | G33: =G12/2 -> 20 | H33: 6 | I33: =I12/2 -> 15 | K33: =K12/2 -> 15 | L33: =(D33*E33)+(F33*G33)+(H33*I33)+(J33*K33) -> 390
A34: 5 | B34: Vô địch Châu Á | L34: =(D34*E34)+(F34*G34)+(H34*I34)+(J34*K34) -> 0
B35: Nhóm 1: | C35: 1 | D35: 1 | E35: 100 | F35: 1 | G35: 60 | H35: 1 | I35: 40 | K35: =I35 -> 40 | L35: =(D35*E35)+(F35*G35)+(H35*I35)+(J35*K35) -> 200
B36: Nhóm 2: | C36: 1 | D36: 1 | E36: 60 | F36: 1 | G36: 40 | H36: 1 | I36: 30 | K36: =I36 -> 30 | L36: =(D36*E36)+(F36*G36)+(H36*I36)+(J36*K36) -> 130
B37: Nhóm 3: | C37: 1 | D37: 1 | E37: 40 | F37: 1 | G37: 30 | H37: 1 | I37: 20 | K37: =I37 -> 20 | L37: =(D37*E37)+(F37*G37)+(H37*I37)+(J37*K37) -> 90
A38: 6 | B38: Vô địch trẻ Châu Á
A39: 6.1 | B39: Lứa tuổi 18 - dưới 21
B40: Nhóm 1: | C40: 1 | E40: =E35*0.75 -> 75 | G40: =G35*0.75 -> 45 | H40: 1 | I40: =I35*0.75 -> 30 | K40: =K35*0.75 -> 30 | L40: =(D40*E40)+(F40*G40)+(H40*I40)+(J40*K40) -> 30
B41: Nhóm 2: | C41: 1 | E41: =E36*0.75 -> 45 | F41: 1 | G41: =G36*0.75 -> 30 | I41: =I36*0.75 -> 22.5 | K41: =K36*0.75 -> 22.5 | L41: =(D41*E41)+(F41*G41)+(H41*I41)+(J41*K41) -> 30
...

Sheet PL 4.6
B1: PHỤ LỤC 4.6
A2: DỰ KIẾN KINH PHÍ CHẾ ĐỘ ĐÃI NGỘ ĐẶC THÙ ĐỐI VỚI VẬN ĐỘNG VIÊN THỂ THAO THÀNH TÍCH CAO THÀNH PHỐ ĐẠT THÀNH TÍCH XUẤT SẮC TRONG 01 NĂM
A4: STT | B4: Nội dung chi đãi ngộ | C4: Số lượng VĐV | D4: Mức chi (Đvt: Triệu đồng) | E4: Số tháng/ năm | F4: Cộng (Đvt: Triệu đồng) | G4: Ghi chú
B5: 1 | C5: 2 | D5: 3 | E5: 4 | F5: 5=(2*3*4) | G5: 6
A6: 1 | B6: Chi đãi ngộ VĐV đạt huy chương bạc Asiad | C6: 2 | D6: 10 | E6: 12 | F6: =IF(C6=0,"",C6*D6*E6) -> 240 | G6: Chu kỳ 4 năm
A7: 2 | B7: Chi đãi ngộ VĐV đạt huy chương đồng Asiad | C7: 3 | D7: 7 | E7: 12 | F7: =IF(C7=0,"",C7*D7*E7) -> 252 | G7: Chu kỳ 4 năm
A8: 3 | B8: Chi đãi ngộ VĐV đạt huy chương vàng SEA Games | C8: 10 | D8: 5 | E8: 12 | F8: =IF(C8=0,"",C8*D8*E8) -> 600 | G8: Chu kỳ 2 năm
A9: 4 | B9: Chi đãi ngộ VĐV đạt huy chương bạc SEA Games | C9: 10 | D9: 3 | E9: 12 | F9: =IF(C9=0,"",C9*D9*E9) -> 360 | G9: Chu kỳ 2 năm
A10: 5 | B10: Chi đãi ngộ VĐV đạt huy chương đồng SEA Games | C10: 12 | D10: 2 | E10: 12 | F10: =IF(C10=0,"",C10*D10*E10) -> 288 | G10: Chu kỳ 2 năm
A11: 6 | B11: Chi đãi ngộ VĐV đạt huy chương vàng Đại hội Thể thao toàn quốc | C11: 100 | D11: 5 | E11: 12 | F11: =IF(C11=0,"",C11*D11*E11) -> 6000 | G11: Chu kỳ 4 năm
B12: Tổng cộng | F12: =SUM(F6:F11) -> 7740
A13: Bằng chữ: Bảy tỷ, bảy trăm bốn mươi triệu đồng./.
